BEGIN:VCALENDAR
VERSION:2.0
PRODID:-//Metro Parks - Central Ohio Park System - ECPv6.15.16.1//NONSGML v1.0//EN
CALSCALE:GREGORIAN
METHOD:PUBLISH
X-ORIGINAL-URL:https://www.metroparks.net
X-WR-CALDESC:Events for Metro Parks - Central Ohio Park System
REFRESH-INTERVAL;VALUE=DURATION:PT1H
X-Robots-Tag:noindex
X-PUBLISHED-TTL:PT1H
BEGIN:VTIMEZONE
TZID:America/New_York
BEGIN:DAYLIGHT
TZOFFSETFROM:-0500
TZOFFSETTO:-0400
TZNAME:EDT
DTSTART:20220313T070000
END:DAYLIGHT
BEGIN:STANDARD
TZOFFSETFROM:-0400
TZOFFSETTO:-0500
TZNAME:EST
DTSTART:20221106T060000
END:STANDARD
BEGIN:DAYLIGHT
TZOFFSETFROM:-0500
TZOFFSETTO:-0400
TZNAME:EDT
DTSTART:20230312T070000
END:DAYLIGHT
BEGIN:STANDARD
TZOFFSETFROM:-0400
TZOFFSETTO:-0500
TZNAME:EST
DTSTART:20231105T060000
END:STANDARD
BEGIN:DAYLIGHT
TZOFFSETFROM:-0500
TZOFFSETTO:-0400
TZNAME:EDT
DTSTART:20240310T070000
END:DAYLIGHT
BEGIN:STANDARD
TZOFFSETFROM:-0400
TZOFFSETTO:-0500
TZNAME:EST
DTSTART:20241103T060000
END:STANDARD
END:VTIMEZONE
BEGIN:VEVENT
DTSTART;TZID=America/New_York:20230603T140000
DTEND;TZID=America/New_York:20230603T160000
DTSTAMP:20260423T090057
CREATED:20230530T131036Z
LAST-MODIFIED:20230530T131036Z
UID:10000460-1685800800-1685808000@www.metroparks.net
SUMMARY:Creeking Open House
DESCRIPTION:Follow the signs along the Ripple Rock trail to meet the Naturalists at the creek. Borrow our nets\, jars and viewers to see what you can find! Wear shoes that can get wet.
URL:https://www.metroparks.net/event/creeking-open-house/
LOCATION:Blendon Woods\, 4265 E Dublin Granville Road\, Columbus\, 43081\, United States
END:VEVENT
BEGIN:VEVENT
DTSTART;TZID=America/New_York:20230603T190000
DTEND;TZID=America/New_York:20230603T200000
DTSTAMP:20260423T090057
CREATED:20230530T131115Z
LAST-MODIFIED:20230530T131115Z
UID:10000461-1685818800-1685822400@www.metroparks.net
SUMMARY:Dog Hike
DESCRIPTION:Join the naturalist on a 1.5-mile summer hike along river and field with your canine friend. Treats and water breaks provided throughout. All ages.\nMeeting location notes: Big Meadows Picnic Area is at the back of the park. After you enter the park\, take the main road down the hill. At the bottom of the hill\, take the ROAD on the LEFT. Park in the lot with a playground. Meet near restrooms.
URL:https://www.metroparks.net/event/dog-hike/
LOCATION:Highbanks\, 9466 Columbus Pike (US Rt 23 N)\, Lewis Center\, OH\, 43035\, United States
END:VEVENT
BEGIN:VEVENT
DTSTART;TZID=America/New_York:20230603T190000
DTEND;TZID=America/New_York:20230603T213000
DTSTAMP:20260423T090057
CREATED:20230530T130616Z
LAST-MODIFIED:20230530T130616Z
UID:10000454-1685818800-1685827800@www.metroparks.net
SUMMARY:National Trails Day: Hike & Campfire
DESCRIPTION:Celebrate National Trails Day with an evening hike and roasting s’mores around a campfire. The hike is family friendly and 3-miles round trip.The campfire will take place at the halfway point of the hike. Bring a flashlight for the return hike. Meet at the Park Office\, 185 Clear Creek Road in Lancaster.
URL:https://www.metroparks.net/event/national-trails-day-hike-campfire/
LOCATION:Clear Creek\, 185 Clear Creek Road\, Lancaster\, OH\, 43130\, United States
END:VEVENT
END:VCALENDAR