BEGIN:VCALENDAR
VERSION:2.0
PRODID:-//Metro Parks - Central Ohio Park System - ECPv6.15.16.1//NONSGML v1.0//EN
CALSCALE:GREGORIAN
METHOD:PUBLISH
X-WR-CALNAME:Metro Parks - Central Ohio Park System
X-ORIGINAL-URL:https://www.metroparks.net
X-WR-CALDESC:Events for Metro Parks - Central Ohio Park System
REFRESH-INTERVAL;VALUE=DURATION:PT1H
X-Robots-Tag:noindex
X-PUBLISHED-TTL:PT1H
BEGIN:VTIMEZONE
TZID:America/New_York
BEGIN:DAYLIGHT
TZOFFSETFROM:-0500
TZOFFSETTO:-0400
TZNAME:EDT
DTSTART:20220313T070000
END:DAYLIGHT
BEGIN:STANDARD
TZOFFSETFROM:-0400
TZOFFSETTO:-0500
TZNAME:EST
DTSTART:20221106T060000
END:STANDARD
BEGIN:DAYLIGHT
TZOFFSETFROM:-0500
TZOFFSETTO:-0400
TZNAME:EDT
DTSTART:20230312T070000
END:DAYLIGHT
BEGIN:STANDARD
TZOFFSETFROM:-0400
TZOFFSETTO:-0500
TZNAME:EST
DTSTART:20231105T060000
END:STANDARD
BEGIN:DAYLIGHT
TZOFFSETFROM:-0500
TZOFFSETTO:-0400
TZNAME:EDT
DTSTART:20240310T070000
END:DAYLIGHT
BEGIN:STANDARD
TZOFFSETFROM:-0400
TZOFFSETTO:-0500
TZNAME:EST
DTSTART:20241103T060000
END:STANDARD
END:VTIMEZONE
BEGIN:VEVENT
DTSTART;TZID=America/New_York:20230725T160000
DTEND;TZID=America/New_York:20230725T200000
DTSTAMP:20260423T061030
CREATED:20230724T130902Z
LAST-MODIFIED:20230724T131300Z
UID:10000541-1690300800-1690315200@www.metroparks.net
SUMMARY:Mud Day!
DESCRIPTION:Kids and adults of all ages can play in the giant mud pit. Wear old or easily cleaned clothing! Water will be available for basic clean-up. It’s probably a good idea to bring some protective newspapers\, bags\, etc for your car seats as well. Three Creeks Metro Park Confluence Area\, 3860 Bixby Rd\, Groveport
URL:https://www.metroparks.net/event/mud-day/2023-07-25/
LOCATION:Three Creeks\, 3860 Bixby Road\, Groveport\, OH\, 43125\, United States
ATTACH;FMTTYPE=image/jpeg:https://www.metroparks.net/wp-content/uploads/2019/05/THC_boy-throws-mud-at-Mud-Day_June_Dan-Bissonette.jpg
END:VEVENT
BEGIN:VEVENT
DTSTART;TZID=America/New_York:20230725T180000
DTEND;TZID=America/New_York:20230725T193000
DTSTAMP:20260423T061030
CREATED:20230724T130726Z
LAST-MODIFIED:20230724T130726Z
UID:10000540-1690308000-1690313400@www.metroparks.net
SUMMARY:Skate-avenger Hunt
DESCRIPTION:Skate through Glacier Ridge Metro Park as you search for scavenger hunt items set out by park staff!!! Bring your own skates\, helmets\, and knee pads. Meet at the shelter house at the main park for instruction.
URL:https://www.metroparks.net/event/skate-avenger-hunt/
LOCATION:Glacier Ridge\, 9801 Hyland Croy\, Plain City\, OH\, 43064\, United States
END:VEVENT
END:VCALENDAR