BEGIN:VCALENDAR
VERSION:2.0
PRODID:-//Metro Parks - Central Ohio Park System - ECPv6.15.16.1//NONSGML v1.0//EN
CALSCALE:GREGORIAN
METHOD:PUBLISH
X-WR-CALNAME:Metro Parks - Central Ohio Park System
X-ORIGINAL-URL:https://www.metroparks.net
X-WR-CALDESC:Events for Metro Parks - Central Ohio Park System
REFRESH-INTERVAL;VALUE=DURATION:PT1H
X-Robots-Tag:noindex
X-PUBLISHED-TTL:PT1H
BEGIN:VTIMEZONE
TZID:America/New_York
BEGIN:DAYLIGHT
TZOFFSETFROM:-0500
TZOFFSETTO:-0400
TZNAME:EDT
DTSTART:20220313T070000
END:DAYLIGHT
BEGIN:STANDARD
TZOFFSETFROM:-0400
TZOFFSETTO:-0500
TZNAME:EST
DTSTART:20221106T060000
END:STANDARD
BEGIN:DAYLIGHT
TZOFFSETFROM:-0500
TZOFFSETTO:-0400
TZNAME:EDT
DTSTART:20230312T070000
END:DAYLIGHT
BEGIN:STANDARD
TZOFFSETFROM:-0400
TZOFFSETTO:-0500
TZNAME:EST
DTSTART:20231105T060000
END:STANDARD
BEGIN:DAYLIGHT
TZOFFSETFROM:-0500
TZOFFSETTO:-0400
TZNAME:EDT
DTSTART:20240310T070000
END:DAYLIGHT
BEGIN:STANDARD
TZOFFSETFROM:-0400
TZOFFSETTO:-0500
TZNAME:EST
DTSTART:20241103T060000
END:STANDARD
END:VTIMEZONE
BEGIN:VEVENT
DTSTART;TZID=America/New_York:20230804T140000
DTEND;TZID=America/New_York:20230804T153000
DTSTAMP:20260423T061030
CREATED:20230731T134518Z
LAST-MODIFIED:20230731T134518Z
UID:10000554-1691157600-1691163000@www.metroparks.net
SUMMARY:Summer Shoot
DESCRIPTION:Whether you are new to archery\, or are an experienced archer\, join us at our Summer Shoot to take aim at fun seasonal targets! Meet at the Scioto Grove archery range. Ages 8+\, all equipment provided.
URL:https://www.metroparks.net/event/summer-shoot/
LOCATION:Scioto Grove\, 5172 Jackson Pike\, Grove City\, OH\, 43123\, United States
END:VEVENT
BEGIN:VEVENT
DTSTART;TZID=America/New_York:20230804T180000
DTEND;TZID=America/New_York:20230804T190000
DTSTAMP:20260423T061030
CREATED:20230731T134447Z
LAST-MODIFIED:20230731T134447Z
UID:10000553-1691172000-1691175600@www.metroparks.net
SUMMARY:Campfire Cooking
DESCRIPTION:Enjoy a campfire and some yummy foods prepared with pie irons and dutch ovens.
URL:https://www.metroparks.net/event/campfire-cooking/
LOCATION:Blacklick Woods\, 6975 East Livingston Ave\, Reynoldsburg\, OH\, 43068\, United States
END:VEVENT
BEGIN:VEVENT
DTSTART;TZID=America/New_York:20230804T190000
DTEND;TZID=America/New_York:20230804T203000
DTSTAMP:20260423T061030
CREATED:20230731T134609Z
LAST-MODIFIED:20230731T134609Z
UID:10000555-1691175600-1691181000@www.metroparks.net
SUMMARY:Adult: Off-trail Ravine Geology Hike
DESCRIPTION:Join a geologist on an 2.5-mile off-trail hike in the ravine. Learn the story about the discovery of the prehistoric shark fossil found right here in a Highbanks ravine. Explore the geology and fossils of Highbanks while hiking in a picturesque ravine. Please wear closed-toed shoes. The hike will be in the water of the ravine . Expect to get wet and encounter muddy\, rugged conditions as we climb over logs and rocks. Program will last approx. 2.5 hours. Don’t forget your complete change of clothes in case you get wet. Hiking stick encouraged. Program length approx 2 hours. Hiking will be 2-miles total. Not wheelchair friendly. Ages 16+. \nMeeting location notes:Highbanks Metro Park. Meet in the Big Meadows Picnic Area area in the back of the park. After you enter the park\, take the main road down the hill. At the bottom of the hill\, a sign will be on the right side saying “Big Meadows picnic area”. After the sign\, take the ROAD on the LEFT. Park in the first lot on the left. Meet near the restrooms/bulletin board.
URL:https://www.metroparks.net/event/adult-off-trail-ravine-geology-hike-2/
LOCATION:Highbanks\, 9466 Columbus Pike (US Rt 23 N)\, Lewis Center\, OH\, 43035\, United States
END:VEVENT
END:VCALENDAR