BEGIN:VCALENDAR
VERSION:2.0
PRODID:-//Metro Parks - Central Ohio Park System - ECPv6.15.16.1//NONSGML v1.0//EN
CALSCALE:GREGORIAN
METHOD:PUBLISH
X-ORIGINAL-URL:https://www.metroparks.net
X-WR-CALDESC:Events for Metro Parks - Central Ohio Park System
REFRESH-INTERVAL;VALUE=DURATION:PT1H
X-Robots-Tag:noindex
X-PUBLISHED-TTL:PT1H
BEGIN:VTIMEZONE
TZID:America/New_York
BEGIN:DAYLIGHT
TZOFFSETFROM:-0500
TZOFFSETTO:-0400
TZNAME:EDT
DTSTART:20220313T070000
END:DAYLIGHT
BEGIN:STANDARD
TZOFFSETFROM:-0400
TZOFFSETTO:-0500
TZNAME:EST
DTSTART:20221106T060000
END:STANDARD
BEGIN:DAYLIGHT
TZOFFSETFROM:-0500
TZOFFSETTO:-0400
TZNAME:EDT
DTSTART:20230312T070000
END:DAYLIGHT
BEGIN:STANDARD
TZOFFSETFROM:-0400
TZOFFSETTO:-0500
TZNAME:EST
DTSTART:20231105T060000
END:STANDARD
BEGIN:DAYLIGHT
TZOFFSETFROM:-0500
TZOFFSETTO:-0400
TZNAME:EDT
DTSTART:20240310T070000
END:DAYLIGHT
BEGIN:STANDARD
TZOFFSETFROM:-0400
TZOFFSETTO:-0500
TZNAME:EST
DTSTART:20241103T060000
END:STANDARD
END:VTIMEZONE
BEGIN:VEVENT
DTSTART;TZID=America/New_York:20230811T110000
DTEND;TZID=America/New_York:20230811T150000
DTSTAMP:20260423T073647
CREATED:20230807T155834Z
LAST-MODIFIED:20230807T155834Z
UID:10000564-1691751600-1691766000@www.metroparks.net
SUMMARY:Five on the Farm- Metro Parks 75 Year Challenge
DESCRIPTION:Ongoing between 11am- 3pm\nMetro Parks 75 Year Challenge\nAll ages\nBring a picnic to eat at Slate Run Park\, then come to the farmhouse for an opportunity to complete at least 4 more activities for the Metro Parks 75 Year Challenge.
URL:https://www.metroparks.net/event/five-on-the-farm-metro-parks-75-year-challenge/2023-08-11/
LOCATION:Slate Run Living Historical Farm\, 1375 OH-674\, Canal Winchester\, OH\, 43110\, United States
ATTACH;FMTTYPE=image/jpeg:https://www.metroparks.net/wp-content/uploads/2023/01/SRF_1200px-barn-and-blue-sky_K-Beiling.jpg
END:VEVENT
BEGIN:VEVENT
DTSTART;TZID=America/New_York:20230811T190000
DTEND;TZID=America/New_York:20230811T210000
DTSTAMP:20260423T073647
CREATED:20230721T130015Z
LAST-MODIFIED:20230724T131145Z
UID:10000508-1691780400-1691787600@www.metroparks.net
SUMMARY:Movie Night! Zootopia
DESCRIPTION:Bring a chair and join us for a movie night at your favorite Metro Parks! All events are free and start at dusk.
URL:https://www.metroparks.net/event/movie-night-zootopia/
LOCATION:Sharon Woods\, 6911 Cleveland Ave.\, Columbus\, OH\, 43081\, United States
ATTACH;FMTTYPE=image/jpeg:https://www.metroparks.net/wp-content/uploads/2023/06/zootopia.jpg
END:VEVENT
END:VCALENDAR