BEGIN:VCALENDAR
VERSION:2.0
PRODID:-//Metro Parks - Central Ohio Park System - ECPv6.15.16.1//NONSGML v1.0//EN
CALSCALE:GREGORIAN
METHOD:PUBLISH
X-ORIGINAL-URL:https://www.metroparks.net
X-WR-CALDESC:Events for Metro Parks - Central Ohio Park System
REFRESH-INTERVAL;VALUE=DURATION:PT1H
X-Robots-Tag:noindex
X-PUBLISHED-TTL:PT1H
BEGIN:VTIMEZONE
TZID:America/New_York
BEGIN:DAYLIGHT
TZOFFSETFROM:-0500
TZOFFSETTO:-0400
TZNAME:EDT
DTSTART:20220313T070000
END:DAYLIGHT
BEGIN:STANDARD
TZOFFSETFROM:-0400
TZOFFSETTO:-0500
TZNAME:EST
DTSTART:20221106T060000
END:STANDARD
BEGIN:DAYLIGHT
TZOFFSETFROM:-0500
TZOFFSETTO:-0400
TZNAME:EDT
DTSTART:20230312T070000
END:DAYLIGHT
BEGIN:STANDARD
TZOFFSETFROM:-0400
TZOFFSETTO:-0500
TZNAME:EST
DTSTART:20231105T060000
END:STANDARD
BEGIN:DAYLIGHT
TZOFFSETFROM:-0500
TZOFFSETTO:-0400
TZNAME:EDT
DTSTART:20240310T070000
END:DAYLIGHT
BEGIN:STANDARD
TZOFFSETFROM:-0400
TZOFFSETTO:-0500
TZNAME:EST
DTSTART:20241103T060000
END:STANDARD
END:VTIMEZONE
BEGIN:VEVENT
DTSTART;TZID=America/New_York:20230819T090000
DTEND;TZID=America/New_York:20230819T120000
DTSTAMP:20260423T073617
CREATED:20230622T125152Z
LAST-MODIFIED:20230622T125344Z
UID:10000501-1692435600-1692446400@www.metroparks.net
SUMMARY:Canoe the Lake
DESCRIPTION:Stop by and take a canoe out for a ride on the lake. Canoes and life jackets provided. We have size infant through adult life jackets\, so feel free to bring the whole family! \nPlease check in at the tent when you arrive to put your name on the list. Boats will be filled on an ongoing basis based on the order of your arrival. Please note that there may be a wait before we can get you in a canoe\, but we will do our best to accommodate everyone within the timeframe of the program.\nProgram is rain or shine. In the event of thunderstorms\, the program will shut down for 30 min from the occurrence of thunder and/or lightning.
URL:https://www.metroparks.net/event/canoe-the-lake-2/2023-08-19/1/
LOCATION:Sharon Woods\, 6911 Cleveland Ave.\, Columbus\, OH\, 43081\, United States
ATTACH;FMTTYPE=image/jpeg:https://www.metroparks.net/wp-content/uploads/2019/10/activities-canoeing_SHN_July_Kim-Strosnider_sm.jpg
END:VEVENT
BEGIN:VEVENT
DTSTART;TZID=America/New_York:20230819T140000
DTEND;TZID=America/New_York:20230819T150000
DTSTAMP:20260423T073617
CREATED:20230814T170006Z
LAST-MODIFIED:20230814T170006Z
UID:10000574-1692453600-1692457200@www.metroparks.net
SUMMARY:Citizen Science Saturday
DESCRIPTION:Learn about all of the exciting ways YOU can contribute to scientific research outdoors. No experience required!
URL:https://www.metroparks.net/event/citizen-science-saturday/
LOCATION:Blendon Woods\, 4265 E Dublin Granville Road\, Columbus\, 43081\, United States
END:VEVENT
BEGIN:VEVENT
DTSTART;TZID=America/New_York:20230819T140000
DTEND;TZID=America/New_York:20230819T170000
DTSTAMP:20260423T073617
CREATED:20230622T125152Z
LAST-MODIFIED:20230622T125344Z
UID:10000502-1692453600-1692464400@www.metroparks.net
SUMMARY:Canoe the Lake
DESCRIPTION:Stop by and take a canoe out for a ride on the lake. Canoes and life jackets provided. We have size infant through adult life jackets\, so feel free to bring the whole family! \nPlease check in at the tent when you arrive to put your name on the list. Boats will be filled on an ongoing basis based on the order of your arrival. Please note that there may be a wait before we can get you in a canoe\, but we will do our best to accommodate everyone within the timeframe of the program.\nProgram is rain or shine. In the event of thunderstorms\, the program will shut down for 30 min from the occurrence of thunder and/or lightning.
URL:https://www.metroparks.net/event/canoe-the-lake-2/2023-08-19/2/
LOCATION:Sharon Woods\, 6911 Cleveland Ave.\, Columbus\, OH\, 43081\, United States
ATTACH;FMTTYPE=image/jpeg:https://www.metroparks.net/wp-content/uploads/2019/10/activities-canoeing_SHN_July_Kim-Strosnider_sm.jpg
END:VEVENT
BEGIN:VEVENT
DTSTART;TZID=America/New_York:20230819T180000
DTEND;TZID=America/New_York:20230819T190000
DTSTAMP:20260423T073617
CREATED:20230814T170045Z
LAST-MODIFIED:20230814T170045Z
UID:10000575-1692468000-1692471600@www.metroparks.net
SUMMARY:Preschool Storytime: Animals at Night
DESCRIPTION:Join us for a storytime about animals in the day and night\, meet some of our nighttime educational animals at Highbanks\, and take a short exploration walk with a naturalist to see what critters are out in the evening. Wear your PJs if you like! \nMeeting Location Notes: Highbanks Nature Center is the first right after entering the park. There is limited parking in the Nature Center lot on busy days. Additional parking is available in the Oak Coves Picnic Area\, a 10 minute walk from the Nature Center. Follow the paved trail through Oak Coves toward the Nature Center.
URL:https://www.metroparks.net/event/preschool-storytime-animals-at-night/
LOCATION:Highbanks\, 9466 Columbus Pike (US Rt 23 N)\, Lewis Center\, OH\, 43035\, United States
END:VEVENT
BEGIN:VEVENT
DTSTART;TZID=America/New_York:20230819T190000
DTEND;TZID=America/New_York:20230819T220000
DTSTAMP:20260423T073617
CREATED:20230814T165918Z
LAST-MODIFIED:20230814T165918Z
UID:10000573-1692471600-1692482400@www.metroparks.net
SUMMARY:After Dark In The Park
DESCRIPTION:Join us for an evening full of activities and experience Clear Creek after dark! 7:00pm- Naturalist led evening hike along the Lake Trail (1-mile). 8:00pm-S’mores around the campfire. 8:30pm-The amazing world of moths. Meet at the Barnebey-Hambleton area: 620 Clear Creek Road SW\, Lancaster.
URL:https://www.metroparks.net/event/after-dark-in-the-park/
LOCATION:Clear Creek\, 185 Clear Creek Road\, Lancaster\, OH\, 43130\, United States
END:VEVENT
END:VCALENDAR