BEGIN:VCALENDAR
VERSION:2.0
PRODID:-//Metro Parks - Central Ohio Park System - ECPv6.15.16.1//NONSGML v1.0//EN
CALSCALE:GREGORIAN
METHOD:PUBLISH
X-WR-CALNAME:Metro Parks - Central Ohio Park System
X-ORIGINAL-URL:https://www.metroparks.net
X-WR-CALDESC:Events for Metro Parks - Central Ohio Park System
REFRESH-INTERVAL;VALUE=DURATION:PT1H
X-Robots-Tag:noindex
X-PUBLISHED-TTL:PT1H
BEGIN:VTIMEZONE
TZID:America/New_York
BEGIN:DAYLIGHT
TZOFFSETFROM:-0500
TZOFFSETTO:-0400
TZNAME:EDT
DTSTART:20220313T070000
END:DAYLIGHT
BEGIN:STANDARD
TZOFFSETFROM:-0400
TZOFFSETTO:-0500
TZNAME:EST
DTSTART:20221106T060000
END:STANDARD
BEGIN:DAYLIGHT
TZOFFSETFROM:-0500
TZOFFSETTO:-0400
TZNAME:EDT
DTSTART:20230312T070000
END:DAYLIGHT
BEGIN:STANDARD
TZOFFSETFROM:-0400
TZOFFSETTO:-0500
TZNAME:EST
DTSTART:20231105T060000
END:STANDARD
BEGIN:DAYLIGHT
TZOFFSETFROM:-0500
TZOFFSETTO:-0400
TZNAME:EDT
DTSTART:20240310T070000
END:DAYLIGHT
BEGIN:STANDARD
TZOFFSETFROM:-0400
TZOFFSETTO:-0500
TZNAME:EST
DTSTART:20241103T060000
END:STANDARD
END:VTIMEZONE
BEGIN:VEVENT
DTSTART;TZID=America/New_York:20230830T100000
DTEND;TZID=America/New_York:20230830T130000
DTSTAMP:20260423T073418
CREATED:20230818T140238Z
LAST-MODIFIED:20230818T140238Z
UID:10000588-1693389600-1693400400@www.metroparks.net
SUMMARY:Winnowing Rock Hike
DESCRIPTION:Learn about the history of Clear Creek on a 4-mile backcountry hike to Winnowing Rock. Terrain at Clear Creek is steep and uneven. Be prepared for elevation gain and a steady up-hill climb. Wear sturdy hiking shoes and bring water. Meet at the Park Office: 185 Clear Creek Road\, Lancaster.
URL:https://www.metroparks.net/event/winnowing-rock-hike/
LOCATION:Clear Creek\, 185 Clear Creek Road\, Lancaster\, OH\, 43130\, United States
END:VEVENT
BEGIN:VEVENT
DTSTART;TZID=America/New_York:20230830T173000
DTEND;TZID=America/New_York:20230830T203000
DTSTAMP:20260423T073419
CREATED:20230818T140406Z
LAST-MODIFIED:20230823T153441Z
UID:10000590-1693416600-1693427400@www.metroparks.net
SUMMARY:Olentangy Scenic River 50th Anniversary Celebration
DESCRIPTION:Celebrate the Olentangy River’s 50th Anniversary of Scenic designation with Ohio Division of Natural Areas & Preserves and various community partners. Learn about the unique attributes of the river and the importance of the surrounding landscape for preserving water quality. Community partners include Scenic Rivers and Preserves\, OSU\, Ohio Division of Forestry\, Delaware Preservations Parks\, Friends of the Lower Olentangy (FLOW)\, and Highbanks Metro Park. Fun activities for the whole family! Participants are welcome to go into the river and explore. Don’t miss seeing the fish of the Olentangy through an electroshocking demonstration (all fish are unharmed and released at the end of the program). \nMeeting location notes: Highbanks Metro Park. Meet in the Big Meadows Picnic Area area in the back of the park. After you enter the park\, take the main road down the hill. At the bottom of the hill\, a sign will be on the right side saying “”Big Meadows picnic area””. After the sign\, take the ROAD on the LEFT. Park in the first lot on the left. Meet near the restrooms/bulletin board/playground area. “
URL:https://www.metroparks.net/event/olentangy-scenic-river-50th-anniversary-celebration/
LOCATION:Highbanks\, 9466 Columbus Pike (US Rt 23 N)\, Lewis Center\, OH\, 43035\, United States
ATTACH;FMTTYPE=image/jpeg:https://www.metroparks.net/wp-content/uploads/2023/08/365963960_630738222532841_7629214808498020999_n.jpg
END:VEVENT
BEGIN:VEVENT
DTSTART;TZID=America/New_York:20230830T200000
DTEND;TZID=America/New_York:20230830T220000
DTSTAMP:20260423T073419
CREATED:20230818T140306Z
LAST-MODIFIED:20230818T140306Z
UID:10000589-1693425600-1693432800@www.metroparks.net
SUMMARY:Full Moon Hike
DESCRIPTION:Take a brisk 4-mile hike through forests and fields. Meet us at the Ranger Station\, 1775 Darby Creek Drive.
URL:https://www.metroparks.net/event/full-moon-hike-2/
LOCATION:Battelle Darby Creek\, 1775 Darby Creek Drive\, Galloway\, OH\, 43119\, United States
END:VEVENT
END:VCALENDAR