BEGIN:VCALENDAR
VERSION:2.0
PRODID:-//Metro Parks - Central Ohio Park System - ECPv6.15.16.1//NONSGML v1.0//EN
CALSCALE:GREGORIAN
METHOD:PUBLISH
X-ORIGINAL-URL:https://www.metroparks.net
X-WR-CALDESC:Events for Metro Parks - Central Ohio Park System
REFRESH-INTERVAL;VALUE=DURATION:PT1H
X-Robots-Tag:noindex
X-PUBLISHED-TTL:PT1H
BEGIN:VTIMEZONE
TZID:America/New_York
BEGIN:DAYLIGHT
TZOFFSETFROM:-0500
TZOFFSETTO:-0400
TZNAME:EDT
DTSTART:20220313T070000
END:DAYLIGHT
BEGIN:STANDARD
TZOFFSETFROM:-0400
TZOFFSETTO:-0500
TZNAME:EST
DTSTART:20221106T060000
END:STANDARD
BEGIN:DAYLIGHT
TZOFFSETFROM:-0500
TZOFFSETTO:-0400
TZNAME:EDT
DTSTART:20230312T070000
END:DAYLIGHT
BEGIN:STANDARD
TZOFFSETFROM:-0400
TZOFFSETTO:-0500
TZNAME:EST
DTSTART:20231105T060000
END:STANDARD
BEGIN:DAYLIGHT
TZOFFSETFROM:-0500
TZOFFSETTO:-0400
TZNAME:EDT
DTSTART:20240310T070000
END:DAYLIGHT
BEGIN:STANDARD
TZOFFSETFROM:-0400
TZOFFSETTO:-0500
TZNAME:EST
DTSTART:20241103T060000
END:STANDARD
END:VTIMEZONE
BEGIN:VEVENT
DTSTART;TZID=America/New_York:20230909T100000
DTEND;TZID=America/New_York:20230909T130000
DTSTAMP:20260423T121224
CREATED:20230905T122911Z
LAST-MODIFIED:20230905T122911Z
UID:10000603-1694253600-1694264400@www.metroparks.net
SUMMARY:Winnowing Rock Hike
DESCRIPTION:Learn about the history of Clear Creek on a 5-mile backcountry hike to Winnowing Rock. Terrain at Clear Creek is steep and uneven. Be prepared for elevation gain and a steady up-hill climb. Wear sturdy hiking shoes and bring water. Meet at the Park Office: 185 Clear Creek Road\, Lancaster.
URL:https://www.metroparks.net/event/winnowing-rock-hike-2/
LOCATION:Clear Creek\, 185 Clear Creek Road\, Lancaster\, OH\, 43130\, United States
END:VEVENT
BEGIN:VEVENT
DTSTART;TZID=America/New_York:20230909T110000
DTEND;TZID=America/New_York:20230909T150000
DTSTAMP:20260423T121224
CREATED:20230905T122821Z
LAST-MODIFIED:20230905T122821Z
UID:10000601-1694257200-1694271600@www.metroparks.net
SUMMARY:Five on the Farm: Metro Parks 75 Year Challenge
DESCRIPTION:Ongoing between 11am- 3pm\nMetro Parks 75 Year Challenge\nAll ages\nBring a picnic to eat at Slate Run Park\, then come to the farmhouse for an opportunity to complete at least 4 more activities for the Metro Parks 75 Year Challenge.
URL:https://www.metroparks.net/event/five-on-the-farm-metro-parks-75-year-challenge-2/2023-09-09/
LOCATION:Slate Run Living Historical Farm\, 1375 OH-674\, Canal Winchester\, OH\, 43110\, United States
ATTACH;FMTTYPE=image/jpeg:https://www.metroparks.net/wp-content/uploads/2019/03/gallery-spring-SRF_visitors-takes-reigns-of-a-Percheron_C-Blair.jpg
END:VEVENT
BEGIN:VEVENT
DTSTART;TZID=America/New_York:20230909T130000
DTEND;TZID=America/New_York:20230909T150000
DTSTAMP:20260423T121224
CREATED:20230823T153628Z
LAST-MODIFIED:20230823T153628Z
UID:10000597-1694264400-1694271600@www.metroparks.net
SUMMARY:Pawpaw Hike
DESCRIPTION:Learn about Ohio’s State Native Fruit as we search the woods for pawpaws. on a 2-mile hike. Trail is crushed gravel and includes hills. Due to the terrain and legth of hike\, age 10+ suggested. \nMeeting Location Oak Coves: The Oak Coves picnic area is your first LEFT after entering the park. Once you turn left into the Oak Coves picnic area\, we will be in the THIRD parking lot. This parking lot has a bathroom AND playground. Meet the naturalist in front of the bulletin board. If the parking lot is full\, the Oak Coves picnic area has 4 other parking lots within 5-8 minutes walking time of the meeting location.
URL:https://www.metroparks.net/event/pawpaw-hike/
LOCATION:Highbanks\, 9466 Columbus Pike (US Rt 23 N)\, Lewis Center\, OH\, 43035\, United States
END:VEVENT
BEGIN:VEVENT
DTSTART;TZID=America/New_York:20230909T190000
DTEND;TZID=America/New_York:20230909T210000
DTSTAMP:20260423T121224
CREATED:20230819T130512Z
LAST-MODIFIED:20230823T152409Z
UID:10000510-1694286000-1694293200@www.metroparks.net
SUMMARY:Movie Night! Top Gun: Maverick
DESCRIPTION:Bring a chair and join us for a movie night at your favorite Metro Parks! All events are free and start at dusk.
URL:https://www.metroparks.net/event/movie-night-top-gun-maverick/
LOCATION:Blendon Woods\, 4265 E Dublin Granville Road\, Columbus\, 43081\, United States
ATTACH;FMTTYPE=image/jpeg:https://www.metroparks.net/wp-content/uploads/2023/06/tgm.jpg
END:VEVENT
END:VCALENDAR