BEGIN:VCALENDAR
VERSION:2.0
PRODID:-//Metro Parks - Central Ohio Park System - ECPv6.15.16.1//NONSGML v1.0//EN
CALSCALE:GREGORIAN
METHOD:PUBLISH
X-ORIGINAL-URL:https://www.metroparks.net
X-WR-CALDESC:Events for Metro Parks - Central Ohio Park System
REFRESH-INTERVAL;VALUE=DURATION:PT1H
X-Robots-Tag:noindex
X-PUBLISHED-TTL:PT1H
BEGIN:VTIMEZONE
TZID:America/New_York
BEGIN:DAYLIGHT
TZOFFSETFROM:-0500
TZOFFSETTO:-0400
TZNAME:EDT
DTSTART:20220313T070000
END:DAYLIGHT
BEGIN:STANDARD
TZOFFSETFROM:-0400
TZOFFSETTO:-0500
TZNAME:EST
DTSTART:20221106T060000
END:STANDARD
BEGIN:DAYLIGHT
TZOFFSETFROM:-0500
TZOFFSETTO:-0400
TZNAME:EDT
DTSTART:20230312T070000
END:DAYLIGHT
BEGIN:STANDARD
TZOFFSETFROM:-0400
TZOFFSETTO:-0500
TZNAME:EST
DTSTART:20231105T060000
END:STANDARD
BEGIN:DAYLIGHT
TZOFFSETFROM:-0500
TZOFFSETTO:-0400
TZNAME:EDT
DTSTART:20240310T070000
END:DAYLIGHT
BEGIN:STANDARD
TZOFFSETFROM:-0400
TZOFFSETTO:-0500
TZNAME:EST
DTSTART:20241103T060000
END:STANDARD
END:VTIMEZONE
BEGIN:VEVENT
DTSTART;TZID=America/New_York:20230918T140000
DTEND;TZID=America/New_York:20230918T153000
DTSTAMP:20260423T121145
CREATED:20230905T122428Z
LAST-MODIFIED:20230905T123351Z
UID:10000605-1695045600-1695051000@www.metroparks.net
SUMMARY:Try It! Archery
DESCRIPTION:Enjoy free and fun archery at the range! All equipment and instruction provided. Open to ages 8+. Meet at the archery range at Scioto Grove Metro Park.
URL:https://www.metroparks.net/event/try-it-archery/2023-09-18/
LOCATION:Scioto Grove\, 5172 Jackson Pike\, Grove City\, OH\, 43123\, United States
END:VEVENT
BEGIN:VEVENT
DTSTART;TZID=America/New_York:20230918T180000
DTEND;TZID=America/New_York:20230918T193000
DTSTAMP:20260423T121145
CREATED:20230912T121227Z
LAST-MODIFIED:20230912T122916Z
UID:10000612-1695060000-1695065400@www.metroparks.net
SUMMARY:Backpacking Series: Week #1
DESCRIPTION:Join us for a 7-week long series of interactive classes designed as an introduction to backpacking\, building up to an overnight trip at the end! Attendance at all classes is NOT required – however the overnight trip will only be open to those who attend at least one class. Each weeks topic will have two dates to choose from in that week so participants can pick the day that works best for them to attend\, you don’t need to attend both dates in the week. Meet at Arrowhead Picnic area at Scioto Grove Metro Park. \nWeek 1: Shelter and Sleep Systems – Creating a comfortable home away from home in the backcountry is not as simple as pitching a tent. Join us as we explore how to set yourself up for success. Prepare to hike off-trail as we cover site selection following Lean No Trace principles and practice setting up a the shelter. We have gear for demonstration\, but you are encouraged to bring your own. Meet at the Arrowhead Picnic Area at Scioto Grove Metro Park.
URL:https://www.metroparks.net/event/backpacking-series-week-1/2023-09-18/
LOCATION:Scioto Grove\, 5172 Jackson Pike\, Grove City\, OH\, 43123\, United States
END:VEVENT
END:VCALENDAR