BEGIN:VCALENDAR
VERSION:2.0
PRODID:-//Metro Parks - Central Ohio Park System - ECPv6.15.16.1//NONSGML v1.0//EN
CALSCALE:GREGORIAN
METHOD:PUBLISH
X-WR-CALNAME:Metro Parks - Central Ohio Park System
X-ORIGINAL-URL:https://www.metroparks.net
X-WR-CALDESC:Events for Metro Parks - Central Ohio Park System
REFRESH-INTERVAL;VALUE=DURATION:PT1H
X-Robots-Tag:noindex
X-PUBLISHED-TTL:PT1H
BEGIN:VTIMEZONE
TZID:America/New_York
BEGIN:DAYLIGHT
TZOFFSETFROM:-0500
TZOFFSETTO:-0400
TZNAME:EDT
DTSTART:20220313T070000
END:DAYLIGHT
BEGIN:STANDARD
TZOFFSETFROM:-0400
TZOFFSETTO:-0500
TZNAME:EST
DTSTART:20221106T060000
END:STANDARD
BEGIN:DAYLIGHT
TZOFFSETFROM:-0500
TZOFFSETTO:-0400
TZNAME:EDT
DTSTART:20230312T070000
END:DAYLIGHT
BEGIN:STANDARD
TZOFFSETFROM:-0400
TZOFFSETTO:-0500
TZNAME:EST
DTSTART:20231105T060000
END:STANDARD
BEGIN:DAYLIGHT
TZOFFSETFROM:-0500
TZOFFSETTO:-0400
TZNAME:EDT
DTSTART:20240310T070000
END:DAYLIGHT
BEGIN:STANDARD
TZOFFSETFROM:-0400
TZOFFSETTO:-0500
TZNAME:EST
DTSTART:20241103T060000
END:STANDARD
END:VTIMEZONE
BEGIN:VEVENT
DTSTART;TZID=America/New_York:20231217T090000
DTEND;TZID=America/New_York:20231217T110000
DTSTAMP:20260423T103353
CREATED:20231120T141341Z
LAST-MODIFIED:20231120T141416Z
UID:10000746-1702803600-1702810800@www.metroparks.net
SUMMARY:Coffee & Birds
DESCRIPTION:Drop by to enjoy a warm cup and beautiful birds at our viewing windows.
URL:https://www.metroparks.net/event/coffee-birds/2023-12-17/
LOCATION:Blendon Woods\, 4265 E Dublin Granville Road\, Columbus\, 43081\, United States
ATTACH;FMTTYPE=image/jpeg:https://www.metroparks.net/wp-content/uploads/2019/03/blog-eastern-phoebe_BLN_Gil-Sears.jpg
END:VEVENT
BEGIN:VEVENT
DTSTART;TZID=America/New_York:20231217T100000
DTEND;TZID=America/New_York:20231217T110000
DTSTAMP:20260423T103353
CREATED:20231120T143012Z
LAST-MODIFIED:20231120T143012Z
UID:10000762-1702807200-1702810800@www.metroparks.net
SUMMARY:Christmas Bird Count For Beginners
DESCRIPTION:Learn about our oldest civic science project\, then head out to count some birds!
URL:https://www.metroparks.net/event/christmas-bird-count-for-beginners/
LOCATION:Blendon Woods\, 4265 E Dublin Granville Road\, Columbus\, 43081\, United States
END:VEVENT
BEGIN:VEVENT
DTSTART;TZID=America/New_York:20231217T163000
DTEND;TZID=America/New_York:20231217T173000
DTSTAMP:20260423T103353
CREATED:20231120T143103Z
LAST-MODIFIED:20231120T143103Z
UID:10000763-1702830600-1702834200@www.metroparks.net
SUMMARY:Winter Hike
DESCRIPTION:Enjoy a guided\, seasonal stroll as the sun sets over the gardens. The walk will conclude as the gardens are being illuminated with Inniswood’s light display.
URL:https://www.metroparks.net/event/winter-hike/
LOCATION:Inniswood Metro Gardens\, 940 S. Hempstead Rd.\, Westerville\, OH\, 43081\, United States
END:VEVENT
END:VCALENDAR