BEGIN:VCALENDAR
VERSION:2.0
PRODID:-//Metro Parks - Central Ohio Park System - ECPv6.15.16.1//NONSGML v1.0//EN
CALSCALE:GREGORIAN
METHOD:PUBLISH
X-ORIGINAL-URL:https://www.metroparks.net
X-WR-CALDESC:Events for Metro Parks - Central Ohio Park System
REFRESH-INTERVAL;VALUE=DURATION:PT1H
X-Robots-Tag:noindex
X-PUBLISHED-TTL:PT1H
BEGIN:VTIMEZONE
TZID:America/New_York
BEGIN:DAYLIGHT
TZOFFSETFROM:-0500
TZOFFSETTO:-0400
TZNAME:EDT
DTSTART:20220313T070000
END:DAYLIGHT
BEGIN:STANDARD
TZOFFSETFROM:-0400
TZOFFSETTO:-0500
TZNAME:EST
DTSTART:20221106T060000
END:STANDARD
BEGIN:DAYLIGHT
TZOFFSETFROM:-0500
TZOFFSETTO:-0400
TZNAME:EDT
DTSTART:20230312T070000
END:DAYLIGHT
BEGIN:STANDARD
TZOFFSETFROM:-0400
TZOFFSETTO:-0500
TZNAME:EST
DTSTART:20231105T060000
END:STANDARD
BEGIN:DAYLIGHT
TZOFFSETFROM:-0500
TZOFFSETTO:-0400
TZNAME:EDT
DTSTART:20240310T070000
END:DAYLIGHT
BEGIN:STANDARD
TZOFFSETFROM:-0400
TZOFFSETTO:-0500
TZNAME:EST
DTSTART:20241103T060000
END:STANDARD
END:VTIMEZONE
BEGIN:VEVENT
DTSTART;TZID=America/New_York:20231223T080000
DTEND;TZID=America/New_York:20231223T110000
DTSTAMP:20260423T103518
CREATED:20231129T140114Z
LAST-MODIFIED:20231129T140114Z
UID:10000800-1703318400-1703329200@www.metroparks.net
SUMMARY:Hike the Whole Park
DESCRIPTION:Enjoy seeing every aspect of Walnut Woods Metro Park on this approx. 5.5-mile hike around the Buckeye Area to the Tall Pines section of the park! The trail will be paved (gravel in some short sections) with mostly flat terrain. Meet at the Buckeye Area\, near the dog park. 6716 Lithopolis Rd. Groveport\, OH.
URL:https://www.metroparks.net/event/hike-the-whole-park/
LOCATION:Walnut Woods\, 6723 Lithopolis Rd\, Groveport\, OH\, 43125\, United States
ATTACH;FMTTYPE=image/jpeg:https://www.metroparks.net/wp-content/uploads/2014/12/22x9_WAL_pines_McConnell.jpg
END:VEVENT
BEGIN:VEVENT
DTSTART;TZID=America/New_York:20231223T130000
DTEND;TZID=America/New_York:20231223T150000
DTSTAMP:20260423T103518
CREATED:20231127T191525Z
LAST-MODIFIED:20231127T191525Z
UID:10000792-1703336400-1703343600@www.metroparks.net
SUMMARY:Nature Ornaments
DESCRIPTION:Come to the Nature Center and create ornaments made with materials that you can find outside.
URL:https://www.metroparks.net/event/nature-ornaments/
LOCATION:Blacklick Woods\, 6975 East Livingston Ave\, Reynoldsburg\, OH\, 43068\, United States
END:VEVENT
BEGIN:VEVENT
DTSTART;TZID=America/New_York:20231223T160000
DTEND;TZID=America/New_York:20231223T170000
DTSTAMP:20260423T103518
CREATED:20231127T191656Z
LAST-MODIFIED:20231127T191656Z
UID:10000793-1703347200-1703350800@www.metroparks.net
SUMMARY:Sunset with the Bison
DESCRIPTION:Take a walk as the sun sets to see our majestic bison herd.
URL:https://www.metroparks.net/event/sunset-with-the-bison/
LOCATION:Battelle Darby Creek\, 1775 Darby Creek Drive\, Galloway\, OH\, 43119\, United States
ATTACH;FMTTYPE=image/jpeg:https://www.metroparks.net/wp-content/uploads/2018/12/22x9_bison_BDC_JohnCagnina.jpg
END:VEVENT
END:VCALENDAR