BEGIN:VCALENDAR
VERSION:2.0
PRODID:-//Metro Parks - Central Ohio Park System - ECPv6.15.16.1//NONSGML v1.0//EN
CALSCALE:GREGORIAN
METHOD:PUBLISH
X-ORIGINAL-URL:https://www.metroparks.net
X-WR-CALDESC:Events for Metro Parks - Central Ohio Park System
REFRESH-INTERVAL;VALUE=DURATION:PT1H
X-Robots-Tag:noindex
X-PUBLISHED-TTL:PT1H
BEGIN:VTIMEZONE
TZID:America/New_York
BEGIN:DAYLIGHT
TZOFFSETFROM:-0500
TZOFFSETTO:-0400
TZNAME:EDT
DTSTART:20220313T070000
END:DAYLIGHT
BEGIN:STANDARD
TZOFFSETFROM:-0400
TZOFFSETTO:-0500
TZNAME:EST
DTSTART:20221106T060000
END:STANDARD
BEGIN:DAYLIGHT
TZOFFSETFROM:-0500
TZOFFSETTO:-0400
TZNAME:EDT
DTSTART:20230312T070000
END:DAYLIGHT
BEGIN:STANDARD
TZOFFSETFROM:-0400
TZOFFSETTO:-0500
TZNAME:EST
DTSTART:20231105T060000
END:STANDARD
BEGIN:DAYLIGHT
TZOFFSETFROM:-0500
TZOFFSETTO:-0400
TZNAME:EDT
DTSTART:20240310T070000
END:DAYLIGHT
BEGIN:STANDARD
TZOFFSETFROM:-0400
TZOFFSETTO:-0500
TZNAME:EST
DTSTART:20241103T060000
END:STANDARD
END:VTIMEZONE
BEGIN:VEVENT
DTSTART;TZID=America/New_York:20231226T080000
DTEND;TZID=America/New_York:20231226T170000
DTSTAMP:20260423T121147
CREATED:20231226T141554Z
LAST-MODIFIED:20231226T141554Z
UID:10000838-1703577600-1703610000@www.metroparks.net
SUMMARY:Hootin' Hike
DESCRIPTION:Let’s take a short walk to learn about owls and try to find one in our woods. Meet at the Indian Ridge Picnic Area (2705 Darby Creek Drive)
URL:https://www.metroparks.net/event/hootin-hike/
LOCATION:OH
END:VEVENT
BEGIN:VEVENT
DTSTART;TZID=America/New_York:20231226T170000
DTEND;TZID=America/New_York:20231226T190000
DTSTAMP:20260423T121147
CREATED:20231127T191807Z
LAST-MODIFIED:20231127T191807Z
UID:10000794-1703610000-1703617200@www.metroparks.net
SUMMARY:Full Moon Hike
DESCRIPTION:Take a brisk 4-mile hike through forests and fields. Meet us at the Ranger Station\, 1775 Darby Creek Drive.
URL:https://www.metroparks.net/event/full-moon-hike-3/
LOCATION:Battelle Darby Creek\, 1775 Darby Creek Drive\, Galloway\, OH\, 43119\, United States
END:VEVENT
BEGIN:VEVENT
DTSTART;TZID=America/New_York:20231226T173000
DTEND;TZID=America/New_York:20231226T183000
DTSTAMP:20260423T121147
CREATED:20231120T144055Z
LAST-MODIFIED:20231120T144055Z
UID:10000767-1703611800-1703615400@www.metroparks.net
SUMMARY:For Adults: Fast-paced Full Moon Fitness Hike
DESCRIPTION:Take a fast 2.8-mile hike lit by the light of the full moon. Note: This hike finishes in an hour or less. Leaders keep a good pace on gravel\, grass and paved trails. Ages 18+\nMeet at the Apple Ridge Bulletin Board.
URL:https://www.metroparks.net/event/for-adults-fast-paced-full-moon-fitness-hike-2/
LOCATION:Sharon Woods\, 6911 Cleveland Ave.\, Columbus\, OH\, 43081\, United States
ATTACH;FMTTYPE=image/jpeg:https://www.metroparks.net/wp-content/uploads/2019/03/gallery-spring-RKF-full-moon-and-trees_April-Dan-Bissonette.jpg
END:VEVENT
END:VCALENDAR