BEGIN:VCALENDAR
VERSION:2.0
PRODID:-//Metro Parks - Central Ohio Park System - ECPv6.15.16.1//NONSGML v1.0//EN
CALSCALE:GREGORIAN
METHOD:PUBLISH
X-ORIGINAL-URL:https://www.metroparks.net
X-WR-CALDESC:Events for Metro Parks - Central Ohio Park System
REFRESH-INTERVAL;VALUE=DURATION:PT1H
X-Robots-Tag:noindex
X-PUBLISHED-TTL:PT1H
BEGIN:VTIMEZONE
TZID:America/New_York
BEGIN:DAYLIGHT
TZOFFSETFROM:-0500
TZOFFSETTO:-0400
TZNAME:EDT
DTSTART:20220313T070000
END:DAYLIGHT
BEGIN:STANDARD
TZOFFSETFROM:-0400
TZOFFSETTO:-0500
TZNAME:EST
DTSTART:20221106T060000
END:STANDARD
BEGIN:DAYLIGHT
TZOFFSETFROM:-0500
TZOFFSETTO:-0400
TZNAME:EDT
DTSTART:20230312T070000
END:DAYLIGHT
BEGIN:STANDARD
TZOFFSETFROM:-0400
TZOFFSETTO:-0500
TZNAME:EST
DTSTART:20231105T060000
END:STANDARD
BEGIN:DAYLIGHT
TZOFFSETFROM:-0500
TZOFFSETTO:-0400
TZNAME:EDT
DTSTART:20240310T070000
END:DAYLIGHT
BEGIN:STANDARD
TZOFFSETFROM:-0400
TZOFFSETTO:-0500
TZNAME:EST
DTSTART:20241103T060000
END:STANDARD
END:VTIMEZONE
BEGIN:VEVENT
DTSTART;TZID=America/New_York:20231227T100000
DTEND;TZID=America/New_York:20231227T110000
DTSTAMP:20260423T103518
CREATED:20231129T140256Z
LAST-MODIFIED:20231129T140256Z
UID:10000801-1703671200-1703674800@www.metroparks.net
SUMMARY:Holiday Hike
DESCRIPTION:Enjoy a hike through Scioto Grove Metro Park this holiday season! Hike will be approx. 2-miles\, meet at the Arrowhead Picnic Area.
URL:https://www.metroparks.net/event/holiday-hike-2/
LOCATION:Scioto Grove\, 5172 Jackson Pike\, Grove City\, OH\, 43123\, United States
END:VEVENT
BEGIN:VEVENT
DTSTART;TZID=America/New_York:20231227T140000
DTEND;TZID=America/New_York:20231227T153000
DTSTAMP:20260423T103518
CREATED:20231129T140401Z
LAST-MODIFIED:20231129T140401Z
UID:10000802-1703685600-1703691000@www.metroparks.net
SUMMARY:Pie Iron Cooking
DESCRIPTION:Pie irons? Pudgy pies? Toastie irons? Regardless of what you grew up calling them\, or are brand new to using them\, join us to make recipes and learn tips and tricks. Meet at the campfire in Arrowhead Picnic Area at Scioto Grove Metro Park.
URL:https://www.metroparks.net/event/pie-iron-cooking/
LOCATION:Scioto Grove\, 5172 Jackson Pike\, Grove City\, OH\, 43123\, United States
END:VEVENT
END:VCALENDAR