BEGIN:VCALENDAR
VERSION:2.0
PRODID:-//Metro Parks - Central Ohio Park System - ECPv6.15.16.1//NONSGML v1.0//EN
CALSCALE:GREGORIAN
METHOD:PUBLISH
X-WR-CALNAME:Metro Parks - Central Ohio Park System
X-ORIGINAL-URL:https://www.metroparks.net
X-WR-CALDESC:Events for Metro Parks - Central Ohio Park System
REFRESH-INTERVAL;VALUE=DURATION:PT1H
X-Robots-Tag:noindex
X-PUBLISHED-TTL:PT1H
BEGIN:VTIMEZONE
TZID:America/New_York
BEGIN:DAYLIGHT
TZOFFSETFROM:-0500
TZOFFSETTO:-0400
TZNAME:EDT
DTSTART:20220313T070000
END:DAYLIGHT
BEGIN:STANDARD
TZOFFSETFROM:-0400
TZOFFSETTO:-0500
TZNAME:EST
DTSTART:20221106T060000
END:STANDARD
BEGIN:DAYLIGHT
TZOFFSETFROM:-0500
TZOFFSETTO:-0400
TZNAME:EDT
DTSTART:20230312T070000
END:DAYLIGHT
BEGIN:STANDARD
TZOFFSETFROM:-0400
TZOFFSETTO:-0500
TZNAME:EST
DTSTART:20231105T060000
END:STANDARD
BEGIN:DAYLIGHT
TZOFFSETFROM:-0500
TZOFFSETTO:-0400
TZNAME:EDT
DTSTART:20240310T070000
END:DAYLIGHT
BEGIN:STANDARD
TZOFFSETFROM:-0400
TZOFFSETTO:-0500
TZNAME:EST
DTSTART:20241103T060000
END:STANDARD
END:VTIMEZONE
BEGIN:VEVENT
DTSTART;TZID=America/New_York:20231230T090000
DTEND;TZID=America/New_York:20231230T110000
DTSTAMP:20260423T103349
CREATED:20231127T192004Z
LAST-MODIFIED:20231127T192004Z
UID:10000797-1703926800-1703934000@www.metroparks.net
SUMMARY:Christmas Bird Count
DESCRIPTION:Take a 2-mile hike and join the naturalist to help count birds for the annual Christmas Bird Count.
URL:https://www.metroparks.net/event/christmas-bird-count-2/
LOCATION:Battelle Darby Creek\, 1775 Darby Creek Drive\, Galloway\, OH\, 43119\, United States
END:VEVENT
BEGIN:VEVENT
DTSTART;TZID=America/New_York:20231230T130000
DTEND;TZID=America/New_York:20231230T140000
DTSTAMP:20260423T103349
CREATED:20231127T191859Z
LAST-MODIFIED:20231127T191859Z
UID:10000795-1703941200-1703944800@www.metroparks.net
SUMMARY:Frigid Fungi
DESCRIPTION:Did you know some fungi grow in winter? Go on a 1.5-mile hike with a naturalist to look for and learn about winter fungi and try a sample of an edible mushroom.
URL:https://www.metroparks.net/event/frigid-fungi/
LOCATION:Blacklick Woods\, 6975 East Livingston Ave\, Reynoldsburg\, OH\, 43068\, United States
END:VEVENT
BEGIN:VEVENT
DTSTART;TZID=America/New_York:20231230T130000
DTEND;TZID=America/New_York:20231230T150000
DTSTAMP:20260423T103349
CREATED:20231127T191931Z
LAST-MODIFIED:20231127T191931Z
UID:10000796-1703941200-1703948400@www.metroparks.net
SUMMARY:Smoked\, Salted\, Pickled\, and Preserved
DESCRIPTION:Ongoing from 1-3pm. All ages.\nLearn how fruits\, vegetables\, and meats were preserved before the days of artificial refrigeration. The smokehouse. will be operating.
URL:https://www.metroparks.net/event/smoked-salted-pickled-and-preserved/
LOCATION:Slate Run Living Historical Farm\, 1375 OH-674\, Canal Winchester\, OH\, 43110\, United States
END:VEVENT
END:VCALENDAR