BEGIN:VCALENDAR
VERSION:2.0
PRODID:-//Metro Parks - Central Ohio Park System - ECPv6.15.16.1//NONSGML v1.0//EN
CALSCALE:GREGORIAN
METHOD:PUBLISH
X-WR-CALNAME:Metro Parks - Central Ohio Park System
X-ORIGINAL-URL:https://www.metroparks.net
X-WR-CALDESC:Events for Metro Parks - Central Ohio Park System
REFRESH-INTERVAL;VALUE=DURATION:PT1H
X-Robots-Tag:noindex
X-PUBLISHED-TTL:PT1H
BEGIN:VTIMEZONE
TZID:America/New_York
BEGIN:DAYLIGHT
TZOFFSETFROM:-0500
TZOFFSETTO:-0400
TZNAME:EDT
DTSTART:20230312T070000
END:DAYLIGHT
BEGIN:STANDARD
TZOFFSETFROM:-0400
TZOFFSETTO:-0500
TZNAME:EST
DTSTART:20231105T060000
END:STANDARD
BEGIN:DAYLIGHT
TZOFFSETFROM:-0500
TZOFFSETTO:-0400
TZNAME:EDT
DTSTART:20240310T070000
END:DAYLIGHT
BEGIN:STANDARD
TZOFFSETFROM:-0400
TZOFFSETTO:-0500
TZNAME:EST
DTSTART:20241103T060000
END:STANDARD
BEGIN:DAYLIGHT
TZOFFSETFROM:-0500
TZOFFSETTO:-0400
TZNAME:EDT
DTSTART:20250309T070000
END:DAYLIGHT
BEGIN:STANDARD
TZOFFSETFROM:-0400
TZOFFSETTO:-0500
TZNAME:EST
DTSTART:20251102T060000
END:STANDARD
END:VTIMEZONE
BEGIN:VEVENT
DTSTART;TZID=America/New_York:20240616T130000
DTEND;TZID=America/New_York:20240616T140000
DTSTAMP:20260423T003521
CREATED:20240528T130741Z
LAST-MODIFIED:20240528T130741Z
UID:10001384-1718542800-1718546400@www.metroparks.net
SUMMARY:Family Creeking
DESCRIPTION:Explore the Olentangy River to look for some of the animals that live there. Be prepared to get wet! Shoes required in the river for your safety. Please no flip flops or crocs. Limited supply of buckets and nets. All animals will be released back into the river at the end of the program. Don’t forget a towel and complete a change of clothes to dry off after the program.
URL:https://www.metroparks.net/event/family-creeking-4/
LOCATION:Highbanks\, 9466 Columbus Pike (US Rt 23 N)\, Lewis Center\, OH\, 43035\, United States
ATTACH;FMTTYPE=image/jpeg:https://www.metroparks.net/wp-content/uploads/2020/04/Olentangy-3343s-3x4-HB-scaled.jpg
END:VEVENT
BEGIN:VEVENT
DTSTART;TZID=America/New_York:20240616T130000
DTEND;TZID=America/New_York:20240616T150000
DTSTAMP:20260423T003521
CREATED:20240528T130603Z
LAST-MODIFIED:20240528T130603Z
UID:10001383-1718542800-1718550000@www.metroparks.net
SUMMARY:Fathers’ Day Event
DESCRIPTION:How did the celebrity dad stay cool on Father’s Day? Because he had so many fans! Be your dad’s biggest fan this Fathers’ Day and celebrate with us as we go fishing and make some fun crafts.\nThis program is for all ages. Meet at the barn shelter\, rain or shine!
URL:https://www.metroparks.net/event/fathers-day-event/
LOCATION:Homestead\, 4675 Cosgray Road\, Hilliard\, OH\, 43026\, United States
END:VEVENT
BEGIN:VEVENT
DTSTART;TZID=America/New_York:20240616T140000
DTEND;TZID=America/New_York:20240616T160000
DTSTAMP:20260423T003521
CREATED:20240522T172928Z
LAST-MODIFIED:20240522T172928Z
UID:10001349-1718546400-1718553600@www.metroparks.net
SUMMARY:I-Spy
DESCRIPTION:Test your observation skills with this fun\, fully accessible game along the paved lake trail.
URL:https://www.metroparks.net/event/i-spy/
LOCATION:Blendon Woods\, 4265 E Dublin Granville Road\, Columbus\, 43081\, United States
END:VEVENT
BEGIN:VEVENT
DTSTART;TZID=America/New_York:20240616T140000
DTEND;TZID=America/New_York:20240616T160000
DTSTAMP:20260423T003521
CREATED:20240524T193527Z
LAST-MODIFIED:20240524T193527Z
UID:10001362-1718546400-1718553600@www.metroparks.net
SUMMARY:Meet the Artist: Patty Sykes
DESCRIPTION:Meet artist of the month\, Patty Sykes\, and view her artwork on display in the Innis House.
URL:https://www.metroparks.net/event/meet-the-artist-patty-sykes/
LOCATION:Innis House\, 940 S Hempstead Road\, Westerville\, OH\, 43081\, United States
END:VEVENT
BEGIN:VEVENT
DTSTART;TZID=America/New_York:20240616T140000
DTEND;TZID=America/New_York:20240616T160000
DTSTAMP:20260423T003521
CREATED:20240528T130524Z
LAST-MODIFIED:20240528T130524Z
UID:10001382-1718546400-1718553600@www.metroparks.net
SUMMARY:Father's Day Fishing
DESCRIPTION:Meet in the Kingfisher Shelter use the address 2319 Quarry Trails Drive Columbus OH 43228.\nCome and go fishing. Bait and a limited number of poles are provided. You may bring your own!
URL:https://www.metroparks.net/event/fathers-day-fishing/
LOCATION:Quarry Trails\, 2600 Dublin Road\, Columbus\, OH\, 43228\, United States
ATTACH;FMTTYPE=image/jpeg:https://www.metroparks.net/wp-content/uploads/2016/09/TJs-first-time-fishing-was-a-success-1080px.jpg
END:VEVENT
BEGIN:VEVENT
DTSTART;TZID=America/New_York:20240616T210000
DTEND;TZID=America/New_York:20240616T220000
DTSTAMP:20260423T003521
CREATED:20240530T143243Z
LAST-MODIFIED:20240530T143243Z
UID:10001406-1718571600-1718575200@www.metroparks.net
SUMMARY:Talking With Fireflies
DESCRIPTION:Take a 1-mile hike and learn how fireflies communicate with one another. Meet at the Indian Ridge Bulletin Board\, 2705 Darby Creek Dr.
URL:https://www.metroparks.net/event/talking-with-fireflies/
LOCATION:Battelle Darby Creek\, 1775 Darby Creek Drive\, Galloway\, OH\, 43119\, United States
END:VEVENT
END:VCALENDAR