BEGIN:VCALENDAR
VERSION:2.0
PRODID:-//Metro Parks - Central Ohio Park System - ECPv6.15.16.1//NONSGML v1.0//EN
CALSCALE:GREGORIAN
METHOD:PUBLISH
X-ORIGINAL-URL:https://www.metroparks.net
X-WR-CALDESC:Events for Metro Parks - Central Ohio Park System
REFRESH-INTERVAL;VALUE=DURATION:PT1H
X-Robots-Tag:noindex
X-PUBLISHED-TTL:PT1H
BEGIN:VTIMEZONE
TZID:America/New_York
BEGIN:DAYLIGHT
TZOFFSETFROM:-0500
TZOFFSETTO:-0400
TZNAME:EDT
DTSTART:20240310T070000
END:DAYLIGHT
BEGIN:STANDARD
TZOFFSETFROM:-0400
TZOFFSETTO:-0500
TZNAME:EST
DTSTART:20241103T060000
END:STANDARD
BEGIN:DAYLIGHT
TZOFFSETFROM:-0500
TZOFFSETTO:-0400
TZNAME:EDT
DTSTART:20250309T070000
END:DAYLIGHT
BEGIN:STANDARD
TZOFFSETFROM:-0400
TZOFFSETTO:-0500
TZNAME:EST
DTSTART:20251102T060000
END:STANDARD
BEGIN:DAYLIGHT
TZOFFSETFROM:-0500
TZOFFSETTO:-0400
TZNAME:EDT
DTSTART:20260308T070000
END:DAYLIGHT
BEGIN:STANDARD
TZOFFSETFROM:-0400
TZOFFSETTO:-0500
TZNAME:EST
DTSTART:20261101T060000
END:STANDARD
END:VTIMEZONE
BEGIN:VEVENT
DTSTART;TZID=America/New_York:20250329T070000
DTEND;TZID=America/New_York:20250329T080000
DTSTAMP:20260424T091215
CREATED:20250217T142601Z
LAST-MODIFIED:20250217T142601Z
UID:10002402-1743231600-1743235200@www.metroparks.net
SUMMARY:Sunrise Sounds
DESCRIPTION:Sunrise at 7:20! Hike around the field to listen for Woodcocks\, then hike to the pond to see who is up early.
URL:https://www.metroparks.net/event/sunrise-sounds/
LOCATION:Blendon Woods\, 4265 E Dublin Granville Road\, Columbus\, 43081\, United States
END:VEVENT
BEGIN:VEVENT
DTSTART;TZID=America/New_York:20250329T110000
DTEND;TZID=America/New_York:20250329T120000
DTSTAMP:20260424T091215
CREATED:20250226T140215Z
LAST-MODIFIED:20250226T140215Z
UID:10002451-1743246000-1743249600@www.metroparks.net
SUMMARY:Budding Buddies
DESCRIPTION:Spring is in the air\, and signs are on the ground. Let’s meander and check out all the interesting spring wildflowers that are starting to bloom in various colors and shapes! Meet us at the Ranger Station\, 1775 Darby Creek Dr.
URL:https://www.metroparks.net/event/budding-buddies-2/
LOCATION:Battelle Darby Creek\, 1775 Darby Creek Drive\, Galloway\, OH\, 43119\, United States
END:VEVENT
BEGIN:VEVENT
DTSTART;TZID=America/New_York:20250329T110000
DTEND;TZID=America/New_York:20250329T123000
DTSTAMP:20260424T091215
CREATED:20250307T160106Z
LAST-MODIFIED:20250307T160106Z
UID:10002494-1743246000-1743251400@www.metroparks.net
SUMMARY:Early Wildflower Walk
DESCRIPTION:Enjoy a guided walk through the woods and fields looking for early wildflowers and signs of spring. Walk will go off trail\, please dress appropriately.
URL:https://www.metroparks.net/event/early-wildflower-walk/2025-03-29/1/
LOCATION:Sharon Woods\, 6911 Cleveland Ave.\, Columbus\, OH\, 43081\, United States
END:VEVENT
BEGIN:VEVENT
DTSTART;TZID=America/New_York:20250329T130000
DTEND;TZID=America/New_York:20250329T150000
DTSTAMP:20260424T091215
CREATED:20250228T162136Z
LAST-MODIFIED:20250228T162136Z
UID:10002472-1743253200-1743260400@www.metroparks.net
SUMMARY:Backpacking Series: Week 1- Shelter\, Sleep Systems and Packs
DESCRIPTION:Metro Parks Outdoor Adventure Backpacking Series is BACK!! Join us for a 6 week series followed by an overnight backpacking opportunity in the parks! Attendance is required to at least ONE of the backpacking classes/programs to be eligible to attend the overnight trip later in the spring. This series is for those of all backpacking abilities\, from beginner to novice backpackers. \nWeek 1: Shelter and Sleep Systems – Creating a comfortable home away from home in the backcountry is not as simple as pitching a tent. Join us as we explore how to set yourself up for success. Prepare to hike off-trail as we cover site selection following Lean No Trace principles and practice setting up a the shelter. We have gear for demonstration\, but you are encouraged to bring your own. Meet at the Arrowhead Picnic Area at Scioto Grove Metro Park.
URL:https://www.metroparks.net/event/backpacking-series-week-1-shelter-sleep-systems-and-packs/2025-03-29/
LOCATION:Scioto Grove\, 5172 Jackson Pike\, Grove City\, OH\, 43123\, United States
ATTACH;FMTTYPE=image/png:https://www.metroparks.net/wp-content/uploads/2025/02/Backpacking-Series-2.png
END:VEVENT
BEGIN:VEVENT
DTSTART;TZID=America/New_York:20250329T133000
DTEND;TZID=America/New_York:20250329T150000
DTSTAMP:20260424T091215
CREATED:20250218T145941Z
LAST-MODIFIED:20250218T145941Z
UID:10002408-1743255000-1743260400@www.metroparks.net
SUMMARY:Walk Into Spring
DESCRIPTION:Enjoy a 2.5 mile hike with stops along the way to observe and learn about signs of spring. Please wear shoes suitable for some mud. No pets\, please. Meets at Three Creeks Confluence Area bulletin board\, 3860 Bixby Rd\, Groveport
URL:https://www.metroparks.net/event/walk-into-spring/
LOCATION:Three Creeks\, 3860 Bixby Road\, Groveport\, OH\, 43125\, United States
END:VEVENT
BEGIN:VEVENT
DTSTART;TZID=America/New_York:20250329T140000
DTEND;TZID=America/New_York:20250329T150000
DTSTAMP:20260424T091215
CREATED:20250217T142250Z
LAST-MODIFIED:20250217T142250Z
UID:10002401-1743256800-1743260400@www.metroparks.net
SUMMARY:Signs of Spring
DESCRIPTION:Take a 1.25-mile hike through the Walter Tucker Nature Preserve and search for early signs of spring.
URL:https://www.metroparks.net/event/signs-of-spring-5/
LOCATION:Blacklick Woods\, 6975 East Livingston Ave\, Reynoldsburg\, OH\, 43068\, United States
END:VEVENT
BEGIN:VEVENT
DTSTART;TZID=America/New_York:20250329T140000
DTEND;TZID=America/New_York:20250329T153000
DTSTAMP:20260424T091215
CREATED:20250307T160106Z
LAST-MODIFIED:20250307T160106Z
UID:10002495-1743256800-1743262200@www.metroparks.net
SUMMARY:Early Wildflower Walk
DESCRIPTION:Enjoy a guided walk through the woods and fields looking for early wildflowers and signs of spring. Walk will go off trail\, please dress appropriately.
URL:https://www.metroparks.net/event/early-wildflower-walk/2025-03-29/2/
LOCATION:Sharon Woods\, 6911 Cleveland Ave.\, Columbus\, OH\, 43081\, United States
END:VEVENT
BEGIN:VEVENT
DTSTART;TZID=America/New_York:20250329T150000
DTEND;TZID=America/New_York:20250329T160000
DTSTAMP:20260424T091215
CREATED:20250221T174919Z
LAST-MODIFIED:20250221T174919Z
UID:10002416-1743260400-1743264000@www.metroparks.net
SUMMARY:Kids: Meet the Woodwinds with Zephyr Chamber Winds
DESCRIPTION:Join us for a one hour\, educational\, music program with Zephyr Chamber Winds. This program will include a 30 minute musical performance followed by a 30 minute instrument “petting zoo” – designed to introduce young listeners to the instruments\, how they work\, and how they sound! \nMeeting Location Notes: Highbanks Nature Center is the first right after entering the park. There is limited parking in the Nature Center lot on busy days. Additional parking is available in the Oak Coves Picnic Area\, a 10 minute walk from the Nature Center. Follow the paved trail through Oak Coves toward the Nature Center.
URL:https://www.metroparks.net/event/kids-meet-the-woodwinds-with-zephyr-chamber-winds/
LOCATION:Highbanks\, 9466 Columbus Pike (US Rt 23 N)\, Lewis Center\, OH\, 43035\, United States
END:VEVENT
BEGIN:VEVENT
DTSTART;TZID=America/New_York:20250329T190000
DTEND;TZID=America/New_York:20250329T210000
DTSTAMP:20260424T091215
CREATED:20250228T131931Z
LAST-MODIFIED:20250228T131931Z
UID:10002465-1743274800-1743282000@www.metroparks.net
SUMMARY:Twilight Hike
DESCRIPTION:Experience Clear Creek at twilight on a 5-mile guided hike. Bring a headlamp and be prepared to hike in low light conditions. Terrain is steep and uneven\, wear sturdy hiking shoes and bring water. Meet at the Creekside Meadows Parking Lot: 23833 Clear Creek Road\, Rockbridge (39.589033\, -82.577590).
URL:https://www.metroparks.net/event/twilight-hike-2/
LOCATION:Clear Creek\, 185 Clear Creek Road\, Lancaster\, OH\, 43130\, United States
END:VEVENT
END:VCALENDAR