BEGIN:VCALENDAR
VERSION:2.0
PRODID:-//Metro Parks - Central Ohio Park System - ECPv6.15.16.1//NONSGML v1.0//EN
CALSCALE:GREGORIAN
METHOD:PUBLISH
X-ORIGINAL-URL:https://www.metroparks.net
X-WR-CALDESC:Events for Metro Parks - Central Ohio Park System
REFRESH-INTERVAL;VALUE=DURATION:PT1H
X-Robots-Tag:noindex
X-PUBLISHED-TTL:PT1H
BEGIN:VTIMEZONE
TZID:America/New_York
BEGIN:DAYLIGHT
TZOFFSETFROM:-0500
TZOFFSETTO:-0400
TZNAME:EDT
DTSTART:20240310T070000
END:DAYLIGHT
BEGIN:STANDARD
TZOFFSETFROM:-0400
TZOFFSETTO:-0500
TZNAME:EST
DTSTART:20241103T060000
END:STANDARD
BEGIN:DAYLIGHT
TZOFFSETFROM:-0500
TZOFFSETTO:-0400
TZNAME:EDT
DTSTART:20250309T070000
END:DAYLIGHT
BEGIN:STANDARD
TZOFFSETFROM:-0400
TZOFFSETTO:-0500
TZNAME:EST
DTSTART:20251102T060000
END:STANDARD
BEGIN:DAYLIGHT
TZOFFSETFROM:-0500
TZOFFSETTO:-0400
TZNAME:EDT
DTSTART:20260308T070000
END:DAYLIGHT
BEGIN:STANDARD
TZOFFSETFROM:-0400
TZOFFSETTO:-0500
TZNAME:EST
DTSTART:20261101T060000
END:STANDARD
END:VTIMEZONE
BEGIN:VEVENT
DTSTART;TZID=America/New_York:20250405T093000
DTEND;TZID=America/New_York:20250405T110000
DTSTAMP:20260424T062333
CREATED:20250324T141150Z
LAST-MODIFIED:20250324T141150Z
UID:10002540-1743845400-1743850800@www.metroparks.net
SUMMARY:Walk To The Eagle Nest
DESCRIPTION:Learn about our national bird then go on a 1.5 mile round trip walk to observe them using a spotting scope at the nest. Wear shoes and clothes suitable for mud. No pets\, please. Bring binoculars if you have them. Meets at Madison Christian Church parking lot\, 3565 Bixby Rd\, Groveport
URL:https://www.metroparks.net/event/walk-to-the-eagle-nest-6/
LOCATION:Three Creeks\, 3860 Bixby Road\, Groveport\, OH\, 43125\, United States
END:VEVENT
BEGIN:VEVENT
DTSTART;TZID=America/New_York:20250405T100000
DTEND;TZID=America/New_York:20250405T160000
DTSTAMP:20260424T062333
CREATED:20250324T141235Z
LAST-MODIFIED:20250324T141235Z
UID:10002541-1743847200-1743868800@www.metroparks.net
SUMMARY:Waste Not\, Want Not
DESCRIPTION:Ongoing from 10am -4pm\nCompare recycling now with an 1880s family’s necessary reuse of many farm and household items.
URL:https://www.metroparks.net/event/waste-not-want-not-2/
LOCATION:Slate Run Living Historical Farm\, 1375 OH-674\, Canal Winchester\, OH\, 43110\, United States
END:VEVENT
BEGIN:VEVENT
DTSTART;TZID=America/New_York:20250405T130000
DTEND;TZID=America/New_York:20250405T143000
DTSTAMP:20260424T062333
CREATED:20250228T164731Z
LAST-MODIFIED:20250228T164731Z
UID:10002491-1743858000-1743863400@www.metroparks.net
SUMMARY:Backpacking Series: Week 2- Water
DESCRIPTION:Join us for a series of interactive classes designed as an introduction to backpacking! Classes will be held weekly for 6 weeks\, followed by an overnight trip. This series will be geared toward the upcoming spring backpacking season. Gear will be provided for demonstration purposes\, but you are highly encouraged to bring your own gear to improve your hands-on experience. Attendance at all classes is NOT required—you may attend as many or as few classes as you would like. The overnight trip will only be open to those who attend at least one class. Meet at Arrowhead picnic area unless otherwise stated. \nOne of the most important considerations for backpacking is where you will get clean\, drinkable water. We will cover all of the important information you need to keep yourself hydrated and healthy on the trail. Participants will have the opportunity to practice treating water. We will provide a few filtering devices to share\, however you are encouraged to bring your own treatment system so that you can practice on the tools you’ll actually be using once you hit the trail. Meet at the Arrowhead Picnic Area at Scioto Grove Metro Park
URL:https://www.metroparks.net/event/backpacking-series-week-2-water/2025-04-05/
LOCATION:Scioto Grove\, 5172 Jackson Pike\, Grove City\, OH\, 43123\, United States
END:VEVENT
BEGIN:VEVENT
DTSTART;TZID=America/New_York:20250405T140000
DTEND;TZID=America/New_York:20250405T160000
DTSTAMP:20260424T062333
CREATED:20250324T124835Z
LAST-MODIFIED:20250324T124835Z
UID:10002500-1743861600-1743868800@www.metroparks.net
SUMMARY:Spring Crafts
DESCRIPTION:Stop by the Nature Center to make some simple\, spring-themed crafts.
URL:https://www.metroparks.net/event/spring-crafts/
LOCATION:Blacklick Woods\, 6975 East Livingston Ave\, Reynoldsburg\, OH\, 43068\, United States
END:VEVENT
BEGIN:VEVENT
DTSTART;TZID=America/New_York:20250405T180000
DTEND;TZID=America/New_York:20250405T190000
DTSTAMP:20260424T062333
CREATED:20250324T133621Z
LAST-MODIFIED:20250324T133621Z
UID:10002529-1743876000-1743879600@www.metroparks.net
SUMMARY:Sounds of the Swamp
DESCRIPTION:Take an evening hike to listen for frogs\, birds and other springtime sounds.
URL:https://www.metroparks.net/event/sounds-of-the-swamp/
LOCATION:Rocky Fork\, 7180 East Walnut St.\, Westerville\, OH\, 43081\, United States
END:VEVENT
BEGIN:VEVENT
DTSTART;TZID=America/New_York:20250405T200000
DTEND;TZID=America/New_York:20250405T220000
DTSTAMP:20260424T062333
CREATED:20250325T141710Z
LAST-MODIFIED:20250325T141710Z
UID:10002555-1743883200-1743890400@www.metroparks.net
SUMMARY:Star Gazing
DESCRIPTION:Lets check out the night sky and make a star chart to take home. We do not promise a cloudless night\, but there will be activities regardless. Meet at the Nature Center Overflow Parking Lot.
URL:https://www.metroparks.net/event/star-gazing-2/
LOCATION:Battelle Darby Creek\, 1775 Darby Creek Drive\, Galloway\, OH\, 43119\, United States
END:VEVENT
END:VCALENDAR