BEGIN:VCALENDAR
VERSION:2.0
PRODID:-//Metro Parks - Central Ohio Park System - ECPv6.15.16.1//NONSGML v1.0//EN
CALSCALE:GREGORIAN
METHOD:PUBLISH
X-WR-CALNAME:Metro Parks - Central Ohio Park System
X-ORIGINAL-URL:https://www.metroparks.net
X-WR-CALDESC:Events for Metro Parks - Central Ohio Park System
REFRESH-INTERVAL;VALUE=DURATION:PT1H
X-Robots-Tag:noindex
X-PUBLISHED-TTL:PT1H
BEGIN:VTIMEZONE
TZID:America/New_York
BEGIN:DAYLIGHT
TZOFFSETFROM:-0500
TZOFFSETTO:-0400
TZNAME:EDT
DTSTART:20240310T070000
END:DAYLIGHT
BEGIN:STANDARD
TZOFFSETFROM:-0400
TZOFFSETTO:-0500
TZNAME:EST
DTSTART:20241103T060000
END:STANDARD
BEGIN:DAYLIGHT
TZOFFSETFROM:-0500
TZOFFSETTO:-0400
TZNAME:EDT
DTSTART:20250309T070000
END:DAYLIGHT
BEGIN:STANDARD
TZOFFSETFROM:-0400
TZOFFSETTO:-0500
TZNAME:EST
DTSTART:20251102T060000
END:STANDARD
BEGIN:DAYLIGHT
TZOFFSETFROM:-0500
TZOFFSETTO:-0400
TZNAME:EDT
DTSTART:20260308T070000
END:DAYLIGHT
BEGIN:STANDARD
TZOFFSETFROM:-0400
TZOFFSETTO:-0500
TZNAME:EST
DTSTART:20261101T060000
END:STANDARD
END:VTIMEZONE
BEGIN:VEVENT
DTSTART;TZID=America/New_York:20250410T133000
DTEND;TZID=America/New_York:20250410T150000
DTSTAMP:20260424T062149
CREATED:20250324T141420Z
LAST-MODIFIED:20250324T141420Z
UID:10002544-1744291800-1744297200@www.metroparks.net
SUMMARY:Homeschoolers on the Farm: Give and Take
DESCRIPTION:Program begins at 1:30 in front of the farmhouse.\nLearn about livestock care and how the animals help the farm family.
URL:https://www.metroparks.net/event/homeschoolers-on-the-farm-give-and-take/
LOCATION:Slate Run Living Historical Farm\, 1375 OH-674\, Canal Winchester\, OH\, 43110\, United States
END:VEVENT
BEGIN:VEVENT
DTSTART;TZID=America/New_York:20250410T170000
DTEND;TZID=America/New_York:20250410T180000
DTSTAMP:20260424T062149
CREATED:20250328T123303Z
LAST-MODIFIED:20250328T123303Z
UID:10002588-1744304400-1744308000@www.metroparks.net
SUMMARY:Campfire Cooking
DESCRIPTION:Join us for a meal around the campfire at Quarry Trails\, and learn how to make your own campfire treat! All materials and equipment will be provided\, free and fun! Meet at the lower sled hill parking lot. Use address 2600 Dublin Rd.
URL:https://www.metroparks.net/event/campfire-cooking-5/
LOCATION:Quarry Trails\, 2600 Dublin Road\, Columbus\, OH\, 43228\, United States
END:VEVENT
END:VCALENDAR