BEGIN:VCALENDAR
VERSION:2.0
PRODID:-//Metro Parks - Central Ohio Park System - ECPv6.15.16.1//NONSGML v1.0//EN
CALSCALE:GREGORIAN
METHOD:PUBLISH
X-WR-CALNAME:Metro Parks - Central Ohio Park System
X-ORIGINAL-URL:https://www.metroparks.net
X-WR-CALDESC:Events for Metro Parks - Central Ohio Park System
REFRESH-INTERVAL;VALUE=DURATION:PT1H
X-Robots-Tag:noindex
X-PUBLISHED-TTL:PT1H
BEGIN:VTIMEZONE
TZID:America/New_York
BEGIN:DAYLIGHT
TZOFFSETFROM:-0500
TZOFFSETTO:-0400
TZNAME:EDT
DTSTART:20240310T070000
END:DAYLIGHT
BEGIN:STANDARD
TZOFFSETFROM:-0400
TZOFFSETTO:-0500
TZNAME:EST
DTSTART:20241103T060000
END:STANDARD
BEGIN:DAYLIGHT
TZOFFSETFROM:-0500
TZOFFSETTO:-0400
TZNAME:EDT
DTSTART:20250309T070000
END:DAYLIGHT
BEGIN:STANDARD
TZOFFSETFROM:-0400
TZOFFSETTO:-0500
TZNAME:EST
DTSTART:20251102T060000
END:STANDARD
BEGIN:DAYLIGHT
TZOFFSETFROM:-0500
TZOFFSETTO:-0400
TZNAME:EDT
DTSTART:20260308T070000
END:DAYLIGHT
BEGIN:STANDARD
TZOFFSETFROM:-0400
TZOFFSETTO:-0500
TZNAME:EST
DTSTART:20261101T060000
END:STANDARD
END:VTIMEZONE
BEGIN:VEVENT
DTSTART;TZID=America/New_York:20250411T110000
DTEND;TZID=America/New_York:20250411T130000
DTSTAMP:20260424T063413
CREATED:20250325T142119Z
LAST-MODIFIED:20250325T142119Z
UID:10002560-1744369200-1744376400@www.metroparks.net
SUMMARY:Drop In Preschool: Clever Chipmunks
DESCRIPTION:In the spring chipmunks are emerging from their dens and chattering in the forest. Come to learn more about chipmunks by playing games\, exploring and searching for them in the forest. Ages 2-6 \nMeeting Location Notes: Highbanks Nature Center is the first right after entering the park. There is limited parking in the Nature Center lot on busy days. Additional parking is available in the Oak Coves Picnic Area\, a 10 minute walk from the Nature Center. Follow the paved trail through Oak Coves toward the Nature Center.
URL:https://www.metroparks.net/event/drop-in-preschool-clever-chipmunks/
LOCATION:Highbanks\, 9466 Columbus Pike (US Rt 23 N)\, Lewis Center\, OH\, 43035\, United States
END:VEVENT
BEGIN:VEVENT
DTSTART;TZID=America/New_York:20250411T180000
DTEND;TZID=America/New_York:20250411T190000
DTSTAMP:20260424T063413
CREATED:20250324T125222Z
LAST-MODIFIED:20250324T125222Z
UID:10002504-1744394400-1744398000@www.metroparks.net
SUMMARY:For Adults: Spring Wildflowers
DESCRIPTION:Take a 1.25-mile hike through the Walter Tucker Preserve and search for blooming flowers.
URL:https://www.metroparks.net/event/for-adults-spring-wildflowers/
LOCATION:Blacklick Woods\, 6975 East Livingston Ave\, Reynoldsburg\, OH\, 43068\, United States
END:VEVENT
BEGIN:VEVENT
DTSTART;TZID=America/New_York:20250411T200000
DTEND;TZID=America/New_York:20250411T213000
DTSTAMP:20260424T063413
CREATED:20250324T141554Z
LAST-MODIFIED:20250324T141554Z
UID:10002545-1744401600-1744407000@www.metroparks.net
SUMMARY:Frog Frenzy
DESCRIPTION:Take a 1-mile round trip walk to a wetland where we’ll listen to and search for mating frogs and toads. Please wear boots if you plan on joining the search as we’ll be wading in cold\, shallow water. Some nets will be available to use but bring your own headlamps or flashlights. Note: Temperatures below 45-50 degrees means very few frogs and toads so hope for warm-ish weather! Meets at the Confluence Area bulletin board\, 3860 Bixby Rd\, Groveport.
URL:https://www.metroparks.net/event/frog-frenzy-3/
LOCATION:Three Creeks\, 3860 Bixby Road\, Groveport\, OH\, 43125\, United States
ATTACH;FMTTYPE=image/jpeg:https://www.metroparks.net/wp-content/uploads/2018/03/1080p_Perdue-Tim_INN_Bein-Green_100.jpg
END:VEVENT
END:VCALENDAR