BEGIN:VCALENDAR
VERSION:2.0
PRODID:-//Metro Parks - Central Ohio Park System - ECPv6.15.16.1//NONSGML v1.0//EN
CALSCALE:GREGORIAN
METHOD:PUBLISH
X-ORIGINAL-URL:https://www.metroparks.net
X-WR-CALDESC:Events for Metro Parks - Central Ohio Park System
REFRESH-INTERVAL;VALUE=DURATION:PT1H
X-Robots-Tag:noindex
X-PUBLISHED-TTL:PT1H
BEGIN:VTIMEZONE
TZID:America/New_York
BEGIN:DAYLIGHT
TZOFFSETFROM:-0500
TZOFFSETTO:-0400
TZNAME:EDT
DTSTART:20240310T070000
END:DAYLIGHT
BEGIN:STANDARD
TZOFFSETFROM:-0400
TZOFFSETTO:-0500
TZNAME:EST
DTSTART:20241103T060000
END:STANDARD
BEGIN:DAYLIGHT
TZOFFSETFROM:-0500
TZOFFSETTO:-0400
TZNAME:EDT
DTSTART:20250309T070000
END:DAYLIGHT
BEGIN:STANDARD
TZOFFSETFROM:-0400
TZOFFSETTO:-0500
TZNAME:EST
DTSTART:20251102T060000
END:STANDARD
BEGIN:DAYLIGHT
TZOFFSETFROM:-0500
TZOFFSETTO:-0400
TZNAME:EDT
DTSTART:20260308T070000
END:DAYLIGHT
BEGIN:STANDARD
TZOFFSETFROM:-0400
TZOFFSETTO:-0500
TZNAME:EST
DTSTART:20261101T060000
END:STANDARD
END:VTIMEZONE
BEGIN:VEVENT
DTSTART;TZID=America/New_York:20250413T100000
DTEND;TZID=America/New_York:20250413T113000
DTSTAMP:20260424T064832
CREATED:20250328T123358Z
LAST-MODIFIED:20250328T123358Z
UID:10002589-1744538400-1744543800@www.metroparks.net
SUMMARY:Cowboy Campfire Coffee!
DESCRIPTION:Howdy Y’all! Come out to the Lower Sled Hill at Quarry Trails Metro Park to learn how to make Cowboy style Campfire Coffee! All ingredients and equipment will be supplied\, feel free to bring your own reusable mug or cup and fill it up with some warm and toasty fire brewed coffee
URL:https://www.metroparks.net/event/cowboy-campfire-coffee-4/2025-04-13/
LOCATION:Quarry Trails\, 2600 Dublin Road\, Columbus\, OH\, 43228\, United States
END:VEVENT
BEGIN:VEVENT
DTSTART;TZID=America/New_York:20250413T130000
DTEND;TZID=America/New_York:20250413T150000
DTSTAMP:20260424T064832
CREATED:20250324T134903Z
LAST-MODIFIED:20250324T134903Z
UID:10002536-1744549200-1744556400@www.metroparks.net
SUMMARY:Plant Natives
DESCRIPTION:Celebrate Native Plant Month with us! Stop by to learn about the benefits of natives\, then plant some seeds for your own garden.
URL:https://www.metroparks.net/event/plant-natives/
LOCATION:Inniswood Metro Gardens\, 940 S. Hempstead Rd.\, Westerville\, OH\, 43081\, United States
END:VEVENT
BEGIN:VEVENT
DTSTART;TZID=America/New_York:20250413T130000
DTEND;TZID=America/New_York:20250413T150000
DTSTAMP:20260424T064832
CREATED:20250324T141740Z
LAST-MODIFIED:20250324T141740Z
UID:10002547-1744549200-1744556400@www.metroparks.net
SUMMARY:Sheep on the Farm
DESCRIPTION:Ongoing between 1-3pm\nWatch sheep shearing\, meet the lambs\, and learn about the uses of wool.
URL:https://www.metroparks.net/event/sheep-on-the-farm-2/2025-04-13/
LOCATION:Slate Run Living Historical Farm\, 1375 OH-674\, Canal Winchester\, OH\, 43110\, United States
END:VEVENT
BEGIN:VEVENT
DTSTART;TZID=America/New_York:20250413T140000
DTEND;TZID=America/New_York:20250413T150000
DTSTAMP:20260424T064832
CREATED:20250324T125336Z
LAST-MODIFIED:20250324T125336Z
UID:10002506-1744552800-1744556400@www.metroparks.net
SUMMARY:Spring Wildflower Walk
DESCRIPTION:Join a naturalist on a 1.25-mile hike through the Walter Tucker Preserve and search for blooming flowers.
URL:https://www.metroparks.net/event/spring-wildflower-walk/
LOCATION:Blacklick Woods\, 6975 East Livingston Ave\, Reynoldsburg\, OH\, 43068\, United States
END:VEVENT
BEGIN:VEVENT
DTSTART;TZID=America/New_York:20250413T140000
DTEND;TZID=America/New_York:20250413T150000
DTSTAMP:20260424T064832
CREATED:20250324T132614Z
LAST-MODIFIED:20250324T132614Z
UID:10002518-1744552800-1744556400@www.metroparks.net
SUMMARY:Eagle Hike
DESCRIPTION:Join us on Sundays in March to check on the progress of the Bald Eagles at their nest at 100 Acre Woods. Hike 1.5 mi. on a flat\, primitive trail. Prepare for mud. Meet at 5225 Cambria Way.
URL:https://www.metroparks.net/event/eagle-hike-2/2025-04-13/
LOCATION:100 Acre Wood\, 5280 Cambria Way\, Westerville\, Ohio\, 43081
END:VEVENT
BEGIN:VEVENT
DTSTART;TZID=America/New_York:20250413T140000
DTEND;TZID=America/New_York:20250413T153000
DTSTAMP:20260424T064832
CREATED:20250324T141640Z
LAST-MODIFIED:20250324T141640Z
UID:10002546-1744552800-1744558200@www.metroparks.net
SUMMARY:Walk Among The Bluebells
DESCRIPTION:Learn about the natural history of Virginia bluebells and other spring wildflowers on a 1-mile walk. Please wear shoes or boots suitable for muddy\, slippery walking. No pets\, please. Meets at Three Creeks Confluence Area bulletin board\, 3860 Bixby Rd\, Groveport. Please note that the bluebell bloom period varies from year-to-year so there may or may not be lots of flowers at walk time.
URL:https://www.metroparks.net/event/walk-among-the-bluebells-3/
LOCATION:Three Creeks\, 3860 Bixby Road\, Groveport\, OH\, 43125\, United States
ATTACH;FMTTYPE=image/jpeg:https://www.metroparks.net/wp-content/uploads/2019/03/gallery-spring-BLK_bluebells-near-creek_April_Cody-Berkebile.jpg
END:VEVENT
BEGIN:VEVENT
DTSTART;TZID=America/New_York:20250413T180000
DTEND;TZID=America/New_York:20250413T193000
DTSTAMP:20260424T064832
CREATED:20250324T125248Z
LAST-MODIFIED:20250324T125248Z
UID:10002505-1744567200-1744572600@www.metroparks.net
SUMMARY:For Adults 18+: Wildlife Adventures Around The World
DESCRIPTION:Join world travelers\, Deb Bradley and Chris Holmes\, as they share their adventures to Antarctica\, South Georgia and the Falkland Islands in search of native wildlife. \nMeet at the Beech Maple Lodge.
URL:https://www.metroparks.net/event/for-adults-18-wildlife-adventures-around-the-world/
LOCATION:Blacklick Woods\, 6975 East Livingston Ave\, Reynoldsburg\, OH\, 43068\, United States
END:VEVENT
END:VCALENDAR