BEGIN:VCALENDAR
VERSION:2.0
PRODID:-//Metro Parks - Central Ohio Park System - ECPv6.15.16.1//NONSGML v1.0//EN
CALSCALE:GREGORIAN
METHOD:PUBLISH
X-WR-CALNAME:Metro Parks - Central Ohio Park System
X-ORIGINAL-URL:https://www.metroparks.net
X-WR-CALDESC:Events for Metro Parks - Central Ohio Park System
REFRESH-INTERVAL;VALUE=DURATION:PT1H
X-Robots-Tag:noindex
X-PUBLISHED-TTL:PT1H
BEGIN:VTIMEZONE
TZID:America/New_York
BEGIN:DAYLIGHT
TZOFFSETFROM:-0500
TZOFFSETTO:-0400
TZNAME:EDT
DTSTART:20240310T070000
END:DAYLIGHT
BEGIN:STANDARD
TZOFFSETFROM:-0400
TZOFFSETTO:-0500
TZNAME:EST
DTSTART:20241103T060000
END:STANDARD
BEGIN:DAYLIGHT
TZOFFSETFROM:-0500
TZOFFSETTO:-0400
TZNAME:EDT
DTSTART:20250309T070000
END:DAYLIGHT
BEGIN:STANDARD
TZOFFSETFROM:-0400
TZOFFSETTO:-0500
TZNAME:EST
DTSTART:20251102T060000
END:STANDARD
BEGIN:DAYLIGHT
TZOFFSETFROM:-0500
TZOFFSETTO:-0400
TZNAME:EDT
DTSTART:20260308T070000
END:DAYLIGHT
BEGIN:STANDARD
TZOFFSETFROM:-0400
TZOFFSETTO:-0500
TZNAME:EST
DTSTART:20261101T060000
END:STANDARD
END:VTIMEZONE
BEGIN:VEVENT
DTSTART;TZID=America/New_York:20250416T100000
DTEND;TZID=America/New_York:20250416T110000
DTSTAMP:20260424T062149
CREATED:20250331T120450Z
LAST-MODIFIED:20250331T120450Z
UID:10002611-1744797600-1744801200@www.metroparks.net
SUMMARY:Preschool: All About Eggs
DESCRIPTION:The Easter Bunny is not the only one leaving eggs outside\, there’s lot of animals who lay eggs in spring. Come learn about the many eggs that you can find at the park with us! We will enjoy a story\, a discovery table\, a craft\, and a short hike.\nThis program is geared for ages 3-6. Meet at the barn shelter\, rain or shine!
URL:https://www.metroparks.net/event/preschool-all-about-eggs/2025-04-16/1/
LOCATION:Homestead\, 4675 Cosgray Road\, Hilliard\, OH\, 43026\, United States
END:VEVENT
BEGIN:VEVENT
DTSTART;TZID=America/New_York:20250416T130000
DTEND;TZID=America/New_York:20250416T140000
DTSTAMP:20260424T062149
CREATED:20250324T133520Z
LAST-MODIFIED:20250324T133520Z
UID:10002528-1744808400-1744812000@www.metroparks.net
SUMMARY:Metro Parks Hiking Club: Fitness Hikes
DESCRIPTION:Hike 2 or 4 mi. on grave and natural surface trails. Moderate pace. Stairs and hills.
URL:https://www.metroparks.net/event/metro-parks-hiking-club-fitness-hikes-3/2025-04-16/
LOCATION:Blendon Woods\, 4265 E Dublin Granville Road\, Columbus\, 43081\, United States
END:VEVENT
BEGIN:VEVENT
DTSTART;TZID=America/New_York:20250416T130000
DTEND;TZID=America/New_York:20250416T140000
DTSTAMP:20260424T062149
CREATED:20250331T120450Z
LAST-MODIFIED:20250331T120450Z
UID:10002612-1744808400-1744812000@www.metroparks.net
SUMMARY:Preschool: All About Eggs
DESCRIPTION:The Easter Bunny is not the only one leaving eggs outside\, there’s lot of animals who lay eggs in spring. Come learn about the many eggs that you can find at the park with us! We will enjoy a story\, a discovery table\, a craft\, and a short hike.\nThis program is geared for ages 3-6. Meet at the barn shelter\, rain or shine!
URL:https://www.metroparks.net/event/preschool-all-about-eggs/2025-04-16/2/
LOCATION:Homestead\, 4675 Cosgray Road\, Hilliard\, OH\, 43026\, United States
END:VEVENT
END:VCALENDAR