BEGIN:VCALENDAR
VERSION:2.0
PRODID:-//Metro Parks - Central Ohio Park System - ECPv6.15.16.1//NONSGML v1.0//EN
CALSCALE:GREGORIAN
METHOD:PUBLISH
X-WR-CALNAME:Metro Parks - Central Ohio Park System
X-ORIGINAL-URL:https://www.metroparks.net
X-WR-CALDESC:Events for Metro Parks - Central Ohio Park System
REFRESH-INTERVAL;VALUE=DURATION:PT1H
X-Robots-Tag:noindex
X-PUBLISHED-TTL:PT1H
BEGIN:VTIMEZONE
TZID:America/New_York
BEGIN:DAYLIGHT
TZOFFSETFROM:-0500
TZOFFSETTO:-0400
TZNAME:EDT
DTSTART:20240310T070000
END:DAYLIGHT
BEGIN:STANDARD
TZOFFSETFROM:-0400
TZOFFSETTO:-0500
TZNAME:EST
DTSTART:20241103T060000
END:STANDARD
BEGIN:DAYLIGHT
TZOFFSETFROM:-0500
TZOFFSETTO:-0400
TZNAME:EDT
DTSTART:20250309T070000
END:DAYLIGHT
BEGIN:STANDARD
TZOFFSETFROM:-0400
TZOFFSETTO:-0500
TZNAME:EST
DTSTART:20251102T060000
END:STANDARD
BEGIN:DAYLIGHT
TZOFFSETFROM:-0500
TZOFFSETTO:-0400
TZNAME:EDT
DTSTART:20260308T070000
END:DAYLIGHT
BEGIN:STANDARD
TZOFFSETFROM:-0400
TZOFFSETTO:-0500
TZNAME:EST
DTSTART:20261101T060000
END:STANDARD
END:VTIMEZONE
BEGIN:VEVENT
DTSTART;TZID=America/New_York:20250422T140000
DTEND;TZID=America/New_York:20250422T150000
DTSTAMP:20260424T062150
CREATED:20250325T142411Z
LAST-MODIFIED:20250325T142411Z
UID:10002565-1745330400-1745334000@www.metroparks.net
SUMMARY:Dating Darters
DESCRIPTION:Come check out how colorful our small fish can get as we do our own dance in the water to catch some darters during their breeding season. Closed toed shoes required. Meet at the Ranger Station\, 1775 Darby Creek Dr.
URL:https://www.metroparks.net/event/dating-darters-2/
LOCATION:Battelle Darby Creek\, 1775 Darby Creek Drive\, Galloway\, OH\, 43119\, United States
ATTACH;FMTTYPE=image/jpeg:https://www.metroparks.net/wp-content/uploads/2022/05/1000px-banded-darter.jpg
END:VEVENT
BEGIN:VEVENT
DTSTART;TZID=America/New_York:20250422T140000
DTEND;TZID=America/New_York:20250422T190000
DTSTAMP:20260424T062150
CREATED:20250328T122444Z
LAST-MODIFIED:20250328T122444Z
UID:10002579-1745330400-1745348400@www.metroparks.net
SUMMARY:Earth Day-Upcycling
DESCRIPTION:Celebrate Earth Day and learn about how upcycling can help reduce and reuse. Visitors can make their own reusable shopping bag (while supplies last)\, play some games\, and meet a local artist who uses recycled/found objects.
URL:https://www.metroparks.net/event/earth-day-upcycling/
LOCATION:Sharon Woods\, 6911 Cleveland Ave.\, Columbus\, OH\, 43081\, United States
END:VEVENT
BEGIN:VEVENT
DTSTART;TZID=America/New_York:20250422T150000
DTEND;TZID=America/New_York:20250422T170000
DTSTAMP:20260424T062150
CREATED:20250331T120547Z
LAST-MODIFIED:20250331T120547Z
UID:10002613-1745334000-1745341200@www.metroparks.net
SUMMARY:Earth Day Extravaganza
DESCRIPTION:Celebrate Earth Day with us by making some fun crafts to celebrate the Earth! We will have kid friendly and adult friendly crafts. Get outside and celebrate our favorite planet!\nThis program is geared for all ages. Meet at the Lakeside Pavilion\, rain or shine!
URL:https://www.metroparks.net/event/earth-day-extravaganza/
LOCATION:Homestead\, 4675 Cosgray Road\, Hilliard\, OH\, 43026\, United States
END:VEVENT
BEGIN:VEVENT
DTSTART;TZID=America/New_York:20250422T173000
DTEND;TZID=America/New_York:20250422T183000
DTSTAMP:20260424T062150
CREATED:20250328T124209Z
LAST-MODIFIED:20250328T124209Z
UID:10002601-1745343000-1745346600@www.metroparks.net
SUMMARY:Earth Day Trot!
DESCRIPTION:Join us for a fast paced hike at Walnut Woods Metro Park this Earth Day! Enjoy the beauty of the Tall Pines area while getting your steps in for the day!! We will hike approx. 2+ miles depending on group preference. Trail is mostly paved and flat. Dog friendly!
URL:https://www.metroparks.net/event/earth-day-trot/
LOCATION:Walnut Woods\, 6723 Lithopolis Rd\, Groveport\, OH\, 43125\, United States
END:VEVENT
END:VCALENDAR