BEGIN:VCALENDAR
VERSION:2.0
PRODID:-//Metro Parks - Central Ohio Park System - ECPv6.15.16.1//NONSGML v1.0//EN
CALSCALE:GREGORIAN
METHOD:PUBLISH
X-WR-CALNAME:Metro Parks - Central Ohio Park System
X-ORIGINAL-URL:https://www.metroparks.net
X-WR-CALDESC:Events for Metro Parks - Central Ohio Park System
REFRESH-INTERVAL;VALUE=DURATION:PT1H
X-Robots-Tag:noindex
X-PUBLISHED-TTL:PT1H
BEGIN:VTIMEZONE
TZID:America/New_York
BEGIN:DAYLIGHT
TZOFFSETFROM:-0500
TZOFFSETTO:-0400
TZNAME:EDT
DTSTART:20240310T070000
END:DAYLIGHT
BEGIN:STANDARD
TZOFFSETFROM:-0400
TZOFFSETTO:-0500
TZNAME:EST
DTSTART:20241103T060000
END:STANDARD
BEGIN:DAYLIGHT
TZOFFSETFROM:-0500
TZOFFSETTO:-0400
TZNAME:EDT
DTSTART:20250309T070000
END:DAYLIGHT
BEGIN:STANDARD
TZOFFSETFROM:-0400
TZOFFSETTO:-0500
TZNAME:EST
DTSTART:20251102T060000
END:STANDARD
BEGIN:DAYLIGHT
TZOFFSETFROM:-0500
TZOFFSETTO:-0400
TZNAME:EDT
DTSTART:20260308T070000
END:DAYLIGHT
BEGIN:STANDARD
TZOFFSETFROM:-0400
TZOFFSETTO:-0500
TZNAME:EST
DTSTART:20261101T060000
END:STANDARD
END:VTIMEZONE
BEGIN:VEVENT
DTSTART;TZID=America/New_York:20250423T160000
DTEND;TZID=America/New_York:20250423T180000
DTSTAMP:20260424T062150
CREATED:20250331T120649Z
LAST-MODIFIED:20250331T120649Z
UID:10002614-1745424000-1745431200@www.metroparks.net
SUMMARY:Ohio Native Plants
DESCRIPTION:Learn about the importance of native plants\, identifying invasive plants\, and even take home some natives to help your house blossom!\nThis program is geared for ages 12 and up. Meet at the shelter house\, rain or shine!
URL:https://www.metroparks.net/event/ohio-native-plants/
LOCATION:Glacier Ridge\, 9801 Hyland Croy\, Plain City\, OH\, 43064\, United States
END:VEVENT
BEGIN:VEVENT
DTSTART;TZID=America/New_York:20250423T170000
DTEND;TZID=America/New_York:20250423T183000
DTSTAMP:20260424T062150
CREATED:20250324T133035Z
LAST-MODIFIED:20250324T133035Z
UID:10002524-1745427600-1745433000@www.metroparks.net
SUMMARY:For Adults: Wildflower Walk
DESCRIPTION:Take a 2-mile walk through the park to search for a variety of spring flowers. Ages 16+.
URL:https://www.metroparks.net/event/for-adults-wildflower-walk-2/
LOCATION:Blendon Woods\, 4265 E Dublin Granville Road\, Columbus\, 43081\, United States
END:VEVENT
BEGIN:VEVENT
DTSTART;TZID=America/New_York:20250423T180000
DTEND;TZID=America/New_York:20250423T190000
DTSTAMP:20260424T062150
CREATED:20250328T124422Z
LAST-MODIFIED:20250328T124422Z
UID:10002602-1745431200-1745434800@www.metroparks.net
SUMMARY:Evening Hike to the Waterfall
DESCRIPTION:Join us for a hike to see the waterfall at Quarry Trails Metro Park! The hike will be approx. 1.5 miles\, on paved trail with some incline. We will meet at the Lake Area\, use address 2319 Quarry Trails Drive.
URL:https://www.metroparks.net/event/evening-hike-to-the-waterfall/
LOCATION:Quarry Trails\, 2600 Dublin Road\, Columbus\, OH\, 43228\, United States
ATTACH;FMTTYPE=image/jpeg:https://www.metroparks.net/wp-content/uploads/2021/02/Waterfall-of-Milliken-Creek-in-summer.jpg
END:VEVENT
BEGIN:VEVENT
DTSTART;TZID=America/New_York:20250423T190000
DTEND;TZID=America/New_York:20250423T203000
DTSTAMP:20260424T062150
CREATED:20250324T142009Z
LAST-MODIFIED:20250324T142009Z
UID:10002549-1745434800-1745440200@www.metroparks.net
SUMMARY:Evening Bluebell Walk
DESCRIPTION:Learn about the natural history of Virginia bluebells and other spring wildflowers on a 1-mile walk. Please wear shoes or boots suitable for muddy\, slippery walking. No pets\, please. Meets at Three Creeks Confluence Area bulletin board\, 3860 Bixby Rd\, Groveport. Please note that the bluebell bloom time varies from year-to-year so we may or may not see lots of blooming flowers!
URL:https://www.metroparks.net/event/evening-bluebell-walk/
LOCATION:Three Creeks\, 3860 Bixby Road\, Groveport\, OH\, 43125\, United States
ATTACH;FMTTYPE=image/jpeg:https://www.metroparks.net/wp-content/uploads/2015/01/THC_bluebell-trail_C-Hughes.jpg
END:VEVENT
END:VCALENDAR