BEGIN:VCALENDAR
VERSION:2.0
PRODID:-//Metro Parks - Central Ohio Park System - ECPv6.15.16.1//NONSGML v1.0//EN
CALSCALE:GREGORIAN
METHOD:PUBLISH
X-WR-CALNAME:Metro Parks - Central Ohio Park System
X-ORIGINAL-URL:https://www.metroparks.net
X-WR-CALDESC:Events for Metro Parks - Central Ohio Park System
REFRESH-INTERVAL;VALUE=DURATION:PT1H
X-Robots-Tag:noindex
X-PUBLISHED-TTL:PT1H
BEGIN:VTIMEZONE
TZID:America/New_York
BEGIN:DAYLIGHT
TZOFFSETFROM:-0500
TZOFFSETTO:-0400
TZNAME:EDT
DTSTART:20240310T070000
END:DAYLIGHT
BEGIN:STANDARD
TZOFFSETFROM:-0400
TZOFFSETTO:-0500
TZNAME:EST
DTSTART:20241103T060000
END:STANDARD
BEGIN:DAYLIGHT
TZOFFSETFROM:-0500
TZOFFSETTO:-0400
TZNAME:EDT
DTSTART:20250309T070000
END:DAYLIGHT
BEGIN:STANDARD
TZOFFSETFROM:-0400
TZOFFSETTO:-0500
TZNAME:EST
DTSTART:20251102T060000
END:STANDARD
BEGIN:DAYLIGHT
TZOFFSETFROM:-0500
TZOFFSETTO:-0400
TZNAME:EDT
DTSTART:20260308T070000
END:DAYLIGHT
BEGIN:STANDARD
TZOFFSETFROM:-0400
TZOFFSETTO:-0500
TZNAME:EST
DTSTART:20261101T060000
END:STANDARD
END:VTIMEZONE
BEGIN:VEVENT
DTSTART;TZID=America/New_York:20250426T080000
DTEND;TZID=America/New_York:20250426T093000
DTSTAMP:20260424T063412
CREATED:20250325T142256Z
LAST-MODIFIED:20250325T142256Z
UID:10002563-1745654400-1745659800@www.metroparks.net
SUMMARY:Birding Hike
DESCRIPTION:Enjoy a morning of spring birding on this 1.5-mile hike. All experience levels welcome. Limited supply of binoculars available to borrow. Trail is a mixture of unimproved and crushed gravel. Meet at the Indian Ridge Bulletin Board\, 2705 Darby Creek Dr.
URL:https://www.metroparks.net/event/birding-hike/
LOCATION:Battelle Darby Creek\, 1775 Darby Creek Drive\, Galloway\, OH\, 43119\, United States
END:VEVENT
BEGIN:VEVENT
DTSTART;TZID=America/New_York:20250426T090000
DTEND;TZID=America/New_York:20250426T220000
DTSTAMP:20260424T063412
CREATED:20250324T130154Z
LAST-MODIFIED:20250324T130154Z
UID:10002514-1745658000-1745704800@www.metroparks.net
SUMMARY:Migratory Bird Hike
DESCRIPTION:Search the forest for migrating songbirds like warblers\, vireos\, tanagers and more on this 1.5-mile hike.
URL:https://www.metroparks.net/event/migratory-bird-hike/
LOCATION:Blacklick Woods\, 6975 East Livingston Ave\, Reynoldsburg\, OH\, 43068\, United States
ATTACH;FMTTYPE=image/jpeg:https://www.metroparks.net/wp-content/uploads/2021/04/scarlet-tanager-3_B-Miller.jpg
END:VEVENT
BEGIN:VEVENT
DTSTART;TZID=America/New_York:20250426T100000
DTEND;TZID=America/New_York:20250426T110000
DTSTAMP:20260424T063412
CREATED:20250328T124646Z
LAST-MODIFIED:20250328T124646Z
UID:10002605-1745661600-1745665200@www.metroparks.net
SUMMARY:Adventure 101: Backpacking with your Dog
DESCRIPTION:Want to learn some tips and tricks for backpacking with your dog? Join us for this Adventure 101 class to learn how to safely explore with your pup! Dogs are welcome at this program! Meet at the Arrowhead Picnic Area at Scioto Grove Metro Park.
URL:https://www.metroparks.net/event/adventure-101-backpacking-with-your-dog/
LOCATION:Scioto Grove\, 5172 Jackson Pike\, Grove City\, OH\, 43123\, United States
END:VEVENT
BEGIN:VEVENT
DTSTART;TZID=America/New_York:20250426T130000
DTEND;TZID=America/New_York:20250426T140000
DTSTAMP:20260424T063412
CREATED:20250328T131126Z
LAST-MODIFIED:20250328T131126Z
UID:10002607-1745672400-1745676000@www.metroparks.net
SUMMARY:Spring Craft
DESCRIPTION:Stop in at the Lobby at the Park Office to make a spring craft!\nUse address 2600 Dublin Road Columbus OH 43228 and follow the roadway towards the dog park. When the road forces you to turn left the lobby will be on your left. The Lobby is open 9am-7pm.
URL:https://www.metroparks.net/event/spring-craft/
LOCATION:Quarry Trails\, 2600 Dublin Road\, Columbus\, OH\, 43228\, United States
END:VEVENT
BEGIN:VEVENT
DTSTART;TZID=America/New_York:20250426T130000
DTEND;TZID=America/New_York:20250426T143000
DTSTAMP:20260424T063412
CREATED:20250328T123638Z
LAST-MODIFIED:20250328T123638Z
UID:10002595-1745672400-1745677800@www.metroparks.net
SUMMARY:Backpacking Series: Week 5- Prep\, Safety and Outdoor Ethics
DESCRIPTION:Join us for a 6-week long series of interactive classes designed as an introduction to backpacking\, building up to an overnight trip at the end!\nAttendance at all classes is NOT required – however the overnight trip will only be open to those who attend at least one class.\n**Each weeks topic will have two dates to choose from in that week so participants can pick the day that works best for them to attend\, you don’t need to attend both dates in the week.\nWeek #5: Prep\, Safety and Outdoor Ethics. We will learn how to minimize the impact to our environment during this class\, and will prepare for our upcoming overnight trip! Plan for a short hike during this class\nMeet at Arrowhead Picnic Shelter at Scioto Grove Metro Park
URL:https://www.metroparks.net/event/backpacking-series-week-5-prep-safety-and-outdoor-ethics/2025-04-26/
LOCATION:Scioto Grove\, 5172 Jackson Pike\, Grove City\, OH\, 43123\, United States
END:VEVENT
BEGIN:VEVENT
DTSTART;TZID=America/New_York:20250426T130000
DTEND;TZID=America/New_York:20250426T150000
DTSTAMP:20260424T063412
CREATED:20250324T141740Z
LAST-MODIFIED:20250324T141740Z
UID:10002548-1745672400-1745679600@www.metroparks.net
SUMMARY:Sheep on the Farm
DESCRIPTION:Ongoing between 1-3pm\nWatch sheep shearing\, meet the lambs\, and learn about the uses of wool.
URL:https://www.metroparks.net/event/sheep-on-the-farm-2/2025-04-26/
LOCATION:Slate Run Living Historical Farm\, 1375 OH-674\, Canal Winchester\, OH\, 43110\, United States
END:VEVENT
BEGIN:VEVENT
DTSTART;TZID=America/New_York:20250426T160000
DTEND;TZID=America/New_York:20250426T180000
DTSTAMP:20260424T063412
CREATED:20250324T132806Z
LAST-MODIFIED:20250324T132806Z
UID:10002522-1745683200-1745690400@www.metroparks.net
SUMMARY:City Nature Challenge
DESCRIPTION:Join us as we search for amazing things! The City Nature Challenge is a worldwide event that has been running for 10 years. Columbus will compete with other cities to see who can find the most species. Download the iNaturalist app if you would like to add your own observations to the project.
URL:https://www.metroparks.net/event/city-nature-challenge/
LOCATION:Blendon Woods\, 4265 E Dublin Granville Road\, Columbus\, 43081\, United States
END:VEVENT
END:VCALENDAR