BEGIN:VCALENDAR
VERSION:2.0
PRODID:-//Metro Parks - Central Ohio Park System - ECPv6.15.16.1//NONSGML v1.0//EN
CALSCALE:GREGORIAN
METHOD:PUBLISH
X-ORIGINAL-URL:https://www.metroparks.net
X-WR-CALDESC:Events for Metro Parks - Central Ohio Park System
REFRESH-INTERVAL;VALUE=DURATION:PT1H
X-Robots-Tag:noindex
X-PUBLISHED-TTL:PT1H
BEGIN:VTIMEZONE
TZID:America/New_York
BEGIN:DAYLIGHT
TZOFFSETFROM:-0500
TZOFFSETTO:-0400
TZNAME:EDT
DTSTART:20240310T070000
END:DAYLIGHT
BEGIN:STANDARD
TZOFFSETFROM:-0400
TZOFFSETTO:-0500
TZNAME:EST
DTSTART:20241103T060000
END:STANDARD
BEGIN:DAYLIGHT
TZOFFSETFROM:-0500
TZOFFSETTO:-0400
TZNAME:EDT
DTSTART:20250309T070000
END:DAYLIGHT
BEGIN:STANDARD
TZOFFSETFROM:-0400
TZOFFSETTO:-0500
TZNAME:EST
DTSTART:20251102T060000
END:STANDARD
BEGIN:DAYLIGHT
TZOFFSETFROM:-0500
TZOFFSETTO:-0400
TZNAME:EDT
DTSTART:20260308T070000
END:DAYLIGHT
BEGIN:STANDARD
TZOFFSETFROM:-0400
TZOFFSETTO:-0500
TZNAME:EST
DTSTART:20261101T060000
END:STANDARD
END:VTIMEZONE
BEGIN:VEVENT
DTSTART;TZID=America/New_York:20250503T080000
DTEND;TZID=America/New_York:20250503T100000
DTSTAMP:20260424T062334
CREATED:20250418T132600Z
LAST-MODIFIED:20250418T132600Z
UID:10002637-1746259200-1746266400@www.metroparks.net
SUMMARY:Birding And Breakfast
DESCRIPTION:Join us for a potluck breakfast at the picnic shelter then go bird watching after. Beginners to experts are welcome to participate and we’ll have some loaner binoculars available. If you are able\, please bring a breakfast dish to share with the group. If you’ve never done birding and breakfast before\, it’s great fun! Meets at the Three Creeks Confluence Area picnic shelter\, 3860 Bixby Road\, Groveport
URL:https://www.metroparks.net/event/birding-and-breakfast-2/
LOCATION:Three Creeks\, 3860 Bixby Road\, Groveport\, OH\, 43125\, United States
END:VEVENT
BEGIN:VEVENT
DTSTART;TZID=America/New_York:20250503T080000
DTEND;TZID=America/New_York:20250503T160000
DTSTAMP:20260424T062334
CREATED:20250418T132520Z
LAST-MODIFIED:20250418T132640Z
UID:10002636-1746259200-1746288000@www.metroparks.net
SUMMARY:Spring Plant Sale
DESCRIPTION:Purchase plants for your garden. A selection of perennial plants and herbs for sale. Must-have natives\, new varieties and old favorites. Best selection available on Saturday. Sponsored by The Inniswood Volunteers\, Inc. and the Herb Society of America\, Central Ohio Unit.
URL:https://www.metroparks.net/event/spring-plant-sale/2025-05-03/
LOCATION:Inniswood Metro Gardens\, 940 S. Hempstead Rd.\, Westerville\, OH\, 43081\, United States
END:VEVENT
BEGIN:VEVENT
DTSTART;TZID=America/New_York:20250503T090000
DTEND;TZID=America/New_York:20250503T103000
DTSTAMP:20260424T062334
CREATED:20250428T131845Z
LAST-MODIFIED:20250428T131845Z
UID:10002670-1746262800-1746268200@www.metroparks.net
SUMMARY:Spring Migration Bird Hike
DESCRIPTION:Search the trails for migrating songbirds like warblers\, vireos\, tanagers and more on this 1.25-mile guided hike.
URL:https://www.metroparks.net/event/spring-migration-bird-hike/2025-05-03/
LOCATION:Blacklick Woods\, 6975 East Livingston Ave\, Reynoldsburg\, OH\, 43068\, United States
ATTACH;FMTTYPE=image/jpeg:https://www.metroparks.net/wp-content/uploads/2018/04/980px-yellow-throated-HBK.jpg
END:VEVENT
BEGIN:VEVENT
DTSTART;TZID=America/New_York:20250503T103000
DTEND;TZID=America/New_York:20250503T180000
DTSTAMP:20260424T062334
CREATED:20250501T130519Z
LAST-MODIFIED:20250501T130519Z
UID:10002708-1746268200-1746295200@www.metroparks.net
SUMMARY:Central Ohio Folk Festival
DESCRIPTION:Two day event celebrating folk music!\nMore info at:https://www.columbusfolkmusicsociety.org/festival.html\nSaturday May 3\n1030-6pm Festival & activities\n7-930pm- Richard Shindell\nA two day family-friendly festival featuring multiple performing stages presenting an array of upbeat folk/roots/Americana music\, kids’ & youth programming\, and 30+ music workshops (all levels). \nFestival highlights: \n35 performances on 3 stages featuring an invigorating mix of folk/roots/Americana music. Attendees will experience a sweeping range of genres — from singer-songwriter\, old-time\, bluegrass\, blues\, Irish\, Celtic\, and Americana\, to neo-country\, progressive stringband\, reggae\, and even an improv jam band featuring some of the festival artists. In typical folk style\, the songs and lyrical themes often reflect the struggles and triumphs of everyday people.\nA giant folk music sing-along will open the festival at 11 am Saturday with a focus on songs by well known folk heroes (think John Prine\, Bob Marley\, Simon and Garfunkel\, and Bob Dylan)\, plus a poignant song circle will close the fest on Sunday.\n30+ music workshops covering all levels. Just a few topic examples: songwriting\, fiddle\, Appalachian dulcimer\, guitar\, mandolin\, and banjo. There are even beginner workshops with loaner instruments available.\nOur Youth Folk Tent serves kids and youth with music\, storytelling\, and workshops. Workshop offerings include making a drum out of wooden box frames (and using them)!\nThe festival also features an “Instrument Petting Zoo” — an in-demand favorite — where children can try out various folk instruments. There are also hands-on arts and crafts for kids. Plus…festival mascot Darby Duck will be on hand to charm the young and young-at-heart.\n2 drum circles where everyone\, young and old alike\, is invited to pound on a drum or other rhythm instrument to a mesmerizing beat.\nOngoing open jam tents\, each with a different thrust: bluegrass\, old-time\, folk-mix\, pure song\, and one dedicated to encouraging the beginner.\nSunday opens with an 11 am performance by Mark Hunter (aka C LA C I)\, known and acclaimed locally as the lead singer for The Ark Band. He’ll be bringing everyone together at the festival’s “Songs of the Spirit” slot\, presenting acoustic roots storytelling music — reggae style.\nThe festival offers a festival store\, beer gardens featuring Nocterra craft beer\, and food trucks on site. \nThe variety of choices is mind-blowing! Saturday and Sunday afternoons\, at any one time\, festival-goers will have their choice of attending any one of more than a dozen different activities: a true embarrassment of riches! So many choices\, so little time!\nProduced by –– The Columbus Folk Music Society in cooperation with The Metro Parks. Co-sponsored by WCBE 90.5 FM\nMeeting location notes: Big Meadows Picnic Area Big Meadows picnic area is at the back of the park. After you enter the park\, take the main road down the hill. At the bottom of the hill\, take the ROAD on the LEFT. Park in the lot with a playground. Meet near restrooms.
URL:https://www.metroparks.net/event/central-ohio-folk-festival-3/2025-05-03/
LOCATION:Highbanks\, 9466 Columbus Pike (US Rt 23 N)\, Lewis Center\, OH\, 43035\, United States
END:VEVENT
BEGIN:VEVENT
DTSTART;TZID=America/New_York:20250503T130000
DTEND;TZID=America/New_York:20250503T143000
DTSTAMP:20260424T062334
CREATED:20250328T123733Z
LAST-MODIFIED:20250328T123733Z
UID:10002597-1746277200-1746282600@www.metroparks.net
SUMMARY:Backpacking Series: Week 6 - Shakedown Hike
DESCRIPTION:Are you wanting to learn more about backpacking? Join us for a 6-week long series of interactive classes designed as an introduction to backpacking\, building up to an overnight trip at the end! Attendance at all classes is NOT required – however the overnight trip will only be open to those who attend at least one class. Each weeks topic will have two dates to choose from in that week so participants can pick the day that works best for them to attend\, you don’t need to attend both dates in the week. Meet at Arrowhead Picnic area at Scioto Grove Metro Park \nThis week we will be going on a backpacking preparation hike! Expect the hike to be approx. a mile in length. Bring a pack and equipment to test your strength and endurance on the trail in a real life backpacking senario! Meet at the Arrowhead Picnic Area at Scioto Grove Metro Park.
URL:https://www.metroparks.net/event/backpacking-series-week-6-shakedown-hike-2/2025-05-03/
LOCATION:Scioto Grove\, 5172 Jackson Pike\, Grove City\, OH\, 43123\, United States
END:VEVENT
BEGIN:VEVENT
DTSTART;TZID=America/New_York:20250503T130000
DTEND;TZID=America/New_York:20250503T150000
DTSTAMP:20260424T062334
CREATED:20250501T130423Z
LAST-MODIFIED:20250501T130423Z
UID:10002707-1746277200-1746284400@www.metroparks.net
SUMMARY:Heirloom Gardening
DESCRIPTION:Ongoing from 1-3pm.\nLearn about the preservation of antique plant varieties and help plant the garden\, weather permitting.
URL:https://www.metroparks.net/event/heirloom-gardening-2/
LOCATION:Slate Run Living Historical Farm\, 1375 OH-674\, Canal Winchester\, OH\, 43110\, United States
END:VEVENT
END:VCALENDAR