BEGIN:VCALENDAR
VERSION:2.0
PRODID:-//Metro Parks - Central Ohio Park System - ECPv6.15.16.1//NONSGML v1.0//EN
CALSCALE:GREGORIAN
METHOD:PUBLISH
X-WR-CALNAME:Metro Parks - Central Ohio Park System
X-ORIGINAL-URL:https://www.metroparks.net
X-WR-CALDESC:Events for Metro Parks - Central Ohio Park System
REFRESH-INTERVAL;VALUE=DURATION:PT1H
X-Robots-Tag:noindex
X-PUBLISHED-TTL:PT1H
BEGIN:VTIMEZONE
TZID:America/New_York
BEGIN:DAYLIGHT
TZOFFSETFROM:-0500
TZOFFSETTO:-0400
TZNAME:EDT
DTSTART:20240310T070000
END:DAYLIGHT
BEGIN:STANDARD
TZOFFSETFROM:-0400
TZOFFSETTO:-0500
TZNAME:EST
DTSTART:20241103T060000
END:STANDARD
BEGIN:DAYLIGHT
TZOFFSETFROM:-0500
TZOFFSETTO:-0400
TZNAME:EDT
DTSTART:20250309T070000
END:DAYLIGHT
BEGIN:STANDARD
TZOFFSETFROM:-0400
TZOFFSETTO:-0500
TZNAME:EST
DTSTART:20251102T060000
END:STANDARD
BEGIN:DAYLIGHT
TZOFFSETFROM:-0500
TZOFFSETTO:-0400
TZNAME:EDT
DTSTART:20260308T070000
END:DAYLIGHT
BEGIN:STANDARD
TZOFFSETFROM:-0400
TZOFFSETTO:-0500
TZNAME:EST
DTSTART:20261101T060000
END:STANDARD
END:VTIMEZONE
BEGIN:VEVENT
DTSTART;TZID=America/New_York:20250906T090000
DTEND;TZID=America/New_York:20250906T100000
DTSTAMP:20260424T151607
CREATED:20250825T123405Z
LAST-MODIFIED:20250825T123405Z
UID:10003191-1757149200-1757152800@www.metroparks.net
SUMMARY:Blacklick Hiking Club
DESCRIPTION:Join the hiking club! Meet the first Saturday of every month for a moderately-paced hike and to meet like-minded people.
URL:https://www.metroparks.net/event/blacklick-hiking-club/
LOCATION:Blacklick Woods\, 6975 East Livingston Ave\, Reynoldsburg\, OH\, 43068\, United States
END:VEVENT
BEGIN:VEVENT
DTSTART;TZID=America/New_York:20250906T100000
DTEND;TZID=America/New_York:20250906T120000
DTSTAMP:20260424T151607
CREATED:20250825T123556Z
LAST-MODIFIED:20250825T123556Z
UID:10003193-1757152800-1757160000@www.metroparks.net
SUMMARY:Grandparents & Grandkids on the Farm: Meet the Animals
DESCRIPTION:Program ongoing between 10am- noon\nJoin us for an opportunity for grandparents and grandkids to explore the farm together and meet\nthe animals. (Nieces/nephews and borrowed grandchildren will work too)
URL:https://www.metroparks.net/event/grandparents-grandkids-on-the-farm-meet-the-animals-2/
LOCATION:Slate Run Living Historical Farm\, 1375 OH-674\, Canal Winchester\, OH\, 43110\, United States
END:VEVENT
BEGIN:VEVENT
DTSTART;TZID=America/New_York:20250906T110000
DTEND;TZID=America/New_York:20250906T140000
DTSTAMP:20260424T151607
CREATED:20250825T123726Z
LAST-MODIFIED:20250825T123726Z
UID:10003194-1757156400-1757167200@www.metroparks.net
SUMMARY:I-Spy Trail
DESCRIPTION:Test your observation skills along the paved lake trail! See if you can spot all of the critters hidden in the woods.
URL:https://www.metroparks.net/event/i-spy-trail-2/
LOCATION:Blendon Woods\, 4265 E Dublin Granville Road\, Columbus\, 43081\, United States
END:VEVENT
BEGIN:VEVENT
DTSTART;TZID=America/New_York:20250906T120000
DTEND;TZID=America/New_York:20250906T123000
DTSTAMP:20260424T151607
CREATED:20250825T121951Z
LAST-MODIFIED:20250825T121951Z
UID:10003175-1757160000-1757161800@www.metroparks.net
SUMMARY:Bye-Bye Butterflies
DESCRIPTION:Learn about the epic migration undertaken by monarch butterflies\, the perils the face along the way\, what you can do you help them on their journey\, and watch as we tag and release any that are ready to migrate.
URL:https://www.metroparks.net/event/bye-bye-butterflies/2025-09-06/
LOCATION:Blendon Woods\, 4265 E Dublin Granville Road\, Columbus\, 43081\, United States
END:VEVENT
BEGIN:VEVENT
DTSTART;TZID=America/New_York:20250906T130000
DTEND;TZID=America/New_York:20250906T140000
DTSTAMP:20260424T151607
CREATED:20250825T123533Z
LAST-MODIFIED:20250825T123533Z
UID:10003192-1757163600-1757167200@www.metroparks.net
SUMMARY:Tram Tour
DESCRIPTION:Hop on the tram for a guided tour of Blacklick Woods.
URL:https://www.metroparks.net/event/tram-tour-2/
LOCATION:Blacklick Woods\, 6975 East Livingston Ave\, Reynoldsburg\, OH\, 43068\, United States
END:VEVENT
BEGIN:VEVENT
DTSTART;TZID=America/New_York:20250906T130000
DTEND;TZID=America/New_York:20250906T150000
DTSTAMP:20260424T151607
CREATED:20250825T123851Z
LAST-MODIFIED:20250827T185552Z
UID:10003195-1757163600-1757170800@www.metroparks.net
SUMMARY:River Walk to the Giant Sycamore (hike in river)
DESCRIPTION:Walk in the water over rocks and boulders as we hike IN the Olentangy River to reach the famous Giant Sycamore tree. The tree we will be visiting is over 400 years old . This is a rugged 1.5 mile hike with varying water depth (water will be higher than rain boots) up to knee level. Closed toed shoes (water sandals\, old tennis shoes etc) are required. No flip flops. Families are welcome to bring nets or buckets to explore. Not wheelchair or stroller accessible. Participants should expect to get wet and bring towels and change of shoes for the way home. Hint: keeping an extra garbage bag in your car to sit on in case you get more wet than expected. No bathrooms at River Bluff. Age 6+ due to water levels. No registration required. Parking limited. Ages 6+ due to water levels. \nIMPORTANT: River Bluff area does NOT have restrooms or water fountains. Please bring a water bottle. Apply insect repellent before coming to the program. \n***This program is contingent on Olentangy water levels and would be postponed in the event of high water levels. This post will be updated by 12pm on the day of the program. You can also contact the Highbanks nature center after 10am the day of the program (Highbanks Nature center phone number 614-846-9962). \nMeeting location notes: River Bluff area is not located at the main area Highbanks. River Bluff entrance is located off 315 on the opposite side of the river as Highbanks main park. River Bluff Area physical address: 8400 Olentangy River Road\, Columbus OH 43235 Please call Highbanks nature center 614-846-9962 for questions prior to the day of the program. Day of program\, please call Highbanks Ranger cell phone at 614-906-3149.
URL:https://www.metroparks.net/event/river-walk-to-the-giant-sycamore-hike-in-river/
LOCATION:Highbanks River Bluff\, 8400 Olentangy River Rd.\, Columbus\, OH\, 43235\, United States
END:VEVENT
END:VCALENDAR