BEGIN:VCALENDAR
VERSION:2.0
PRODID:-//Metro Parks - Central Ohio Park System - ECPv6.15.16.1//NONSGML v1.0//EN
CALSCALE:GREGORIAN
METHOD:PUBLISH
X-ORIGINAL-URL:https://www.metroparks.net
X-WR-CALDESC:Events for Metro Parks - Central Ohio Park System
REFRESH-INTERVAL;VALUE=DURATION:PT1H
X-Robots-Tag:noindex
X-PUBLISHED-TTL:PT1H
BEGIN:VTIMEZONE
TZID:America/New_York
BEGIN:DAYLIGHT
TZOFFSETFROM:-0500
TZOFFSETTO:-0400
TZNAME:EDT
DTSTART:20240310T070000
END:DAYLIGHT
BEGIN:STANDARD
TZOFFSETFROM:-0400
TZOFFSETTO:-0500
TZNAME:EST
DTSTART:20241103T060000
END:STANDARD
BEGIN:DAYLIGHT
TZOFFSETFROM:-0500
TZOFFSETTO:-0400
TZNAME:EDT
DTSTART:20250309T070000
END:DAYLIGHT
BEGIN:STANDARD
TZOFFSETFROM:-0400
TZOFFSETTO:-0500
TZNAME:EST
DTSTART:20251102T060000
END:STANDARD
BEGIN:DAYLIGHT
TZOFFSETFROM:-0500
TZOFFSETTO:-0400
TZNAME:EDT
DTSTART:20260308T070000
END:DAYLIGHT
BEGIN:STANDARD
TZOFFSETFROM:-0400
TZOFFSETTO:-0500
TZNAME:EST
DTSTART:20261101T060000
END:STANDARD
END:VTIMEZONE
BEGIN:VEVENT
DTSTART;TZID=America/New_York:20250907T090000
DTEND;TZID=America/New_York:20250907T110000
DTSTAMP:20260424T135524
CREATED:20250825T123913Z
LAST-MODIFIED:20250825T123913Z
UID:10003196-1757235600-1757242800@www.metroparks.net
SUMMARY:Fall Migration Bird Hike
DESCRIPTION:Take a 1.25-mile hike and search the forest for migrating songbirds.
URL:https://www.metroparks.net/event/fall-migration-bird-hike-2/
LOCATION:Blacklick Woods\, 6975 East Livingston Ave\, Reynoldsburg\, OH\, 43068\, United States
END:VEVENT
BEGIN:VEVENT
DTSTART;TZID=America/New_York:20250907T090000
DTEND;TZID=America/New_York:20250907T110000
DTSTAMP:20260424T135524
CREATED:20250825T124130Z
LAST-MODIFIED:20250825T124130Z
UID:10003198-1757235600-1757242800@www.metroparks.net
SUMMARY:5-Mile Hike Alum Creek Greenway Hike
DESCRIPTION:Let’s enjoy early autumn with an almost 5-mile hike along the Alum Creek Greenway. We’ll get some exercise and make an occasional stop for water or if we see anything interesting. Wear comfortable shoes and bring water. Meets at the Three Creeks Heron Pond Area bulletin board\, 3400 Williams Rd.
URL:https://www.metroparks.net/event/5-mile-hike-alum-creek-greenway-hike/
LOCATION:Three Creeks\, 3860 Bixby Road\, Groveport\, OH\, 43125\, United States
END:VEVENT
BEGIN:VEVENT
DTSTART;TZID=America/New_York:20250907T090000
DTEND;TZID=America/New_York:20250907T110000
DTSTAMP:20260424T135524
CREATED:20250825T124529Z
LAST-MODIFIED:20250825T124529Z
UID:10003202-1757235600-1757242800@www.metroparks.net
SUMMARY:Grandparent's Day Paddle!
DESCRIPTION:Join us to celebrate Grandparent’s day at Quarry Trails Metro Park! Solo sit-in kayaks with a weight limit of 275 Ibs will be available for ages 10+. A couple of tandems will be available for all ages\, with an adult present in the boat! First come first serve\, all equipment and instruction provided. Use address 2319 Quarry Trails Dr\, Columbus\, OH. Please follow signage and be on the lookout for construction traffic.
URL:https://www.metroparks.net/event/grandparents-day-paddle/
LOCATION:Quarry Trails\, 2600 Dublin Road\, Columbus\, OH\, 43228\, United States
END:VEVENT
BEGIN:VEVENT
DTSTART;TZID=America/New_York:20250907T100000
DTEND;TZID=America/New_York:20250907T110000
DTSTAMP:20260424T135524
CREATED:20250825T124421Z
LAST-MODIFIED:20250825T124421Z
UID:10003201-1757239200-1757242800@www.metroparks.net
SUMMARY:Bird Hike
DESCRIPTION:Take a ~1-mile hike to look for birds. Limited supply of binoculars available\, all experience levels welcome. Ages 8+\, meet at the Indian Ridge Bulletin Board.
URL:https://www.metroparks.net/event/bird-hike/
LOCATION:Battelle Darby Creek\, 1775 Darby Creek Drive\, Galloway\, OH\, 43119\, United States
END:VEVENT
BEGIN:VEVENT
DTSTART;TZID=America/New_York:20250907T130000
DTEND;TZID=America/New_York:20250907T140000
DTSTAMP:20260424T135524
CREATED:20250226T155450Z
LAST-MODIFIED:20250226T155450Z
UID:10002455-1757250000-1757253600@www.metroparks.net
SUMMARY:For Adults: Science Sunday - The Importance of Trees
DESCRIPTION:Join Shelly Douglas from Green Columbus as we learn about how trees impact us during this session about tree equity\, the impacts of tree canopy on human health\, and community-driven initiatives in Central Ohio. Meet at Beech Maple Lodge.
URL:https://www.metroparks.net/event/for-adults-science-sunday-the-importance-of-trees/
LOCATION:Blacklick Woods\, 6975 East Livingston Ave\, Reynoldsburg\, OH\, 43068\, United States
ATTACH;FMTTYPE=image/png:https://www.metroparks.net/wp-content/uploads/2025/02/Green-Columbus.png
END:VEVENT
BEGIN:VEVENT
DTSTART;TZID=America/New_York:20250907T130000
DTEND;TZID=America/New_York:20250907T143000
DTSTAMP:20260424T135524
CREATED:20250825T114929Z
LAST-MODIFIED:20250825T114929Z
UID:10003145-1757250000-1757255400@www.metroparks.net
SUMMARY:Backpacking Series: Week 1- Four Essentials & Site Selection
DESCRIPTION:Metro Parks Outdoor Adventure Backpacking Series is BACK!!!\nAre you wanting to learn more about backpacking? Join us for a 6-week series of interactive classes designed as an introduction to backpacking\, building up to an overnight trip at the end! Attendance at all classes is NOT required – however\, the overnight trip will only be open to those who attend at least ONE class.\nEach week’s topic will have two dates to choose from in that week – you don’t need to attend both dates in the week. This series is for all ages and all backpacking abilities\, from beginner to experienced backpackers. \nWeek #1: Four Essentials & Site Selection. This week we will be discussing the 4 essentials of backpacking sleep systems as well as information about picking the proper site to spend your night in the wilderness. It is not as easy as simply pitching a tent\, but we will go through all of the steps to set you up for success! We have gear for demonstration\, but you are encouraged to bring your own.\nMeet at the Arrowhead Picnic Area at Scioto Grove Metro Park. \nFall Backpacking Series:\nWeek 1: 4 Essentials & Site Selection\nWeek 2: Water & Waste\nWeek 3: Fuel\, Fire\, & Food\nWeek 4: Clothing & Foot Care\nWeek 5: Prep\, Safety\, and Outdoor Ethics\nWeek 6: Shakedown Hike!
URL:https://www.metroparks.net/event/backpacking-series-week-1-four-essentials-site-selection-2/2025-09-07/
LOCATION:Scioto Grove\, 5172 Jackson Pike\, Grove City\, OH\, 43123\, United States
END:VEVENT
BEGIN:VEVENT
DTSTART;TZID=America/New_York:20250907T130000
DTEND;TZID=America/New_York:20250907T150000
DTSTAMP:20260424T135524
CREATED:20250825T124307Z
LAST-MODIFIED:20250825T124307Z
UID:10003199-1757250000-1757257200@www.metroparks.net
SUMMARY:Canning\, Pickling\, and Preserving
DESCRIPTION:Program begins at 1pm behind the farmhouse with a presentation about food preservation from 1-1:30 pm.\nThen watch the farm ladies demonstrate how to preserve the garden produce using traditional 19th century methods.
URL:https://www.metroparks.net/event/canning-pickling-and-preserving-2/
LOCATION:Slate Run Living Historical Farm\, 1375 OH-674\, Canal Winchester\, OH\, 43110\, United States
END:VEVENT
BEGIN:VEVENT
DTSTART;TZID=America/New_York:20250907T140000
DTEND;TZID=America/New_York:20250907T160000
DTSTAMP:20260424T135524
CREATED:20250825T124333Z
LAST-MODIFIED:20250825T124333Z
UID:10003200-1757253600-1757260800@www.metroparks.net
SUMMARY:Meet Morty
DESCRIPTION:Our newest Ambassador\, Morty the European Starling\, will be on display in the Nature Center.
URL:https://www.metroparks.net/event/meet-morty-2/
LOCATION:Blendon Woods\, 4265 E Dublin Granville Road\, Columbus\, 43081\, United States
END:VEVENT
BEGIN:VEVENT
DTSTART;TZID=America/New_York:20250907T160000
DTEND;TZID=America/New_York:20250907T170000
DTSTAMP:20260424T135524
CREATED:20250825T123946Z
LAST-MODIFIED:20250825T123946Z
UID:10003197-1757260800-1757264400@www.metroparks.net
SUMMARY:Fall Flowers
DESCRIPTION:Join a naturalist for a 1-mile hike to learn about wildflowers blooming in September.
URL:https://www.metroparks.net/event/fall-flowers/
LOCATION:Blacklick Woods\, 6975 East Livingston Ave\, Reynoldsburg\, OH\, 43068\, United States
END:VEVENT
BEGIN:VEVENT
DTSTART;TZID=America/New_York:20250907T200000
DTEND;TZID=America/New_York:20250907T220000
DTSTAMP:20260424T135524
CREATED:20250827T131249Z
LAST-MODIFIED:20250827T131249Z
UID:10003254-1757275200-1757282400@www.metroparks.net
SUMMARY:Family Full Moon Hike
DESCRIPTION:Join us for a guided night-time walk in the woods and see the forest in a way most people don’t get to experience. Trail is not suitable for strollers.
URL:https://www.metroparks.net/event/family-full-moon-hike-3/
LOCATION:Sharon Woods\, 6911 Cleveland Ave.\, Columbus\, OH\, 43081\, United States
END:VEVENT
BEGIN:VEVENT
DTSTART;TZID=America/New_York:20250907T200000
DTEND;TZID=America/New_York:20250907T220000
DTSTAMP:20260424T135524
CREATED:20250827T131349Z
LAST-MODIFIED:20250827T131349Z
UID:10003255-1757275200-1757282400@www.metroparks.net
SUMMARY:Fast-Paced Full Moon Hike
DESCRIPTION:Join us for a Fast-Paced Full Moon Hike through the night-time woods. This program is not suitable for strollers or slow walkers.
URL:https://www.metroparks.net/event/fast-paced-full-moon-hike-5/
LOCATION:Sharon Woods\, 6911 Cleveland Ave.\, Columbus\, OH\, 43081\, United States
END:VEVENT
END:VCALENDAR