BEGIN:VCALENDAR
VERSION:2.0
PRODID:-//Metro Parks - Central Ohio Park System - ECPv6.15.16.1//NONSGML v1.0//EN
CALSCALE:GREGORIAN
METHOD:PUBLISH
X-ORIGINAL-URL:https://www.metroparks.net
X-WR-CALDESC:Events for Metro Parks - Central Ohio Park System
REFRESH-INTERVAL;VALUE=DURATION:PT1H
X-Robots-Tag:noindex
X-PUBLISHED-TTL:PT1H
BEGIN:VTIMEZONE
TZID:America/New_York
BEGIN:DAYLIGHT
TZOFFSETFROM:-0500
TZOFFSETTO:-0400
TZNAME:EDT
DTSTART:20240310T070000
END:DAYLIGHT
BEGIN:STANDARD
TZOFFSETFROM:-0400
TZOFFSETTO:-0500
TZNAME:EST
DTSTART:20241103T060000
END:STANDARD
BEGIN:DAYLIGHT
TZOFFSETFROM:-0500
TZOFFSETTO:-0400
TZNAME:EDT
DTSTART:20250309T070000
END:DAYLIGHT
BEGIN:STANDARD
TZOFFSETFROM:-0400
TZOFFSETTO:-0500
TZNAME:EST
DTSTART:20251102T060000
END:STANDARD
BEGIN:DAYLIGHT
TZOFFSETFROM:-0500
TZOFFSETTO:-0400
TZNAME:EDT
DTSTART:20260308T070000
END:DAYLIGHT
BEGIN:STANDARD
TZOFFSETFROM:-0400
TZOFFSETTO:-0500
TZNAME:EST
DTSTART:20261101T060000
END:STANDARD
END:VTIMEZONE
BEGIN:VEVENT
DTSTART;TZID=America/New_York:20251012T100000
DTEND;TZID=America/New_York:20251012T120000
DTSTAMP:20260422T214557
CREATED:20250923T164208Z
LAST-MODIFIED:20250923T164208Z
UID:10003320-1760263200-1760270400@www.metroparks.net
SUMMARY:Adults Only: Cemetery Hike
DESCRIPTION:Get your walking boots on and join us for a 4-mile off-trail hike to visit some of our parks hidden pioneer cemeteries and an Adena Mound. Meet us at Little Darby Picnic Area 3711 Gardner Rd. Ages 18+
URL:https://www.metroparks.net/event/adults-only-cemetery-hike-4/
LOCATION:Battelle Darby Creek\, 1775 Darby Creek Drive\, Galloway\, OH\, 43119\, United States
END:VEVENT
BEGIN:VEVENT
DTSTART;TZID=America/New_York:20251012T100000
DTEND;TZID=America/New_York:20251012T160000
DTSTAMP:20260422T214557
CREATED:20250930T132455Z
LAST-MODIFIED:20250930T132455Z
UID:10003387-1760263200-1760284800@www.metroparks.net
SUMMARY:Wheels on the Farm
DESCRIPTION:Program ongoing from 10am-4pm\nPlay a game of “I Spy” as you figure out how all the wheels around the farm work and what they do.
URL:https://www.metroparks.net/event/wheels-on-the-farm-2/2025-10-12/
LOCATION:Slate Run Living Historical Farm\, 1375 OH-674\, Canal Winchester\, OH\, 43110\, United States
END:VEVENT
BEGIN:VEVENT
DTSTART;TZID=America/New_York:20251012T130000
DTEND;TZID=America/New_York:20251012T140000
DTSTAMP:20260422T214557
CREATED:20250226T155642Z
LAST-MODIFIED:20250226T155656Z
UID:10002456-1760274000-1760277600@www.metroparks.net
SUMMARY:For Adults: Science Sundays - Botanical Curiosities
DESCRIPTION:Join Sarah Flecker from Franklin Park Conservatory as we learn about unusual and interesting plants during this session of botanical curiosities. Meet at Beech Maple Lodge.
URL:https://www.metroparks.net/event/for-adults-science-sundays-botanical-curiosities/
LOCATION:Blacklick Woods\, 6975 East Livingston Ave\, Reynoldsburg\, OH\, 43068\, United States
ATTACH;FMTTYPE=image/png:https://www.metroparks.net/wp-content/uploads/2025/02/FPC.png
END:VEVENT
BEGIN:VEVENT
DTSTART;TZID=America/New_York:20251012T140000
DTEND;TZID=America/New_York:20251012T150000
DTSTAMP:20260422T214557
CREATED:20250918T122039Z
LAST-MODIFIED:20250918T122039Z
UID:10003277-1760277600-1760281200@www.metroparks.net
SUMMARY:Spooky Animals
DESCRIPTION:Learn about spiders\, snakes\, bats\, and other scary animals and find out if they are actually dangerous.
URL:https://www.metroparks.net/event/spooky-animals-3/
LOCATION:Blendon Woods\, 4265 E Dublin Granville Road\, Columbus\, 43081\, United States
END:VEVENT
BEGIN:VEVENT
DTSTART;TZID=America/New_York:20251012T140000
DTEND;TZID=America/New_York:20251012T150000
DTSTAMP:20260422T214557
CREATED:20250918T122233Z
LAST-MODIFIED:20250918T122233Z
UID:10003278-1760277600-1760281200@www.metroparks.net
SUMMARY:For Kids: Tree Identification
DESCRIPTION:Using a simple key\, kids will learn the basic skills of tree identification and get tips for starting a leaf collection. Best for school-aged children. Meets at Three Creeks Confluence Area bulletin board\, 3860 Bixby Rd\, Groveport.
URL:https://www.metroparks.net/event/for-kids-tree-identification-2/
LOCATION:Three Creeks\, 3860 Bixby Road\, Groveport\, OH\, 43125\, United States
END:VEVENT
BEGIN:VEVENT
DTSTART;TZID=America/New_York:20251012T183000
DTEND;TZID=America/New_York:20251012T193000
DTSTAMP:20260422T214557
CREATED:20250930T122746Z
LAST-MODIFIED:20250930T122746Z
UID:10003343-1760293800-1760297400@www.metroparks.net
SUMMARY:Evening Deer Hike
DESCRIPTION:Come out and take an evening hike along the Coyote Run trail! We will learn all about White-Tailed Deer and try to spot some in the forest and meadows along our route. Please note that the Coyote Run trail is unimproved and can be muddy depending on the weather. \nMeeting Location Notes: Highbanks Nature Center is the first right after entering the park. There is limited parking in the Nature Center lot on busy days. Additional parking is available in the Oak Coves Picnic Area\, a 10 minute walk from the Nature Center. Follow the paved trail through Oak Coves toward the Nature Center.
URL:https://www.metroparks.net/event/evening-deer-hike/
LOCATION:Highbanks\, 9466 Columbus Pike (US Rt 23 N)\, Lewis Center\, OH\, 43035\, United States
END:VEVENT
END:VCALENDAR