BEGIN:VCALENDAR
VERSION:2.0
PRODID:-//Metro Parks - Central Ohio Park System - ECPv6.15.16.1//NONSGML v1.0//EN
CALSCALE:GREGORIAN
METHOD:PUBLISH
X-ORIGINAL-URL:https://www.metroparks.net
X-WR-CALDESC:Events for Metro Parks - Central Ohio Park System
REFRESH-INTERVAL;VALUE=DURATION:PT1H
X-Robots-Tag:noindex
X-PUBLISHED-TTL:PT1H
BEGIN:VTIMEZONE
TZID:America/New_York
BEGIN:DAYLIGHT
TZOFFSETFROM:-0500
TZOFFSETTO:-0400
TZNAME:EDT
DTSTART:20240310T070000
END:DAYLIGHT
BEGIN:STANDARD
TZOFFSETFROM:-0400
TZOFFSETTO:-0500
TZNAME:EST
DTSTART:20241103T060000
END:STANDARD
BEGIN:DAYLIGHT
TZOFFSETFROM:-0500
TZOFFSETTO:-0400
TZNAME:EDT
DTSTART:20250309T070000
END:DAYLIGHT
BEGIN:STANDARD
TZOFFSETFROM:-0400
TZOFFSETTO:-0500
TZNAME:EST
DTSTART:20251102T060000
END:STANDARD
BEGIN:DAYLIGHT
TZOFFSETFROM:-0500
TZOFFSETTO:-0400
TZNAME:EDT
DTSTART:20260308T070000
END:DAYLIGHT
BEGIN:STANDARD
TZOFFSETFROM:-0400
TZOFFSETTO:-0500
TZNAME:EST
DTSTART:20261101T060000
END:STANDARD
END:VTIMEZONE
BEGIN:VEVENT
DTSTART;TZID=America/New_York:20251017T100000
DTEND;TZID=America/New_York:20251017T103000
DTSTAMP:20260422T214532
CREATED:20250918T120839Z
LAST-MODIFIED:20250918T120839Z
UID:10003267-1760695200-1760697000@www.metroparks.net
SUMMARY:Storytime
DESCRIPTION:Have fun with early literacy in the park! These 30-40min programs are aimed at kids 2-5yrs. Children and their grownups will enjoy books\, rhymes\, songs and fun while arousing curiosity about the natural world.
URL:https://www.metroparks.net/event/storytime-12/
LOCATION:Blendon Woods\, 4265 E Dublin Granville Road\, Columbus\, 43081\, United States
END:VEVENT
BEGIN:VEVENT
DTSTART;TZID=America/New_York:20251017T130000
DTEND;TZID=America/New_York:20251017T140000
DTSTAMP:20260422T214532
CREATED:20250923T164520Z
LAST-MODIFIED:20250923T164520Z
UID:10003322-1760706000-1760709600@www.metroparks.net
SUMMARY:Big Birds
DESCRIPTION:Let’s fly around the Nature Center to talk about the bigger birds like the owls\, hawks and herons that we have on display!
URL:https://www.metroparks.net/event/big-birds/
LOCATION:Battelle Darby Creek\, 1775 Darby Creek Drive\, Galloway\, OH\, 43119\, United States
END:VEVENT
BEGIN:VEVENT
DTSTART;TZID=America/New_York:20251017T140000
DTEND;TZID=America/New_York:20251017T150000
DTSTAMP:20260422T214532
CREATED:20250922T165108Z
LAST-MODIFIED:20250922T165108Z
UID:10003302-1760709600-1760713200@www.metroparks.net
SUMMARY:For Adults: Fall Color Walk
DESCRIPTION:Learn about how trees change colors and some basic tree identification this half-mile hike.
URL:https://www.metroparks.net/event/for-adults-fall-color-walk/
LOCATION:Blacklick Woods\, 6975 East Livingston Ave\, Reynoldsburg\, OH\, 43068\, United States
END:VEVENT
BEGIN:VEVENT
DTSTART;TZID=America/New_York:20251017T173000
DTEND;TZID=America/New_York:20251017T190000
DTSTAMP:20260422T214532
CREATED:20250918T122357Z
LAST-MODIFIED:20250918T122357Z
UID:10003279-1760722200-1760727600@www.metroparks.net
SUMMARY:Pumpkin Walk Around The Pond
DESCRIPTION:Take an easy 1/2 mile walk around Turtle Pond to look at the pumpkins and pick up treats at stops along the way. Costume wearing is encouraged! Three Creeks Metro Park Confluence Area\, 3860 Bixby Rd\, Groveport
URL:https://www.metroparks.net/event/pumpkin-walk-around-the-pond-3/
LOCATION:Three Creeks\, 3860 Bixby Road\, Groveport\, OH\, 43125\, United States
END:VEVENT
BEGIN:VEVENT
DTSTART;TZID=America/New_York:20251017T173000
DTEND;TZID=America/New_York:20251017T190000
DTSTAMP:20260422T214532
CREATED:20250930T130721Z
LAST-MODIFIED:20250930T130721Z
UID:10003363-1760722200-1760727600@www.metroparks.net
SUMMARY:Ghost Stories and S'mores
DESCRIPTION:Join us around the fire at Quarry Trails Metro Park to enjoy a delicious s’more\, and hear a ghost story or two! Meet at the lower Sled Hill parking lot. Free and fun!
URL:https://www.metroparks.net/event/ghost-stories-and-smores-2/
LOCATION:Quarry Trails\, 2600 Dublin Road\, Columbus\, OH\, 43228\, United States
END:VEVENT
END:VCALENDAR