BEGIN:VCALENDAR
VERSION:2.0
PRODID:-//Metro Parks - Central Ohio Park System - ECPv6.15.16.1//NONSGML v1.0//EN
CALSCALE:GREGORIAN
METHOD:PUBLISH
X-ORIGINAL-URL:https://www.metroparks.net
X-WR-CALDESC:Events for Metro Parks - Central Ohio Park System
REFRESH-INTERVAL;VALUE=DURATION:PT1H
X-Robots-Tag:noindex
X-PUBLISHED-TTL:PT1H
BEGIN:VTIMEZONE
TZID:America/New_York
BEGIN:DAYLIGHT
TZOFFSETFROM:-0500
TZOFFSETTO:-0400
TZNAME:EDT
DTSTART:20240310T070000
END:DAYLIGHT
BEGIN:STANDARD
TZOFFSETFROM:-0400
TZOFFSETTO:-0500
TZNAME:EST
DTSTART:20241103T060000
END:STANDARD
BEGIN:DAYLIGHT
TZOFFSETFROM:-0500
TZOFFSETTO:-0400
TZNAME:EDT
DTSTART:20250309T070000
END:DAYLIGHT
BEGIN:STANDARD
TZOFFSETFROM:-0400
TZOFFSETTO:-0500
TZNAME:EST
DTSTART:20251102T060000
END:STANDARD
BEGIN:DAYLIGHT
TZOFFSETFROM:-0500
TZOFFSETTO:-0400
TZNAME:EDT
DTSTART:20260308T070000
END:DAYLIGHT
BEGIN:STANDARD
TZOFFSETFROM:-0400
TZOFFSETTO:-0500
TZNAME:EST
DTSTART:20261101T060000
END:STANDARD
END:VTIMEZONE
BEGIN:VEVENT
DTSTART;TZID=America/New_York:20251023T100000
DTEND;TZID=America/New_York:20251023T113000
DTSTAMP:20260422T214604
CREATED:20250918T122806Z
LAST-MODIFIED:20250918T122806Z
UID:10003281-1761213600-1761219000@www.metroparks.net
SUMMARY:For Adults 50+: Fall Color Hike
DESCRIPTION:Take a 2.5 mile hike with stops along the way to enjoy the last fall color and learn how animals and plants prepare for winter. No pets\, please. Meets at Three Creeks Confluence Area bulletin board\, 3860 Bixby Rd\, Groveport.
URL:https://www.metroparks.net/event/for-adults-50-fall-color-hike/
LOCATION:Three Creeks\, 3860 Bixby Road\, Groveport\, OH\, 43125\, United States
END:VEVENT
BEGIN:VEVENT
DTSTART;TZID=America/New_York:20251023T170000
DTEND;TZID=America/New_York:20251023T190000
DTSTAMP:20260422T214604
CREATED:20250922T165344Z
LAST-MODIFIED:20250922T165344Z
UID:10003305-1761238800-1761246000@www.metroparks.net
SUMMARY:Trick-or-Treat Trail
DESCRIPTION:Families will take a half-mile walk along the Buttonbush Trail while collecting treats. Trick-or-treaters and their families are encouraged to wear costumes!
URL:https://www.metroparks.net/event/trick-or-treat-trail-2/
LOCATION:Blacklick Woods\, 6975 East Livingston Ave\, Reynoldsburg\, OH\, 43068\, United States
END:VEVENT
BEGIN:VEVENT
DTSTART;TZID=America/New_York:20251023T190000
DTEND;TZID=America/New_York:20251023T200000
DTSTAMP:20260422T214604
CREATED:20250930T130551Z
LAST-MODIFIED:20250930T130551Z
UID:10003361-1761246000-1761249600@www.metroparks.net
SUMMARY:Costume Lantern Hike!
DESCRIPTION:No Registration Required! Enjoy a lantern illuminated hike through the Tall Pines area at Walnut Woods Metro Park! Wear your best costume and plan to hike approx. 2 miles! Use address 6833 Richardson Rd\, Groveport.
URL:https://www.metroparks.net/event/costume-lantern-hike-2/2025-10-23/
LOCATION:Walnut Woods\, 6723 Lithopolis Rd\, Groveport\, OH\, 43125\, United States
END:VEVENT
END:VCALENDAR