BEGIN:VCALENDAR
VERSION:2.0
PRODID:-//Metro Parks - Central Ohio Park System - ECPv6.15.16.1//NONSGML v1.0//EN
CALSCALE:GREGORIAN
METHOD:PUBLISH
X-ORIGINAL-URL:https://www.metroparks.net
X-WR-CALDESC:Events for Metro Parks - Central Ohio Park System
REFRESH-INTERVAL;VALUE=DURATION:PT1H
X-Robots-Tag:noindex
X-PUBLISHED-TTL:PT1H
BEGIN:VTIMEZONE
TZID:America/New_York
BEGIN:DAYLIGHT
TZOFFSETFROM:-0500
TZOFFSETTO:-0400
TZNAME:EDT
DTSTART:20240310T070000
END:DAYLIGHT
BEGIN:STANDARD
TZOFFSETFROM:-0400
TZOFFSETTO:-0500
TZNAME:EST
DTSTART:20241103T060000
END:STANDARD
BEGIN:DAYLIGHT
TZOFFSETFROM:-0500
TZOFFSETTO:-0400
TZNAME:EDT
DTSTART:20250309T070000
END:DAYLIGHT
BEGIN:STANDARD
TZOFFSETFROM:-0400
TZOFFSETTO:-0500
TZNAME:EST
DTSTART:20251102T060000
END:STANDARD
BEGIN:DAYLIGHT
TZOFFSETFROM:-0500
TZOFFSETTO:-0400
TZNAME:EDT
DTSTART:20260308T070000
END:DAYLIGHT
BEGIN:STANDARD
TZOFFSETFROM:-0400
TZOFFSETTO:-0500
TZNAME:EST
DTSTART:20261101T060000
END:STANDARD
END:VTIMEZONE
BEGIN:VEVENT
DTSTART;TZID=America/New_York:20251026T120000
DTEND;TZID=America/New_York:20251026T150000
DTSTAMP:20260422T214557
CREATED:20250918T123007Z
LAST-MODIFIED:20250918T123007Z
UID:10003284-1761480000-1761490800@www.metroparks.net
SUMMARY:Blendon Bones
DESCRIPTION:Marvel at the inner workings of animals with this display of skeletons\, meet our guest taxidermist\, and enjoy hands on activities. Event runs Saturday and Sunday 12-3.
URL:https://www.metroparks.net/event/blendon-bones-2/2025-10-26/
LOCATION:Blendon Woods\, 4265 E Dublin Granville Road\, Columbus\, 43081\, United States
END:VEVENT
BEGIN:VEVENT
DTSTART;TZID=America/New_York:20251026T130000
DTEND;TZID=America/New_York:20251026T140000
DTSTAMP:20260422T214557
CREATED:20250923T165202Z
LAST-MODIFIED:20250923T165202Z
UID:10003328-1761483600-1761487200@www.metroparks.net
SUMMARY:Princess Walk
DESCRIPTION:Calling all Jr Princesses who love their outfits\, let’s take a magical short walk exploring our enchanted forest. This trail will be available as a scavenger hunt the rest of the week for our traveling princesses.
URL:https://www.metroparks.net/event/princess-walk-2/
LOCATION:Battelle Darby Creek\, 1775 Darby Creek Drive\, Galloway\, OH\, 43119\, United States
END:VEVENT
BEGIN:VEVENT
DTSTART;TZID=America/New_York:20251026T140000
DTEND;TZID=America/New_York:20251026T153000
DTSTAMP:20260422T214557
CREATED:20250930T131801Z
LAST-MODIFIED:20250930T131801Z
UID:10003375-1761487200-1761492600@www.metroparks.net
SUMMARY:Jack-O-Lantern Campfire Cooking
DESCRIPTION:Join us for some festive fun over the campfire! All ingredients and instruction provided for this tasty campfire treat\, meet at the Lower Sled Hill parking lot at Quarry Trails Metro Park!
URL:https://www.metroparks.net/event/jack-o-lantern-campfire-cooking/
LOCATION:Quarry Trails\, 2600 Dublin Road\, Columbus\, OH\, 43228\, United States
END:VEVENT
BEGIN:VEVENT
DTSTART;TZID=America/New_York:20251026T140000
DTEND;TZID=America/New_York:20251026T160000
DTSTAMP:20260422T214557
CREATED:20250922T165727Z
LAST-MODIFIED:20250922T165727Z
UID:10003311-1761487200-1761494400@www.metroparks.net
SUMMARY:Halloween Party
DESCRIPTION:Join us for games and crafts at our annual Halloween Party. Plus\, visit with animal ambassadors from Ohio Wildlife Center. Costumes encouraged.
URL:https://www.metroparks.net/event/halloween-party-3/
LOCATION:Inniswood Metro Gardens\, 940 S. Hempstead Rd.\, Westerville\, OH\, 43081\, United States
END:VEVENT
BEGIN:VEVENT
DTSTART;TZID=America/New_York:20251026T150000
DTEND;TZID=America/New_York:20251026T160000
DTSTAMP:20260422T214557
CREATED:20250922T165659Z
LAST-MODIFIED:20250922T165659Z
UID:10003310-1761490800-1761494400@www.metroparks.net
SUMMARY:HOWLoween Hike
DESCRIPTION:Dress up your furry friend for Halloween and enjoy a 2-mile hike.
URL:https://www.metroparks.net/event/howloween-hike-2/
LOCATION:Blacklick Woods\, 6975 East Livingston Ave\, Reynoldsburg\, OH\, 43068\, United States
END:VEVENT
END:VCALENDAR