BEGIN:VCALENDAR
VERSION:2.0
PRODID:-//Metro Parks - Central Ohio Park System - ECPv6.15.16.1//NONSGML v1.0//EN
CALSCALE:GREGORIAN
METHOD:PUBLISH
X-WR-CALNAME:Metro Parks - Central Ohio Park System
X-ORIGINAL-URL:https://www.metroparks.net
X-WR-CALDESC:Events for Metro Parks - Central Ohio Park System
REFRESH-INTERVAL;VALUE=DURATION:PT1H
X-Robots-Tag:noindex
X-PUBLISHED-TTL:PT1H
BEGIN:VTIMEZONE
TZID:America/New_York
BEGIN:DAYLIGHT
TZOFFSETFROM:-0500
TZOFFSETTO:-0400
TZNAME:EDT
DTSTART:20240310T070000
END:DAYLIGHT
BEGIN:STANDARD
TZOFFSETFROM:-0400
TZOFFSETTO:-0500
TZNAME:EST
DTSTART:20241103T060000
END:STANDARD
BEGIN:DAYLIGHT
TZOFFSETFROM:-0500
TZOFFSETTO:-0400
TZNAME:EDT
DTSTART:20250309T070000
END:DAYLIGHT
BEGIN:STANDARD
TZOFFSETFROM:-0400
TZOFFSETTO:-0500
TZNAME:EST
DTSTART:20251102T060000
END:STANDARD
BEGIN:DAYLIGHT
TZOFFSETFROM:-0500
TZOFFSETTO:-0400
TZNAME:EDT
DTSTART:20260308T070000
END:DAYLIGHT
BEGIN:STANDARD
TZOFFSETFROM:-0400
TZOFFSETTO:-0500
TZNAME:EST
DTSTART:20261101T060000
END:STANDARD
END:VTIMEZONE
BEGIN:VEVENT
DTSTART;TZID=America/New_York:20251028T100000
DTEND;TZID=America/New_York:20251028T110000
DTSTAMP:20260422T214528
CREATED:20250922T165828Z
LAST-MODIFIED:20250922T165828Z
UID:10003312-1761645600-1761649200@www.metroparks.net
SUMMARY:Homeschoolers: Fall Colors Hike
DESCRIPTION:Learn about leaves and fall colors on this half-mile hike.
URL:https://www.metroparks.net/event/homeschoolers-fall-colors-hike/2025-10-28/1/
LOCATION:Blacklick Woods\, 6975 East Livingston Ave\, Reynoldsburg\, OH\, 43068\, United States
END:VEVENT
BEGIN:VEVENT
DTSTART;TZID=America/New_York:20251028T100000
DTEND;TZID=America/New_York:20251028T110000
DTSTAMP:20260422T214528
CREATED:20250930T130449Z
LAST-MODIFIED:20250930T130449Z
UID:10003359-1761645600-1761649200@www.metroparks.net
SUMMARY:Fall Foliage Hike
DESCRIPTION:Enjoy the beauty of fall and the leaves changing color at Slate Run Metro Park! Hike will be approx. 1.4 miles long over hilly terrain. Hiking boots recommended. Meet at the Buzzard’s Roost parking area.
URL:https://www.metroparks.net/event/fall-foliage-hike-4/2025-10-28/
LOCATION:Slate Run Park\, 1375 St. Rte. 674 North\, Canal Winchester\, 43110\, United States
END:VEVENT
BEGIN:VEVENT
DTSTART;TZID=America/New_York:20251028T103000
DTEND;TZID=America/New_York:20251028T113000
DTSTAMP:20260422T214528
CREATED:20250930T132637Z
LAST-MODIFIED:20250930T132637Z
UID:10003389-1761647400-1761651000@www.metroparks.net
SUMMARY:Preschool Storytime-Pumpkins
DESCRIPTION:Program begins at 10:30am.\nMeet behind the farmhouse.\nParents and siblings are welcome.\nEnjoy a fall story and a craft.
URL:https://www.metroparks.net/event/preschool-storytime-pumpkins-2/
LOCATION:Slate Run Living Historical Farm\, 1375 OH-674\, Canal Winchester\, OH\, 43110\, United States
END:VEVENT
BEGIN:VEVENT
DTSTART;TZID=America/New_York:20251028T130000
DTEND;TZID=America/New_York:20251028T140000
DTSTAMP:20260422T214528
CREATED:20250922T165828Z
LAST-MODIFIED:20250922T165828Z
UID:10003313-1761656400-1761660000@www.metroparks.net
SUMMARY:Homeschoolers: Fall Colors Hike
DESCRIPTION:Learn about leaves and fall colors on this half-mile hike.
URL:https://www.metroparks.net/event/homeschoolers-fall-colors-hike/2025-10-28/2/
LOCATION:Blacklick Woods\, 6975 East Livingston Ave\, Reynoldsburg\, OH\, 43068\, United States
END:VEVENT
BEGIN:VEVENT
DTSTART;TZID=America/New_York:20251028T133000
DTEND;TZID=America/New_York:20251028T143000
DTSTAMP:20260422T214528
CREATED:20250930T132606Z
LAST-MODIFIED:20250930T132606Z
UID:10003388-1761658200-1761661800@www.metroparks.net
SUMMARY:Homeschoolers on the Farm: Pumpkin Science
DESCRIPTION:Program starts promptly at 1:30 pm in front of the Farmhouse.\nLearn about pumpkins through basic math and science. Program is geared towards elementary level students.
URL:https://www.metroparks.net/event/homeschoolers-on-the-farm-pumpkin-science/
LOCATION:Slate Run Living Historical Farm\, 1375 OH-674\, Canal Winchester\, OH\, 43110\, United States
END:VEVENT
END:VCALENDAR