BEGIN:VCALENDAR
VERSION:2.0
PRODID:-//Metro Parks - Central Ohio Park System - ECPv6.15.16.1//NONSGML v1.0//EN
CALSCALE:GREGORIAN
METHOD:PUBLISH
X-ORIGINAL-URL:https://www.metroparks.net
X-WR-CALDESC:Events for Metro Parks - Central Ohio Park System
REFRESH-INTERVAL;VALUE=DURATION:PT1H
X-Robots-Tag:noindex
X-PUBLISHED-TTL:PT1H
BEGIN:VTIMEZONE
TZID:America/New_York
BEGIN:DAYLIGHT
TZOFFSETFROM:-0500
TZOFFSETTO:-0400
TZNAME:EDT
DTSTART:20240310T070000
END:DAYLIGHT
BEGIN:STANDARD
TZOFFSETFROM:-0400
TZOFFSETTO:-0500
TZNAME:EST
DTSTART:20241103T060000
END:STANDARD
BEGIN:DAYLIGHT
TZOFFSETFROM:-0500
TZOFFSETTO:-0400
TZNAME:EDT
DTSTART:20250309T070000
END:DAYLIGHT
BEGIN:STANDARD
TZOFFSETFROM:-0400
TZOFFSETTO:-0500
TZNAME:EST
DTSTART:20251102T060000
END:STANDARD
BEGIN:DAYLIGHT
TZOFFSETFROM:-0500
TZOFFSETTO:-0400
TZNAME:EDT
DTSTART:20260308T070000
END:DAYLIGHT
BEGIN:STANDARD
TZOFFSETFROM:-0400
TZOFFSETTO:-0500
TZNAME:EST
DTSTART:20261101T060000
END:STANDARD
END:VTIMEZONE
BEGIN:VEVENT
DTSTART;TZID=America/New_York:20251029T133000
DTEND;TZID=America/New_York:20251029T153000
DTSTAMP:20260422T214529
CREATED:20250930T121329Z
LAST-MODIFIED:20250930T121329Z
UID:10003330-1761744600-1761751800@www.metroparks.net
SUMMARY:Adaptive Adventures: Slides & Sweets\, Tricks or Treats!
DESCRIPTION:Adaptive Adventures: Slides & Sweets\, Tricks or Treats! \nHave some spooky October fun at the inclusive playground! Wear a costume\, enjoy some candy\, tattoos\, and stickers! \n*Adaptive Adventures programs are programs designed for individuals with disabilities and their families.
URL:https://www.metroparks.net/event/adaptive-adventures-slides-sweets-tricks-or-treats/
LOCATION:Blendon Woods Inclusive Playground\, 4265 E. Dublin Granville Road\, Columbus\, OH\, 43081\, United States
END:VEVENT
BEGIN:VEVENT
DTSTART;TZID=America/New_York:20251029T160000
DTEND;TZID=America/New_York:20251029T180000
DTSTAMP:20260422T214529
CREATED:20250922T165915Z
LAST-MODIFIED:20250922T165915Z
UID:10003314-1761753600-1761760800@www.metroparks.net
SUMMARY:After School Crafts
DESCRIPTION:Stop by the nature center to make some simple\, fall-themed crafts.
URL:https://www.metroparks.net/event/after-school-crafts-2/
LOCATION:Blacklick Woods\, 6975 East Livingston Ave\, Reynoldsburg\, OH\, 43068\, United States
END:VEVENT
BEGIN:VEVENT
DTSTART;TZID=America/New_York:20251029T180000
DTEND;TZID=America/New_York:20251029T200000
DTSTAMP:20260422T214529
CREATED:20250930T132013Z
LAST-MODIFIED:20250930T132013Z
UID:10003378-1761760800-1761768000@www.metroparks.net
SUMMARY:Costume Climb
DESCRIPTION:Enjoy rock climbing at Scioto Audubon Metro Park! Wear your best (climbing safe) costume and get some candy as you explore the rock wall. All climbing equipment and instruction is provided. Tennis shoes and flexible clothing is recommended.
URL:https://www.metroparks.net/event/costume-climb-2/
LOCATION:Scioto Audubon\, 400 West Whittier St.\, Columbus\, OH\, 43215\, United States
END:VEVENT
END:VCALENDAR