BEGIN:VCALENDAR
VERSION:2.0
PRODID:-//Metro Parks - Central Ohio Park System - ECPv6.15.16.1//NONSGML v1.0//EN
CALSCALE:GREGORIAN
METHOD:PUBLISH
X-WR-CALNAME:Metro Parks - Central Ohio Park System
X-ORIGINAL-URL:https://www.metroparks.net
X-WR-CALDESC:Events for Metro Parks - Central Ohio Park System
REFRESH-INTERVAL;VALUE=DURATION:PT1H
X-Robots-Tag:noindex
X-PUBLISHED-TTL:PT1H
BEGIN:VTIMEZONE
TZID:America/New_York
BEGIN:DAYLIGHT
TZOFFSETFROM:-0500
TZOFFSETTO:-0400
TZNAME:EDT
DTSTART:20240310T070000
END:DAYLIGHT
BEGIN:STANDARD
TZOFFSETFROM:-0400
TZOFFSETTO:-0500
TZNAME:EST
DTSTART:20241103T060000
END:STANDARD
BEGIN:DAYLIGHT
TZOFFSETFROM:-0500
TZOFFSETTO:-0400
TZNAME:EDT
DTSTART:20250309T070000
END:DAYLIGHT
BEGIN:STANDARD
TZOFFSETFROM:-0400
TZOFFSETTO:-0500
TZNAME:EST
DTSTART:20251102T060000
END:STANDARD
BEGIN:DAYLIGHT
TZOFFSETFROM:-0500
TZOFFSETTO:-0400
TZNAME:EDT
DTSTART:20260308T070000
END:DAYLIGHT
BEGIN:STANDARD
TZOFFSETFROM:-0400
TZOFFSETTO:-0500
TZNAME:EST
DTSTART:20261101T060000
END:STANDARD
END:VTIMEZONE
BEGIN:VEVENT
DTSTART;TZID=America/New_York:20251030T100000
DTEND;TZID=America/New_York:20251030T110000
DTSTAMP:20260422T214528
CREATED:20250922T165939Z
LAST-MODIFIED:20250922T165939Z
UID:10003315-1761818400-1761822000@www.metroparks.net
SUMMARY:Tots on Trails
DESCRIPTION:Share a slow-paced\, half-mile hike with your toddler and discover nature together.
URL:https://www.metroparks.net/event/tots-on-trails-18/
LOCATION:Blacklick Woods\, 6975 East Livingston Ave\, Reynoldsburg\, OH\, 43068\, United States
END:VEVENT
BEGIN:VEVENT
DTSTART;TZID=America/New_York:20251030T100000
DTEND;TZID=America/New_York:20251030T120000
DTSTAMP:20260422T214528
CREATED:20250918T123228Z
LAST-MODIFIED:20250918T123228Z
UID:10003286-1761818400-1761825600@www.metroparks.net
SUMMARY:Halloween Bash
DESCRIPTION:Wear your costume for some fall fun at Blendon Woods Nature Center! We will have games\, crafts\, and seasonal activities.
URL:https://www.metroparks.net/event/halloween-bash-2/
LOCATION:Blendon Woods\, 4265 E Dublin Granville Road\, Columbus\, 43081\, United States
END:VEVENT
BEGIN:VEVENT
DTSTART;TZID=America/New_York:20251030T183000
DTEND;TZID=America/New_York:20251030T193000
DTSTAMP:20260422T214528
CREATED:20250930T132103Z
LAST-MODIFIED:20250930T132103Z
UID:10003379-1761849000-1761852600@www.metroparks.net
SUMMARY:Sunset Spikeball
DESCRIPTION:Join us for a free and fun session of Spikeball! This game requires some hand-eye coordination. Learn the basics and become a pro! All instruction and equipment provided. We will be playing in the field behind the Scioto Audubon Climbing Wall.
URL:https://www.metroparks.net/event/sunset-spikeball-3/
LOCATION:Scioto Audubon\, 400 West Whittier St.\, Columbus\, OH\, 43215\, United States
END:VEVENT
END:VCALENDAR