BEGIN:VCALENDAR
VERSION:2.0
PRODID:-//Metro Parks - Central Ohio Park System - ECPv6.15.16.1//NONSGML v1.0//EN
CALSCALE:GREGORIAN
METHOD:PUBLISH
X-WR-CALNAME:Metro Parks - Central Ohio Park System
X-ORIGINAL-URL:https://www.metroparks.net
X-WR-CALDESC:Events for Metro Parks - Central Ohio Park System
REFRESH-INTERVAL;VALUE=DURATION:PT1H
X-Robots-Tag:noindex
X-PUBLISHED-TTL:PT1H
BEGIN:VTIMEZONE
TZID:America/New_York
BEGIN:DAYLIGHT
TZOFFSETFROM:-0500
TZOFFSETTO:-0400
TZNAME:EDT
DTSTART:20240310T070000
END:DAYLIGHT
BEGIN:STANDARD
TZOFFSETFROM:-0400
TZOFFSETTO:-0500
TZNAME:EST
DTSTART:20241103T060000
END:STANDARD
BEGIN:DAYLIGHT
TZOFFSETFROM:-0500
TZOFFSETTO:-0400
TZNAME:EDT
DTSTART:20250309T070000
END:DAYLIGHT
BEGIN:STANDARD
TZOFFSETFROM:-0400
TZOFFSETTO:-0500
TZNAME:EST
DTSTART:20251102T060000
END:STANDARD
BEGIN:DAYLIGHT
TZOFFSETFROM:-0500
TZOFFSETTO:-0400
TZNAME:EDT
DTSTART:20260308T070000
END:DAYLIGHT
BEGIN:STANDARD
TZOFFSETFROM:-0400
TZOFFSETTO:-0500
TZNAME:EST
DTSTART:20261101T060000
END:STANDARD
END:VTIMEZONE
BEGIN:VEVENT
DTSTART;TZID=America/New_York:20251101T083000
DTEND;TZID=America/New_York:20251101T100000
DTSTAMP:20260422T214525
CREATED:20251027T115958Z
LAST-MODIFIED:20251027T115958Z
UID:10003442-1761985800-1761991200@www.metroparks.net
SUMMARY:Cowboy Campfire Coffee!
DESCRIPTION:Enjoy coffee by the campfire at Quarry Trails Metro Park! Meet at the lower Sled Hill parking lot! Free\, all equipment provided!
URL:https://www.metroparks.net/event/cowboy-campfire-coffee-6/2025-11-01/
LOCATION:Quarry Trails\, 2600 Dublin Road\, Columbus\, OH\, 43228\, United States
END:VEVENT
BEGIN:VEVENT
DTSTART;TZID=America/New_York:20251101T090000
DTEND;TZID=America/New_York:20251101T100000
DTSTAMP:20260422T214525
CREATED:20251023T182058Z
LAST-MODIFIED:20251023T182058Z
UID:10003418-1761987600-1761991200@www.metroparks.net
SUMMARY:Blacklick Hiking Club
DESCRIPTION:Join the hiking club! Meet the first Saturday of every month for a moderate to fast-paced hike and to meet like-minded people. This is not an interpretive hike.
URL:https://www.metroparks.net/event/blacklick-hiking-club-3/
LOCATION:Blacklick Woods\, 6975 East Livingston Ave\, Reynoldsburg\, OH\, 43068\, United States
END:VEVENT
BEGIN:VEVENT
DTSTART;TZID=America/New_York:20251101T100000
DTEND;TZID=America/New_York:20251101T110000
DTSTAMP:20260422T214525
CREATED:20251022T130456Z
LAST-MODIFIED:20251022T130456Z
UID:10003393-1761991200-1761994800@www.metroparks.net
SUMMARY:For Adults 50+: Woodpecker Wander
DESCRIPTION:Enjoy a fun hike centered around wonderful woodpeckers and how important they are! We will hike the Red Oak Trail (approximately 0.8 miles) and look for woodpeckers and their habitats!\nBinoculars will be provided. Please wear layers and comfortable shoes.\nThe trail is not paved and contains a mix of gravel and dirt.\nThis program is geared for ages 50 and up. Meet at the Shelter House\, rain or shine!
URL:https://www.metroparks.net/event/for-adults-50-woodpecker-wander/
LOCATION:Glacier Ridge\, 9801 Hyland Croy\, Plain City\, OH\, 43064\, United States
END:VEVENT
BEGIN:VEVENT
DTSTART;TZID=America/New_York:20251101T103000
DTEND;TZID=America/New_York:20251101T120000
DTSTAMP:20260422T214525
CREATED:20251022T130325Z
LAST-MODIFIED:20251022T130325Z
UID:10003392-1761993000-1761998400@www.metroparks.net
SUMMARY:For Adults 50+: Walk the Dog
DESCRIPTION:Take a 2.5-mile walk with your leashed canine friend on the easy Kestrel and Monarch trails. \nMeet at the Park Office at 6723 Lithopolis Road\, Groveport\, Oh 43125.
URL:https://www.metroparks.net/event/for-adults-50-walk-the-dog-4/
LOCATION:Walnut Woods\, 6723 Lithopolis Rd\, Groveport\, OH\, 43125\, United States
END:VEVENT
BEGIN:VEVENT
DTSTART;TZID=America/New_York:20251101T110000
DTEND;TZID=America/New_York:20251101T120000
DTSTAMP:20260422T214525
CREATED:20251027T125646Z
LAST-MODIFIED:20251027T125646Z
UID:10003476-1761994800-1761998400@www.metroparks.net
SUMMARY:Saturday Sketch
DESCRIPTION:Get in touch with your artistic side! Learn about nature journaling and how to draw some of the animals you might find in the parks. All skill levels welcome. Ages 10+.
URL:https://www.metroparks.net/event/saturday-sketch/
LOCATION:Battelle Darby Creek\, 1775 Darby Creek Drive\, Galloway\, OH\, 43119\, United States
END:VEVENT
BEGIN:VEVENT
DTSTART;TZID=America/New_York:20251101T130000
DTEND;TZID=America/New_York:20251101T150000
DTSTAMP:20260422T214525
CREATED:20251028T172429Z
LAST-MODIFIED:20251028T172429Z
UID:10003485-1762002000-1762009200@www.metroparks.net
SUMMARY:A Stitch in Time
DESCRIPTION:Ongoing between 1-3pm at the farmhouse\nAll ages\nWatch or help as we mend\, do handiwork\, and use the treadle sewing machine.
URL:https://www.metroparks.net/event/a-stitch-in-time-2/
LOCATION:Slate Run Living Historical Farm\, 1375 OH-674\, Canal Winchester\, OH\, 43110\, United States
END:VEVENT
BEGIN:VEVENT
DTSTART;TZID=America/New_York:20251101T173000
DTEND;TZID=America/New_York:20251101T183000
DTSTAMP:20260422T214525
CREATED:20251022T130207Z
LAST-MODIFIED:20251022T130207Z
UID:10003391-1762018200-1762021800@www.metroparks.net
SUMMARY:Early Evening Wildlife Walk
DESCRIPTION:We’ll walk a park trail to look for creatures like deer\, owls and more. Plan on being patient and quiet to have the best chance of observing wildlife on this 1-mile walk. No pets\, please. Meets at Three Creeks Metro Park Confluence Area bulletin board\, 3860 Bixby Rd\, Groveport.
URL:https://www.metroparks.net/event/early-evening-wildlife-walk-2/
LOCATION:Three Creeks\, 3860 Bixby Road\, Groveport\, OH\, 43125\, United States
END:VEVENT
END:VCALENDAR