BEGIN:VCALENDAR
VERSION:2.0
PRODID:-//Metro Parks - Central Ohio Park System - ECPv6.15.16.1//NONSGML v1.0//EN
CALSCALE:GREGORIAN
METHOD:PUBLISH
X-ORIGINAL-URL:https://www.metroparks.net
X-WR-CALDESC:Events for Metro Parks - Central Ohio Park System
REFRESH-INTERVAL;VALUE=DURATION:PT1H
X-Robots-Tag:noindex
X-PUBLISHED-TTL:PT1H
BEGIN:VTIMEZONE
TZID:America/New_York
BEGIN:DAYLIGHT
TZOFFSETFROM:-0500
TZOFFSETTO:-0400
TZNAME:EDT
DTSTART:20240310T070000
END:DAYLIGHT
BEGIN:STANDARD
TZOFFSETFROM:-0400
TZOFFSETTO:-0500
TZNAME:EST
DTSTART:20241103T060000
END:STANDARD
BEGIN:DAYLIGHT
TZOFFSETFROM:-0500
TZOFFSETTO:-0400
TZNAME:EDT
DTSTART:20250309T070000
END:DAYLIGHT
BEGIN:STANDARD
TZOFFSETFROM:-0400
TZOFFSETTO:-0500
TZNAME:EST
DTSTART:20251102T060000
END:STANDARD
BEGIN:DAYLIGHT
TZOFFSETFROM:-0500
TZOFFSETTO:-0400
TZNAME:EDT
DTSTART:20260308T070000
END:DAYLIGHT
BEGIN:STANDARD
TZOFFSETFROM:-0400
TZOFFSETTO:-0500
TZNAME:EST
DTSTART:20261101T060000
END:STANDARD
END:VTIMEZONE
BEGIN:VEVENT
DTSTART;TZID=America/New_York:20251104T100000
DTEND;TZID=America/New_York:20251104T110000
DTSTAMP:20260423T003728
CREATED:20251022T130820Z
LAST-MODIFIED:20251022T130820Z
UID:10003396-1762250400-1762254000@www.metroparks.net
SUMMARY:Toddler Tuesday: Hi-BEAR-nation
DESCRIPTION:Snuggle up and get ready for winter with us! We are learning all about hibernation with the book The Bear Snores On by Karma Wilson and Jane Chapman. Enjoy snacks and crafts with us that help us learn how to get ready for hibernation!\nThis program is geared towards ages 2-4. Meet at the barn shelter\, rain or shine!
URL:https://www.metroparks.net/event/toddler-tuesday-hi-bear-nation/
LOCATION:Homestead\, 4675 Cosgray Road\, Hilliard\, OH\, 43026\, United States
END:VEVENT
BEGIN:VEVENT
DTSTART;TZID=America/New_York:20251104T110000
DTEND;TZID=America/New_York:20251104T120000
DTSTAMP:20260423T003728
CREATED:20251030T141902Z
LAST-MODIFIED:20251030T141902Z
UID:10003492-1762254000-1762257600@www.metroparks.net
SUMMARY:Preschool: Storybook Trail
DESCRIPTION:Preschoolers can take a guided walk down our Storybook Trail. Along the way we will read the book and play some fun games. Trail is suitable for strollers.
URL:https://www.metroparks.net/event/preschool-storybook-trail/2025-11-04/1/
LOCATION:Sharon Woods\, 6911 Cleveland Ave.\, Columbus\, OH\, 43081\, United States
END:VEVENT
BEGIN:VEVENT
DTSTART;TZID=America/New_York:20251104T110000
DTEND;TZID=America/New_York:20251104T130000
DTSTAMP:20260423T003728
CREATED:20251027T123157Z
LAST-MODIFIED:20251027T123157Z
UID:10003471-1762254000-1762261200@www.metroparks.net
SUMMARY:Drop In: Animal Signs
DESCRIPTION:Drop in to the nature center anytime between 11-1 to learn about clues our wildlife leave behind in the forest . Our wild friends might leave behind tracks\, chew marks\, nests\, scales\, fur\, or feathers! Learn about the signs animals leave behind and how to decipher them. Includes both indoor and outdoor activities. Come try out your new detective skills! Ages 3+.\nMeeting Location Notes: Highbanks Nature Center is the first right after entering the park. There is limited parking in the Nature Center lot on busy days. Additional parking is available in the Oak Coves Picnic Area\, a 10 minute walk from the Nature Center. Follow the paved trail through Oak Coves toward the Nature Center.
URL:https://www.metroparks.net/event/drop-in-animal-signs-2/
LOCATION:Highbanks\, 9466 Columbus Pike (US Rt 23 N)\, Lewis Center\, OH\, 43035\, United States
END:VEVENT
BEGIN:VEVENT
DTSTART;TZID=America/New_York:20251104T140000
DTEND;TZID=America/New_York:20251104T150000
DTSTAMP:20260423T003728
CREATED:20251030T141902Z
LAST-MODIFIED:20251030T141902Z
UID:10003493-1762264800-1762268400@www.metroparks.net
SUMMARY:Preschool: Storybook Trail
DESCRIPTION:Preschoolers can take a guided walk down our Storybook Trail. Along the way we will read the book and play some fun games. Trail is suitable for strollers.
URL:https://www.metroparks.net/event/preschool-storybook-trail/2025-11-04/2/
LOCATION:Sharon Woods\, 6911 Cleveland Ave.\, Columbus\, OH\, 43081\, United States
END:VEVENT
BEGIN:VEVENT
DTSTART;TZID=America/New_York:20251104T170000
DTEND;TZID=America/New_York:20251104T190000
DTSTAMP:20260423T003728
CREATED:20251027T125709Z
LAST-MODIFIED:20251027T125709Z
UID:10003477-1762275600-1762282800@www.metroparks.net
SUMMARY:Full Beaver Super Moon Hike
DESCRIPTION:Take a brisk 4-mile hike through forests and fields. Meet us at the Ranger Station\, 1775 Darby Creek Drive.
URL:https://www.metroparks.net/event/full-beaver-super-moon-hike/
LOCATION:Battelle Darby Creek\, 1775 Darby Creek Drive\, Galloway\, OH\, 43119\, United States
END:VEVENT
BEGIN:VEVENT
DTSTART;TZID=America/New_York:20251104T173000
DTEND;TZID=America/New_York:20251104T183000
DTSTAMP:20260423T003728
CREATED:20251027T120116Z
LAST-MODIFIED:20251027T120116Z
UID:10003445-1762277400-1762281000@www.metroparks.net
SUMMARY:Lantern Hike
DESCRIPTION:No Registration Required! Join us for a staff led lantern hike through the Tall Pines area of Walnut Woods Metro park. Limited Number of jar lanterns will be available at a first come first served basis\, bring a flashlight or headlamp for extra light!
URL:https://www.metroparks.net/event/lantern-hike-22/
LOCATION:Walnut Woods\, 6723 Lithopolis Rd\, Groveport\, OH\, 43125\, United States
END:VEVENT
BEGIN:VEVENT
DTSTART;TZID=America/New_York:20251104T180000
DTEND;TZID=America/New_York:20251104T190000
DTSTAMP:20260423T003728
CREATED:20251023T182209Z
LAST-MODIFIED:20251023T182209Z
UID:10003420-1762279200-1762282800@www.metroparks.net
SUMMARY:Beaver Moon Hike
DESCRIPTION:Celebrate the November full moon on this 2-mile hike.
URL:https://www.metroparks.net/event/beaver-moon-hike/
LOCATION:Blacklick Woods\, 6975 East Livingston Ave\, Reynoldsburg\, OH\, 43068\, United States
END:VEVENT
END:VCALENDAR