BEGIN:VCALENDAR
VERSION:2.0
PRODID:-//Metro Parks - Central Ohio Park System - ECPv6.15.16.1//NONSGML v1.0//EN
CALSCALE:GREGORIAN
METHOD:PUBLISH
X-ORIGINAL-URL:https://www.metroparks.net
X-WR-CALDESC:Events for Metro Parks - Central Ohio Park System
REFRESH-INTERVAL;VALUE=DURATION:PT1H
X-Robots-Tag:noindex
X-PUBLISHED-TTL:PT1H
BEGIN:VTIMEZONE
TZID:America/New_York
BEGIN:DAYLIGHT
TZOFFSETFROM:-0500
TZOFFSETTO:-0400
TZNAME:EDT
DTSTART:20240310T070000
END:DAYLIGHT
BEGIN:STANDARD
TZOFFSETFROM:-0400
TZOFFSETTO:-0500
TZNAME:EST
DTSTART:20241103T060000
END:STANDARD
BEGIN:DAYLIGHT
TZOFFSETFROM:-0500
TZOFFSETTO:-0400
TZNAME:EDT
DTSTART:20250309T070000
END:DAYLIGHT
BEGIN:STANDARD
TZOFFSETFROM:-0400
TZOFFSETTO:-0500
TZNAME:EST
DTSTART:20251102T060000
END:STANDARD
BEGIN:DAYLIGHT
TZOFFSETFROM:-0500
TZOFFSETTO:-0400
TZNAME:EDT
DTSTART:20260308T070000
END:DAYLIGHT
BEGIN:STANDARD
TZOFFSETFROM:-0400
TZOFFSETTO:-0500
TZNAME:EST
DTSTART:20261101T060000
END:STANDARD
END:VTIMEZONE
BEGIN:VEVENT
DTSTART;TZID=America/New_York:20251106T100000
DTEND;TZID=America/New_York:20251106T110000
DTSTAMP:20260423T032535
CREATED:20251027T120223Z
LAST-MODIFIED:20251027T120223Z
UID:10003446-1762423200-1762426800@www.metroparks.net
SUMMARY:For Adults 50+: Autumn Hike
DESCRIPTION:Join us for a staff-led hike throughout the beautiful Slate Run Metro Park! Meet at Buzzards Roost picnic area. Terrain is hilly\, and composed of gravel\, hiking boots are recommend.
URL:https://www.metroparks.net/event/for-adults-50-autumn-hike/
LOCATION:Slate Run Park\, 1375 St. Rte. 674 North\, Canal Winchester\, 43110\, United States
END:VEVENT
BEGIN:VEVENT
DTSTART;TZID=America/New_York:20251106T110000
DTEND;TZID=America/New_York:20251106T123000
DTSTAMP:20260423T032535
CREATED:20251030T142006Z
LAST-MODIFIED:20251030T142006Z
UID:10003495-1762426800-1762432200@www.metroparks.net
SUMMARY:Homeschool: Compass Class
DESCRIPTION:Homeschoolers can learn how to use a compass and navigate in the woods. If you have a compass please feel free to bing it along!
URL:https://www.metroparks.net/event/homeschool-compass-class/
LOCATION:Sharon Woods\, 6911 Cleveland Ave.\, Columbus\, OH\, 43081\, United States
END:VEVENT
BEGIN:VEVENT
DTSTART;TZID=America/New_York:20251106T163000
DTEND;TZID=America/New_York:20251106T180000
DTSTAMP:20260423T032535
CREATED:20251027T120354Z
LAST-MODIFIED:20251027T120354Z
UID:10003447-1762446600-1762452000@www.metroparks.net
SUMMARY:Try It! Archery
DESCRIPTION:Come try your hand at this free archery program! Come out anytime between the times listed. All equipment provided. Ages 8+.
URL:https://www.metroparks.net/event/try-it-archery-24/2025-11-06/
LOCATION:Scioto Grove\, 5172 Jackson Pike\, Grove City\, OH\, 43123\, United States
END:VEVENT
BEGIN:VEVENT
DTSTART;TZID=America/New_York:20251106T183000
DTEND;TZID=America/New_York:20251106T200000
DTSTAMP:20260423T032535
CREATED:20251027T121021Z
LAST-MODIFIED:20251027T121021Z
UID:10003454-1762453800-1762459200@www.metroparks.net
SUMMARY:Night Hike
DESCRIPTION:Join us for a hike after dark at Scioto Grove Metro Park! The hike will be approx. 2-miles. Meet at the Arrowhead Picnic area.
URL:https://www.metroparks.net/event/night-hike-23/
LOCATION:Scioto Grove\, 5172 Jackson Pike\, Grove City\, OH\, 43123\, United States
END:VEVENT
END:VCALENDAR