BEGIN:VCALENDAR
VERSION:2.0
PRODID:-//Metro Parks - Central Ohio Park System - ECPv6.15.16.1//NONSGML v1.0//EN
CALSCALE:GREGORIAN
METHOD:PUBLISH
X-ORIGINAL-URL:https://www.metroparks.net
X-WR-CALDESC:Events for Metro Parks - Central Ohio Park System
REFRESH-INTERVAL;VALUE=DURATION:PT1H
X-Robots-Tag:noindex
X-PUBLISHED-TTL:PT1H
BEGIN:VTIMEZONE
TZID:America/New_York
BEGIN:DAYLIGHT
TZOFFSETFROM:-0500
TZOFFSETTO:-0400
TZNAME:EDT
DTSTART:20240310T070000
END:DAYLIGHT
BEGIN:STANDARD
TZOFFSETFROM:-0400
TZOFFSETTO:-0500
TZNAME:EST
DTSTART:20241103T060000
END:STANDARD
BEGIN:DAYLIGHT
TZOFFSETFROM:-0500
TZOFFSETTO:-0400
TZNAME:EDT
DTSTART:20250309T070000
END:DAYLIGHT
BEGIN:STANDARD
TZOFFSETFROM:-0400
TZOFFSETTO:-0500
TZNAME:EST
DTSTART:20251102T060000
END:STANDARD
BEGIN:DAYLIGHT
TZOFFSETFROM:-0500
TZOFFSETTO:-0400
TZNAME:EDT
DTSTART:20260308T070000
END:DAYLIGHT
BEGIN:STANDARD
TZOFFSETFROM:-0400
TZOFFSETTO:-0500
TZNAME:EST
DTSTART:20261101T060000
END:STANDARD
END:VTIMEZONE
BEGIN:VEVENT
DTSTART;TZID=America/New_York:20251115T090000
DTEND;TZID=America/New_York:20251115T100000
DTSTAMP:20260423T192223
CREATED:20251022T132121Z
LAST-MODIFIED:20251022T132121Z
UID:10003406-1763197200-1763200800@www.metroparks.net
SUMMARY:Beginning Birders
DESCRIPTION:Fall is a great time to start birding! Join the naturalist on a short hike to look for winter birds\, and hopefully find some migrating waterfowl on the lake. Binoculars available to borrow.
URL:https://www.metroparks.net/event/beginning-birders/
LOCATION:Blendon Woods\, 4265 E Dublin Granville Road\, Columbus\, 43081\, United States
END:VEVENT
BEGIN:VEVENT
DTSTART;TZID=America/New_York:20251115T100000
DTEND;TZID=America/New_York:20251115T150000
DTSTAMP:20260423T192223
CREATED:20251022T132012Z
LAST-MODIFIED:20251022T132012Z
UID:10003404-1763200800-1763218800@www.metroparks.net
SUMMARY:For Adults 50+: Speaker Saturday!
DESCRIPTION:Bring your lunch and something to drink as we settle in for a day of engaging presentations. Metro Parks own Resource Management team will kick off the day as they share species and habitat management project updates. We’ll also be joined by Donald Althoff\, a Certified Wildlife Biologist and Professor Emeritus of Wildlife Conservation at the University of Rio Grande. He will delight us with tales of his southern flying squirrel research. Associate Professor Emeritus\, Robert Klips\, at Ohio State’s Department of Evolution\, Ecology and Organismal Biology will share the mysteries of mosses and lichens. We will end our day with live wild animals from the Ohio Wildlife Center! Admission is free!! \nMeet at the Grove Lodge.
URL:https://www.metroparks.net/event/for-adults-50-speaker-saturday/
LOCATION:Scioto Grove\, 5172 Jackson Pike\, Grove City\, OH\, 43123\, United States
END:VEVENT
BEGIN:VEVENT
DTSTART;TZID=America/New_York:20251115T100000
DTEND;TZID=America/New_York:20251115T160000
DTSTAMP:20260423T192223
CREATED:20251028T172837Z
LAST-MODIFIED:20251028T172837Z
UID:10003487-1763200800-1763222400@www.metroparks.net
SUMMARY:Indoor Amusements
DESCRIPTION:Ongoing at the farmhouse between 10am-4pm.\nTry some indoor games and toys and challenge your mind with some 19th century puzzles.
URL:https://www.metroparks.net/event/indoor-amusements-3/2025-11-15/
LOCATION:Slate Run Living Historical Farm\, 1375 OH-674\, Canal Winchester\, OH\, 43110\, United States
END:VEVENT
BEGIN:VEVENT
DTSTART;TZID=America/New_York:20251115T110000
DTEND;TZID=America/New_York:20251115T130000
DTSTAMP:20260423T192223
CREATED:20251022T131928Z
LAST-MODIFIED:20251022T131928Z
UID:10003403-1763204400-1763211600@www.metroparks.net
SUMMARY:Lunchtime Hot Dog Campfire
DESCRIPTION:Come out to the park to hike\, explore or play on your own then stop by a campfire to roast hot dogs and marshmallows. We’ll have a generous supply of hot dogs but they will be available only while they last. Three Creeks Metro Park Confluence Area picnic shelter\, 3860 Bixby Rd\, Groveport
URL:https://www.metroparks.net/event/lunchtime-hot-dog-campfire-3/
LOCATION:Three Creeks\, 3860 Bixby Road\, Groveport\, OH\, 43125\, United States
END:VEVENT
BEGIN:VEVENT
DTSTART;TZID=America/New_York:20251115T110000
DTEND;TZID=America/New_York:20251115T170000
DTSTAMP:20260423T192223
CREATED:20251030T142148Z
LAST-MODIFIED:20251030T142148Z
UID:10003497-1763204400-1763226000@www.metroparks.net
SUMMARY:America Recycles Day
DESCRIPTION:Drop by the Naturalist’s Office and make a reusable grocery bag from an old t-shirt. Bring your own shirt or use one of ours.
URL:https://www.metroparks.net/event/america-recycles-day/
LOCATION:Sharon Woods\, 6911 Cleveland Ave.\, Columbus\, OH\, 43081\, United States
END:VEVENT
BEGIN:VEVENT
DTSTART;TZID=America/New_York:20251115T120000
DTEND;TZID=America/New_York:20251115T130000
DTSTAMP:20260423T192223
CREATED:20251027T123323Z
LAST-MODIFIED:20251027T123323Z
UID:10003473-1763208000-1763211600@www.metroparks.net
SUMMARY:Adult Fossil Hike
DESCRIPTION:Meet at the Kingsfisher shelter and take a 1.5 mile to learn about and look for the types of fossils found at the park.\nUse address 2319 Quarry Trails Drive Columbus OH 43228 and follow the roadway back to the Lake Area parking lot.
URL:https://www.metroparks.net/event/adult-fossil-hike/
LOCATION:Quarry Trails\, 2600 Dublin Road\, Columbus\, OH\, 43228\, United States
END:VEVENT
BEGIN:VEVENT
DTSTART;TZID=America/New_York:20251115T140000
DTEND;TZID=America/New_York:20251115T153000
DTSTAMP:20260423T192223
CREATED:20251027T115958Z
LAST-MODIFIED:20251027T115958Z
UID:10003443-1763215200-1763220600@www.metroparks.net
SUMMARY:Cowboy Campfire Coffee!
DESCRIPTION:Enjoy coffee by the campfire at Quarry Trails Metro Park! Meet at the lower Sled Hill parking lot! Free\, all equipment provided!
URL:https://www.metroparks.net/event/cowboy-campfire-coffee-6/2025-11-15/
LOCATION:Quarry Trails\, 2600 Dublin Road\, Columbus\, OH\, 43228\, United States
END:VEVENT
BEGIN:VEVENT
DTSTART;TZID=America/New_York:20251115T190000
DTEND;TZID=America/New_York:20251115T200000
DTSTAMP:20260423T192223
CREATED:20251022T132045Z
LAST-MODIFIED:20251022T132045Z
UID:10003405-1763233200-1763236800@www.metroparks.net
SUMMARY:Evening Turkey Trot
DESCRIPTION:Tottle\, walk\, or trot with us as we talk about turkeys and get our exercise in before the big feast!\nWe will hike the Multiuse Trail around the park (approximately .8 miles) that is completely paved! Please dress in layers and comfortable shoes!\nThis program is geared towards all ages. Meet at the Barn Shelter (the white building by the first parking lot on the right)\, rain or shine!
URL:https://www.metroparks.net/event/evening-turkey-trot/
LOCATION:Homestead\, 4675 Cosgray Road\, Hilliard\, OH\, 43026\, United States
END:VEVENT
END:VCALENDAR