BEGIN:VCALENDAR
VERSION:2.0
PRODID:-//Metro Parks - Central Ohio Park System - ECPv6.15.16.1//NONSGML v1.0//EN
CALSCALE:GREGORIAN
METHOD:PUBLISH
X-ORIGINAL-URL:https://www.metroparks.net
X-WR-CALDESC:Events for Metro Parks - Central Ohio Park System
REFRESH-INTERVAL;VALUE=DURATION:PT1H
X-Robots-Tag:noindex
X-PUBLISHED-TTL:PT1H
BEGIN:VTIMEZONE
TZID:America/New_York
BEGIN:DAYLIGHT
TZOFFSETFROM:-0500
TZOFFSETTO:-0400
TZNAME:EDT
DTSTART:20240310T070000
END:DAYLIGHT
BEGIN:STANDARD
TZOFFSETFROM:-0400
TZOFFSETTO:-0500
TZNAME:EST
DTSTART:20241103T060000
END:STANDARD
BEGIN:DAYLIGHT
TZOFFSETFROM:-0500
TZOFFSETTO:-0400
TZNAME:EDT
DTSTART:20250309T070000
END:DAYLIGHT
BEGIN:STANDARD
TZOFFSETFROM:-0400
TZOFFSETTO:-0500
TZNAME:EST
DTSTART:20251102T060000
END:STANDARD
BEGIN:DAYLIGHT
TZOFFSETFROM:-0500
TZOFFSETTO:-0400
TZNAME:EDT
DTSTART:20260308T070000
END:DAYLIGHT
BEGIN:STANDARD
TZOFFSETFROM:-0400
TZOFFSETTO:-0500
TZNAME:EST
DTSTART:20261101T060000
END:STANDARD
END:VTIMEZONE
BEGIN:VEVENT
DTSTART;TZID=America/New_York:20251118T100000
DTEND;TZID=America/New_York:20251118T110000
DTSTAMP:20260424T122359
CREATED:20251023T182810Z
LAST-MODIFIED:20251023T182810Z
UID:10003430-1763460000-1763463600@www.metroparks.net
SUMMARY:Preschoolers: Talkin' Turkeys
DESCRIPTION:Learn about wild turkeys through a story\, activity and a craft.
URL:https://www.metroparks.net/event/preschoolers-talkin-turkeys-2/2025-11-18/1/
LOCATION:Blacklick Woods\, 6975 East Livingston Ave\, Reynoldsburg\, OH\, 43068\, United States
END:VEVENT
BEGIN:VEVENT
DTSTART;TZID=America/New_York:20251118T130000
DTEND;TZID=America/New_York:20251118T140000
DTSTAMP:20260424T122359
CREATED:20251023T182810Z
LAST-MODIFIED:20251023T182810Z
UID:10003431-1763470800-1763474400@www.metroparks.net
SUMMARY:Preschoolers: Talkin' Turkeys
DESCRIPTION:Learn about wild turkeys through a story\, activity and a craft.
URL:https://www.metroparks.net/event/preschoolers-talkin-turkeys-2/2025-11-18/2/
LOCATION:Blacklick Woods\, 6975 East Livingston Ave\, Reynoldsburg\, OH\, 43068\, United States
END:VEVENT
BEGIN:VEVENT
DTSTART;TZID=America/New_York:20251118T180000
DTEND;TZID=America/New_York:20251118T190000
DTSTAMP:20260424T122359
CREATED:20251027T121720Z
LAST-MODIFIED:20251027T121720Z
UID:10003459-1763488800-1763492400@www.metroparks.net
SUMMARY:Backpacking Meals - Thanksgiving!
DESCRIPTION:Join us at Scioto Grove Metro Park to learn how to make a delicious Thanksgiving backpacking meal! All ingredients\, instruction\, and materials provided. Free and delicious! Meet at Arrowhead Picnic Area
URL:https://www.metroparks.net/event/backpacking-meals-thanksgiving/
LOCATION:Scioto Grove\, 5172 Jackson Pike\, Grove City\, OH\, 43123\, United States
END:VEVENT
END:VCALENDAR