BEGIN:VCALENDAR
VERSION:2.0
PRODID:-//Metro Parks - Central Ohio Park System - ECPv6.15.16.1//NONSGML v1.0//EN
CALSCALE:GREGORIAN
METHOD:PUBLISH
X-ORIGINAL-URL:https://www.metroparks.net
X-WR-CALDESC:Events for Metro Parks - Central Ohio Park System
REFRESH-INTERVAL;VALUE=DURATION:PT1H
X-Robots-Tag:noindex
X-PUBLISHED-TTL:PT1H
BEGIN:VTIMEZONE
TZID:America/New_York
BEGIN:DAYLIGHT
TZOFFSETFROM:-0500
TZOFFSETTO:-0400
TZNAME:EDT
DTSTART:20240310T070000
END:DAYLIGHT
BEGIN:STANDARD
TZOFFSETFROM:-0400
TZOFFSETTO:-0500
TZNAME:EST
DTSTART:20241103T060000
END:STANDARD
BEGIN:DAYLIGHT
TZOFFSETFROM:-0500
TZOFFSETTO:-0400
TZNAME:EDT
DTSTART:20250309T070000
END:DAYLIGHT
BEGIN:STANDARD
TZOFFSETFROM:-0400
TZOFFSETTO:-0500
TZNAME:EST
DTSTART:20251102T060000
END:STANDARD
BEGIN:DAYLIGHT
TZOFFSETFROM:-0500
TZOFFSETTO:-0400
TZNAME:EDT
DTSTART:20260308T070000
END:DAYLIGHT
BEGIN:STANDARD
TZOFFSETFROM:-0400
TZOFFSETTO:-0500
TZNAME:EST
DTSTART:20261101T060000
END:STANDARD
END:VTIMEZONE
BEGIN:VEVENT
DTSTART;TZID=America/New_York:20251120T133000
DTEND;TZID=America/New_York:20251120T150000
DTSTAMP:20260424T151705
CREATED:20251028T172935Z
LAST-MODIFIED:20251028T172935Z
UID:10003489-1763645400-1763650800@www.metroparks.net
SUMMARY:Homeschoolers on the Farm: Thanksgiving Traditions
DESCRIPTION:Program begins promptly at 1:30pm.\nMeet in front of the farmhouse.\nLearn about the history of Thanksgiving foods and traditions.
URL:https://www.metroparks.net/event/homeschoolers-on-the-farm-thanksgiving-traditions-2/
LOCATION:Slate Run Living Historical Farm\, 1375 OH-674\, Canal Winchester\, OH\, 43110\, United States
END:VEVENT
BEGIN:VEVENT
DTSTART;TZID=America/New_York:20251120T140000
DTEND;TZID=America/New_York:20251120T150000
DTSTAMP:20260424T151705
CREATED:20251023T182830Z
LAST-MODIFIED:20251023T182830Z
UID:10003432-1763647200-1763650800@www.metroparks.net
SUMMARY:For Adults 50+: Tea Time
DESCRIPTION:Take a half-mile hike and learn about different wild plants that you can use to make tea with and then try some samples.
URL:https://www.metroparks.net/event/for-adults-50-tea-time/
LOCATION:Blacklick Woods\, 6975 East Livingston Ave\, Reynoldsburg\, OH\, 43068\, United States
END:VEVENT
BEGIN:VEVENT
DTSTART;TZID=America/New_York:20251120T180000
DTEND;TZID=America/New_York:20251120T193000
DTSTAMP:20260424T151705
CREATED:20251027T121901Z
LAST-MODIFIED:20251027T121901Z
UID:10003460-1763661600-1763667000@www.metroparks.net
SUMMARY:Glow Bocce
DESCRIPTION:No Registration Required!! Enjoy night time Bocce at Scioto Audubon Metro Park! Glow bocce balls will be provided on a first come\, first served basis. Meet at the bocce courts next to the restrooms.
URL:https://www.metroparks.net/event/glow-bocce-3/
LOCATION:Scioto Audubon\, 400 West Whittier St.\, Columbus\, OH\, 43215\, United States
END:VEVENT
END:VCALENDAR