BEGIN:VCALENDAR
VERSION:2.0
PRODID:-//Metro Parks - Central Ohio Park System - ECPv6.15.16.1//NONSGML v1.0//EN
CALSCALE:GREGORIAN
METHOD:PUBLISH
X-ORIGINAL-URL:https://www.metroparks.net
X-WR-CALDESC:Events for Metro Parks - Central Ohio Park System
REFRESH-INTERVAL;VALUE=DURATION:PT1H
X-Robots-Tag:noindex
X-PUBLISHED-TTL:PT1H
BEGIN:VTIMEZONE
TZID:America/New_York
BEGIN:DAYLIGHT
TZOFFSETFROM:-0500
TZOFFSETTO:-0400
TZNAME:EDT
DTSTART:20240310T070000
END:DAYLIGHT
BEGIN:STANDARD
TZOFFSETFROM:-0400
TZOFFSETTO:-0500
TZNAME:EST
DTSTART:20241103T060000
END:STANDARD
BEGIN:DAYLIGHT
TZOFFSETFROM:-0500
TZOFFSETTO:-0400
TZNAME:EDT
DTSTART:20250309T070000
END:DAYLIGHT
BEGIN:STANDARD
TZOFFSETFROM:-0400
TZOFFSETTO:-0500
TZNAME:EST
DTSTART:20251102T060000
END:STANDARD
BEGIN:DAYLIGHT
TZOFFSETFROM:-0500
TZOFFSETTO:-0400
TZNAME:EDT
DTSTART:20260308T070000
END:DAYLIGHT
BEGIN:STANDARD
TZOFFSETFROM:-0400
TZOFFSETTO:-0500
TZNAME:EST
DTSTART:20261101T060000
END:STANDARD
END:VTIMEZONE
BEGIN:VEVENT
DTSTART;TZID=America/New_York:20251121T100000
DTEND;TZID=America/New_York:20251121T110000
DTSTAMP:20260424T164125
CREATED:20251022T132549Z
LAST-MODIFIED:20251022T132619Z
UID:10003414-1763719200-1763722800@www.metroparks.net
SUMMARY:Preschool: Hidden Village
DESCRIPTION:Discover a hidden village right beside you as we explore a conifer grove! We will meet at the Barn Shelter for a story and craft\, then go on a short walk to discover secrets right under our noses!\nThis program is geared towards ages 3-6. Meet at the barn shelter\, rain or shine!
URL:https://www.metroparks.net/event/preschool-hidden-village/2025-11-21/1/
LOCATION:Homestead\, 4675 Cosgray Road\, Hilliard\, OH\, 43026\, United States
END:VEVENT
BEGIN:VEVENT
DTSTART;TZID=America/New_York:20251121T130000
DTEND;TZID=America/New_York:20251121T140000
DTSTAMP:20260424T164125
CREATED:20251022T132549Z
LAST-MODIFIED:20251022T132619Z
UID:10003415-1763730000-1763733600@www.metroparks.net
SUMMARY:Preschool: Hidden Village
DESCRIPTION:Discover a hidden village right beside you as we explore a conifer grove! We will meet at the Barn Shelter for a story and craft\, then go on a short walk to discover secrets right under our noses!\nThis program is geared towards ages 3-6. Meet at the barn shelter\, rain or shine!
URL:https://www.metroparks.net/event/preschool-hidden-village/2025-11-21/2/
LOCATION:Homestead\, 4675 Cosgray Road\, Hilliard\, OH\, 43026\, United States
END:VEVENT
BEGIN:VEVENT
DTSTART;TZID=America/New_York:20251121T150000
DTEND;TZID=America/New_York:20251121T180000
DTSTAMP:20260424T164125
CREATED:20251023T182902Z
LAST-MODIFIED:20251023T182902Z
UID:10003433-1763737200-1763748000@www.metroparks.net
SUMMARY:After School Crafts
DESCRIPTION:Stop by the Nature Center to make some Thanksgiving-themed crafts.
URL:https://www.metroparks.net/event/after-school-crafts-3/
LOCATION:Blacklick Woods\, 6975 East Livingston Ave\, Reynoldsburg\, OH\, 43068\, United States
END:VEVENT
BEGIN:VEVENT
DTSTART;TZID=America/New_York:20251121T180000
DTEND;TZID=America/New_York:20251121T190000
DTSTAMP:20260424T164125
CREATED:20251027T122004Z
LAST-MODIFIED:20251027T122004Z
UID:10003461-1763748000-1763751600@www.metroparks.net
SUMMARY:Candlelit Relaxation Yoga
DESCRIPTION:Enjoy a relaxing evening of yoga by candlelight at Scioto Grove Metro Park. We will be inside at The Grove lodge at Scioto Grove Metro Park. Free and fun for all levels! Bring your own mat
URL:https://www.metroparks.net/event/candlelit-relaxation-yoga/
LOCATION:Scioto Grove\, 5172 Jackson Pike\, Grove City\, OH\, 43123\, United States
END:VEVENT
END:VCALENDAR