BEGIN:VCALENDAR
VERSION:2.0
PRODID:-//Metro Parks - Central Ohio Park System - ECPv6.15.16.1//NONSGML v1.0//EN
CALSCALE:GREGORIAN
METHOD:PUBLISH
X-ORIGINAL-URL:https://www.metroparks.net
X-WR-CALDESC:Events for Metro Parks - Central Ohio Park System
REFRESH-INTERVAL;VALUE=DURATION:PT1H
X-Robots-Tag:noindex
X-PUBLISHED-TTL:PT1H
BEGIN:VTIMEZONE
TZID:America/New_York
BEGIN:DAYLIGHT
TZOFFSETFROM:-0500
TZOFFSETTO:-0400
TZNAME:EDT
DTSTART:20240310T070000
END:DAYLIGHT
BEGIN:STANDARD
TZOFFSETFROM:-0400
TZOFFSETTO:-0500
TZNAME:EST
DTSTART:20241103T060000
END:STANDARD
BEGIN:DAYLIGHT
TZOFFSETFROM:-0500
TZOFFSETTO:-0400
TZNAME:EDT
DTSTART:20250309T070000
END:DAYLIGHT
BEGIN:STANDARD
TZOFFSETFROM:-0400
TZOFFSETTO:-0500
TZNAME:EST
DTSTART:20251102T060000
END:STANDARD
BEGIN:DAYLIGHT
TZOFFSETFROM:-0500
TZOFFSETTO:-0400
TZNAME:EDT
DTSTART:20260308T070000
END:DAYLIGHT
BEGIN:STANDARD
TZOFFSETFROM:-0400
TZOFFSETTO:-0500
TZNAME:EST
DTSTART:20261101T060000
END:STANDARD
END:VTIMEZONE
BEGIN:VEVENT
DTSTART;TZID=America/New_York:20251122T093000
DTEND;TZID=America/New_York:20251122T103000
DTSTAMP:20260424T181459
CREATED:20251027T122040Z
LAST-MODIFIED:20251027T122040Z
UID:10003462-1763803800-1763807400@www.metroparks.net
SUMMARY:Fall Fitness Hike
DESCRIPTION:Join us for a brisk hike through the forest at Slate Run Metro Park! Meet at the Buzzards roost picnic area. Terrain is steep and uneven\, hiking boots recommended. Approx. 2-miles
URL:https://www.metroparks.net/event/fall-fitness-hike/
LOCATION:Slate Run Park\, 1375 St. Rte. 674 North\, Canal Winchester\, 43110\, United States
END:VEVENT
BEGIN:VEVENT
DTSTART;TZID=America/New_York:20251122T100000
DTEND;TZID=America/New_York:20251122T113000
DTSTAMP:20260424T181459
CREATED:20251022T132217Z
LAST-MODIFIED:20251022T132217Z
UID:10003408-1763805600-1763811000@www.metroparks.net
SUMMARY:Walk To The Eagle Nest
DESCRIPTION:Take a 2-mile round trip mostly off-trail hike to learn about bald eagles and observe the nest from below. Sometimes we see eagles and sometimes we don’t! Dress for off-trail walking. No pets\, please. Meets at Three Creeks Metro Park Confluence Area bulletin board\, 3860 Bixby Rd\, Groveport
URL:https://www.metroparks.net/event/walk-to-the-eagle-nest-7/2025-11-22/
LOCATION:Three Creeks\, 3860 Bixby Road\, Groveport\, OH\, 43125\, United States
END:VEVENT
BEGIN:VEVENT
DTSTART;TZID=America/New_York:20251122T100000
DTEND;TZID=America/New_York:20251122T140000
DTSTAMP:20260424T181459
CREATED:20251030T142221Z
LAST-MODIFIED:20251030T142221Z
UID:10003498-1763805600-1763820000@www.metroparks.net
SUMMARY:Nuts for Nuts
DESCRIPTION:Stop by to learn about\, and taste\, some of the local nuts that feed our wildlife. Not suitable for anyone with a tree nut allergy.
URL:https://www.metroparks.net/event/nuts-for-nuts/
LOCATION:Sharon Woods\, 6911 Cleveland Ave.\, Columbus\, OH\, 43081\, United States
END:VEVENT
BEGIN:VEVENT
DTSTART;TZID=America/New_York:20251122T100000
DTEND;TZID=America/New_York:20251122T160000
DTSTAMP:20260424T181459
CREATED:20251028T173016Z
LAST-MODIFIED:20251028T173016Z
UID:10003490-1763805600-1763827200@www.metroparks.net
SUMMARY:Thanksgiving Traditions
DESCRIPTION:Ongoing at the farmhouse between 10am-4pm.\nEnjoy a display and some activities about Thanksgiving foods and traditions.
URL:https://www.metroparks.net/event/thanksgiving-traditions-2/2025-11-22/
LOCATION:Slate Run Living Historical Farm\, 1375 OH-674\, Canal Winchester\, OH\, 43110\, United States
END:VEVENT
BEGIN:VEVENT
DTSTART;TZID=America/New_York:20251122T180000
DTEND;TZID=America/New_York:20251122T200000
DTSTAMP:20260424T181459
CREATED:20251027T130128Z
LAST-MODIFIED:20251027T130128Z
UID:10003482-1763834400-1763841600@www.metroparks.net
SUMMARY:Astronomy Night
DESCRIPTION:Let’s check out the night sky and make a star chart to take home. We do not promise a cloudless night\, but there will be activities regardless. Meet at the nature center overflow parking lot.
URL:https://www.metroparks.net/event/astronomy-night-3/
LOCATION:Battelle Darby Creek\, 1775 Darby Creek Drive\, Galloway\, OH\, 43119\, United States
END:VEVENT
END:VCALENDAR