BEGIN:VCALENDAR
VERSION:2.0
PRODID:-//Metro Parks - Central Ohio Park System - ECPv6.15.16.1//NONSGML v1.0//EN
CALSCALE:GREGORIAN
METHOD:PUBLISH
X-ORIGINAL-URL:https://www.metroparks.net
X-WR-CALDESC:Events for Metro Parks - Central Ohio Park System
REFRESH-INTERVAL;VALUE=DURATION:PT1H
X-Robots-Tag:noindex
X-PUBLISHED-TTL:PT1H
BEGIN:VTIMEZONE
TZID:America/New_York
BEGIN:DAYLIGHT
TZOFFSETFROM:-0500
TZOFFSETTO:-0400
TZNAME:EDT
DTSTART:20240310T070000
END:DAYLIGHT
BEGIN:STANDARD
TZOFFSETFROM:-0400
TZOFFSETTO:-0500
TZNAME:EST
DTSTART:20241103T060000
END:STANDARD
BEGIN:DAYLIGHT
TZOFFSETFROM:-0500
TZOFFSETTO:-0400
TZNAME:EDT
DTSTART:20250309T070000
END:DAYLIGHT
BEGIN:STANDARD
TZOFFSETFROM:-0400
TZOFFSETTO:-0500
TZNAME:EST
DTSTART:20251102T060000
END:STANDARD
BEGIN:DAYLIGHT
TZOFFSETFROM:-0500
TZOFFSETTO:-0400
TZNAME:EDT
DTSTART:20260308T070000
END:DAYLIGHT
BEGIN:STANDARD
TZOFFSETFROM:-0400
TZOFFSETTO:-0500
TZNAME:EST
DTSTART:20261101T060000
END:STANDARD
END:VTIMEZONE
BEGIN:VEVENT
DTSTART;TZID=America/New_York:20251123T100000
DTEND;TZID=America/New_York:20251123T160000
DTSTAMP:20260424T195727
CREATED:20251028T173016Z
LAST-MODIFIED:20251028T173016Z
UID:10003491-1763892000-1763913600@www.metroparks.net
SUMMARY:Thanksgiving Traditions
DESCRIPTION:Ongoing at the farmhouse between 10am-4pm.\nEnjoy a display and some activities about Thanksgiving foods and traditions.
URL:https://www.metroparks.net/event/thanksgiving-traditions-2/2025-11-23/
LOCATION:Slate Run Living Historical Farm\, 1375 OH-674\, Canal Winchester\, OH\, 43110\, United States
END:VEVENT
BEGIN:VEVENT
DTSTART;TZID=America/New_York:20251123T110000
DTEND;TZID=America/New_York:20251123T123000
DTSTAMP:20260424T195727
CREATED:20251022T132251Z
LAST-MODIFIED:20251022T132251Z
UID:10003410-1763895600-1763901000@www.metroparks.net
SUMMARY:Habitat Hike
DESCRIPTION:As it gets colder\, our furry and feathered friends must build or find houses to keep warm. Join us on a hike as we explore the habitats that house wildlife and the cool adaptations the animals have to stay through winter!\nWe will hike multiple trails (Approximately 2 miles) that have a combination of pavement\, gravel\, and dirt. Please dress in layers and comfortable shoes!\nThis program is geared towards all ages. Meet at the Shelter House (second parking lot by the restrooms and flagpole).
URL:https://www.metroparks.net/event/habitat-hike/
LOCATION:Glacier Ridge\, 9801 Hyland Croy\, Plain City\, OH\, 43064\, United States
END:VEVENT
BEGIN:VEVENT
DTSTART;TZID=America/New_York:20251123T140000
DTEND;TZID=America/New_York:20251123T150000
DTSTAMP:20260424T195727
CREATED:20251022T132321Z
LAST-MODIFIED:20251022T132321Z
UID:10003411-1763906400-1763910000@www.metroparks.net
SUMMARY:Autumn Wildlife Hike
DESCRIPTION:Hike about 2 miles on the Brookside/Overlook/Ripple Rock loop to look for turkeys\, squirrels\, deer\, and other animals buys preparing for winter. Gravel surface trail with stairs.
URL:https://www.metroparks.net/event/autumn-wildlife-hike/
LOCATION:Blendon Woods\, 4265 E Dublin Granville Road\, Columbus\, 43081\, United States
END:VEVENT
BEGIN:VEVENT
DTSTART;TZID=America/New_York:20251123T140000
DTEND;TZID=America/New_York:20251123T153000
DTSTAMP:20260424T195727
CREATED:20251027T122121Z
LAST-MODIFIED:20251027T122121Z
UID:10003463-1763906400-1763911800@www.metroparks.net
SUMMARY:Ultimate Frisbee
DESCRIPTION:Join us for a game of ULTIMATE FRISBEE! Equipment and instruction will be provided for this ultimate program! Meet at the lower Big Field at Scioto Audubon Metro Park. The Big Field is located across the road from the Water Tower.
URL:https://www.metroparks.net/event/ultimate-frisbee-2/
LOCATION:Scioto Audubon\, 400 West Whittier St.\, Columbus\, OH\, 43215\, United States
END:VEVENT
BEGIN:VEVENT
DTSTART;TZID=America/New_York:20251123T140000
DTEND;TZID=America/New_York:20251123T160000
DTSTAMP:20260424T195727
CREATED:20251023T182937Z
LAST-MODIFIED:20251023T182937Z
UID:10003434-1763906400-1763913600@www.metroparks.net
SUMMARY:Family Craft Workshop
DESCRIPTION:Join us for an afternoon of crafting and gift-making. All supplies provided. Bring a bag to take your creations home.
URL:https://www.metroparks.net/event/family-craft-workshop-3/
LOCATION:Inniswood Metro Gardens\, 940 S. Hempstead Rd.\, Westerville\, OH\, 43081\, United States
END:VEVENT
END:VCALENDAR