BEGIN:VCALENDAR
VERSION:2.0
PRODID:-//Metro Parks - Central Ohio Park System - ECPv6.15.16.1//NONSGML v1.0//EN
CALSCALE:GREGORIAN
METHOD:PUBLISH
X-WR-CALNAME:Metro Parks - Central Ohio Park System
X-ORIGINAL-URL:https://www.metroparks.net
X-WR-CALDESC:Events for Metro Parks - Central Ohio Park System
REFRESH-INTERVAL;VALUE=DURATION:PT1H
X-Robots-Tag:noindex
X-PUBLISHED-TTL:PT1H
BEGIN:VTIMEZONE
TZID:America/New_York
BEGIN:DAYLIGHT
TZOFFSETFROM:-0500
TZOFFSETTO:-0400
TZNAME:EDT
DTSTART:20240310T070000
END:DAYLIGHT
BEGIN:STANDARD
TZOFFSETFROM:-0400
TZOFFSETTO:-0500
TZNAME:EST
DTSTART:20241103T060000
END:STANDARD
BEGIN:DAYLIGHT
TZOFFSETFROM:-0500
TZOFFSETTO:-0400
TZNAME:EDT
DTSTART:20250309T070000
END:DAYLIGHT
BEGIN:STANDARD
TZOFFSETFROM:-0400
TZOFFSETTO:-0500
TZNAME:EST
DTSTART:20251102T060000
END:STANDARD
BEGIN:DAYLIGHT
TZOFFSETFROM:-0500
TZOFFSETTO:-0400
TZNAME:EDT
DTSTART:20260308T070000
END:DAYLIGHT
BEGIN:STANDARD
TZOFFSETFROM:-0400
TZOFFSETTO:-0500
TZNAME:EST
DTSTART:20261101T060000
END:STANDARD
END:VTIMEZONE
BEGIN:VEVENT
DTSTART;TZID=America/New_York:20251125T160000
DTEND;TZID=America/New_York:20251125T173000
DTSTAMP:20260424T231348
CREATED:20251027T122347Z
LAST-MODIFIED:20251027T122347Z
UID:10003466-1764086400-1764091800@www.metroparks.net
SUMMARY:Wheel Before the Big Meal
DESCRIPTION:Join us for a leisurely bike ride at Battelle Darby Creek Metro Park! Bikes (with helmet) are available to borrow by registering for this program. Each person who needs a bike must register to reserve their equipment! If you plan to bring your own bike\, you do not need to register. Bikes will not be available if you do not register for one! Meet at the Ranger Station at Cedar Ridge Area\, 1775 Darby Creek Dr. Galloway \n  \nIf you need to reserve equipment\, register here.
URL:https://www.metroparks.net/event/wheel-before-the-big-meal/
LOCATION:Battelle Darby Creek\, 1775 Darby Creek Drive\, Galloway\, OH\, 43119\, United States
END:VEVENT
BEGIN:VEVENT
DTSTART;TZID=America/New_York:20251125T180000
DTEND;TZID=America/New_York:20251125T190000
DTSTAMP:20260424T231348
CREATED:20251027T122249Z
LAST-MODIFIED:20251027T122249Z
UID:10003465-1764093600-1764097200@www.metroparks.net
SUMMARY:Glow Spikeball
DESCRIPTION:Join us for a free and fun session of Spikeball! This game requires some hand-eye coordination. Learn the basics and become a pro! All instruction and equipment provided. We will be playing in the field behind the Scioto Audubon Climbing Wall.
URL:https://www.metroparks.net/event/glow-spikeball/
LOCATION:Scioto Audubon\, 400 West Whittier St.\, Columbus\, OH\, 43215\, United States
END:VEVENT
END:VCALENDAR