BEGIN:VCALENDAR
VERSION:2.0
PRODID:-//Metro Parks - Central Ohio Park System - ECPv6.15.16.1//NONSGML v1.0//EN
CALSCALE:GREGORIAN
METHOD:PUBLISH
X-WR-CALNAME:Metro Parks - Central Ohio Park System
X-ORIGINAL-URL:https://www.metroparks.net
X-WR-CALDESC:Events for Metro Parks - Central Ohio Park System
REFRESH-INTERVAL;VALUE=DURATION:PT1H
X-Robots-Tag:noindex
X-PUBLISHED-TTL:PT1H
BEGIN:VTIMEZONE
TZID:America/New_York
BEGIN:DAYLIGHT
TZOFFSETFROM:-0500
TZOFFSETTO:-0400
TZNAME:EDT
DTSTART:20250309T070000
END:DAYLIGHT
BEGIN:STANDARD
TZOFFSETFROM:-0400
TZOFFSETTO:-0500
TZNAME:EST
DTSTART:20251102T060000
END:STANDARD
BEGIN:DAYLIGHT
TZOFFSETFROM:-0500
TZOFFSETTO:-0400
TZNAME:EDT
DTSTART:20260308T070000
END:DAYLIGHT
BEGIN:STANDARD
TZOFFSETFROM:-0400
TZOFFSETTO:-0500
TZNAME:EST
DTSTART:20261101T060000
END:STANDARD
BEGIN:DAYLIGHT
TZOFFSETFROM:-0500
TZOFFSETTO:-0400
TZNAME:EDT
DTSTART:20270314T070000
END:DAYLIGHT
BEGIN:STANDARD
TZOFFSETFROM:-0400
TZOFFSETTO:-0500
TZNAME:EST
DTSTART:20271107T060000
END:STANDARD
END:VTIMEZONE
BEGIN:VEVENT
DTSTART;TZID=America/New_York:20260420T100000
DTEND;TZID=America/New_York:20260420T110000
DTSTAMP:20260420T023237
CREATED:20260326T134921Z
LAST-MODIFIED:20260326T134921Z
UID:10004049-1776679200-1776682800@www.metroparks.net
SUMMARY:Toddler Adventure Club
DESCRIPTION:Join us on an exploratory hike at Sharon Woods Metro Park during our Toddler Adventure Club! We will hike as far as possible during the time-frame\, and staff will have an adventure pack with compasses\, maps\, and other adventure tools for kids to utilize during the program. Meet at Schrock Lake bulletin board.\n*Path will be stroller-friendly*
URL:https://www.metroparks.net/event/toddler-adventure-club-22/
LOCATION:Sharon Woods\, 6911 Cleveland Ave.\, Columbus\, OH\, 43081\, United States
END:VEVENT
BEGIN:VEVENT
DTSTART;TZID=America/New_York:20260420T140000
DTEND;TZID=America/New_York:20260420T150000
DTSTAMP:20260420T023237
CREATED:20260327T180920Z
LAST-MODIFIED:20260327T180920Z
UID:10004071-1776693600-1776697200@www.metroparks.net
SUMMARY:Homeschool: How to Stream Quality Monitor
DESCRIPTION:Get in the creek to learn how to Stream Quality Monitor. Catch macroinvertebrates and fish to learn about what it means for the creek. Closed toed shoes are required. Ages 8+.
URL:https://www.metroparks.net/event/homeschool-how-to-stream-quality-monitor/
LOCATION:Battelle Darby Creek\, 1775 Darby Creek Drive\, Galloway\, OH\, 43119\, United States
END:VEVENT
END:VCALENDAR