BEGIN:VCALENDAR
VERSION:2.0
PRODID:-//Metro Parks - Central Ohio Park System - ECPv6.15.16.1//NONSGML v1.0//EN
CALSCALE:GREGORIAN
METHOD:PUBLISH
X-WR-CALNAME:Metro Parks - Central Ohio Park System
X-ORIGINAL-URL:https://www.metroparks.net
X-WR-CALDESC:Events for Metro Parks - Central Ohio Park System
REFRESH-INTERVAL;VALUE=DURATION:PT1H
X-Robots-Tag:noindex
X-PUBLISHED-TTL:PT1H
BEGIN:VTIMEZONE
TZID:America/New_York
BEGIN:DAYLIGHT
TZOFFSETFROM:-0500
TZOFFSETTO:-0400
TZNAME:EDT
DTSTART:20230312T070000
END:DAYLIGHT
BEGIN:STANDARD
TZOFFSETFROM:-0400
TZOFFSETTO:-0500
TZNAME:EST
DTSTART:20231105T060000
END:STANDARD
BEGIN:DAYLIGHT
TZOFFSETFROM:-0500
TZOFFSETTO:-0400
TZNAME:EDT
DTSTART:20240310T070000
END:DAYLIGHT
BEGIN:STANDARD
TZOFFSETFROM:-0400
TZOFFSETTO:-0500
TZNAME:EST
DTSTART:20241103T060000
END:STANDARD
BEGIN:DAYLIGHT
TZOFFSETFROM:-0500
TZOFFSETTO:-0400
TZNAME:EDT
DTSTART:20250309T070000
END:DAYLIGHT
BEGIN:STANDARD
TZOFFSETFROM:-0400
TZOFFSETTO:-0500
TZNAME:EST
DTSTART:20251102T060000
END:STANDARD
END:VTIMEZONE
BEGIN:VEVENT
DTSTART;TZID=America/New_York:20240907T100000
DTEND;TZID=America/New_York:20240907T130000
DTSTAMP:20260422T122546
CREATED:20240827T171752Z
LAST-MODIFIED:20240827T171752Z
UID:10001762-1725703200-1725714000@www.metroparks.net
SUMMARY:Winnowing Rock Hike
DESCRIPTION:Take a guided 5-mile backcountry hike to Winnowing Rock. Terrain at Clear Creek is rugged and steep\, wear sturdy hiking shoes and bring water. Meet at the Park Office\, 185 Clear Creek Road in Lancaster.
URL:https://www.metroparks.net/event/winnowing-rock-hike-4/
LOCATION:Clear Creek\, 185 Clear Creek Road\, Lancaster\, OH\, 43130\, United States
END:VEVENT
BEGIN:VEVENT
DTSTART;TZID=America/New_York:20240907T100000
DTEND;TZID=America/New_York:20240907T140000
DTSTAMP:20260422T122546
CREATED:20240829T124110Z
LAST-MODIFIED:20240829T124110Z
UID:10001777-1725703200-1725717600@www.metroparks.net
SUMMARY:Signs of Fall: Scavenger Hunt
DESCRIPTION:Enjoy the signs of Fall while you walk any of the trails in the park. Pick-up a Scavenger Hunt sheet before you start and use it to record the signs of fall that you see. Return the sheet to the Naturalist before 7:00 pm and win a prize.
URL:https://www.metroparks.net/event/signs-of-fall-scavenger-hunt/
LOCATION:Sharon Woods\, 6911 Cleveland Ave.\, Columbus\, OH\, 43081\, United States
ATTACH;FMTTYPE=image/jpeg:https://www.metroparks.net/wp-content/uploads/2015/01/SHW_fall-along-entry-road_B-Knowles.jpg
END:VEVENT
BEGIN:VEVENT
DTSTART;TZID=America/New_York:20240907T130000
DTEND;TZID=America/New_York:20240907T140000
DTSTAMP:20260422T122546
CREATED:20240826T162702Z
LAST-MODIFIED:20240826T162702Z
UID:10001724-1725714000-1725717600@www.metroparks.net
SUMMARY:For Adults: Fungi Walk-n-Talk
DESCRIPTION:Join an educator for a walk and discussion focusing on some of the fungi commonly found at Inniswood. Trails are a mix of paved\, crushed limestone\, boardwalk\, and some turf.
URL:https://www.metroparks.net/event/for-adults-fungi-walk-n-talk/
LOCATION:Inniswood Metro Gardens\, 940 S. Hempstead Rd.\, Westerville\, OH\, 43081\, United States
END:VEVENT
BEGIN:VEVENT
DTSTART;TZID=America/New_York:20240907T130000
DTEND;TZID=America/New_York:20240907T143000
DTSTAMP:20260422T122546
CREATED:20240826T162145Z
LAST-MODIFIED:20240826T162157Z
UID:10001722-1725714000-1725719400@www.metroparks.net
SUMMARY:River Walk to the Giant Sycamore (off-trail)
DESCRIPTION:Walk in the water over rocks and boulders as we hike IN the Olentangy River to reach the famous Giant Sycamore tree. The tree we will be visiting is over 400 years old . This is a rugged 1.5 mile hike with varying water depth (water will be higher than rain boots). Closed toed shoes (water sandals\, old tennis shoes etc) are required. No flip flops. Families are welcome to bring nets or buckets to explore. Not wheelchair or stroller accessible. Participants should expect to get wet and bring towels and change of shoes for the way home. Hint: keeping an extra garbage bag in your car to sit on in case you get more wet than expected. \nIMPORTANT: River Bluff area does NOT have restrooms or water fountains. Please bring a water bottle. Apply insect repellant before coming to the program. \n***This program is contingent on Olentangy water levels and would be postponed in the event of high water levels. Tis post will be updated by 12pm on the day of the program. You can also contact the Highbanks nature center after 10am the day of the program (Highbanks Nature center phone number 614-846-9962)\nRiver Bluff Area does NOT have restrooms\, trash cans or water fountains. Please plan accordingly.\nMeeting location notes: River Bluff area is not located at the main area Highbanks. River Bluff entrance is located off 315 on the opposite side of the river as Highbanks main park. River Bluff Area physical address: 8400 Olentangy River Road\, Columbus OH 43235 Please call Highbanks nature center 614-846-9962 for questions prior to the day of the program. Day of program\, please call Highbanks Ranger cell phone at 614-906-3149.
URL:https://www.metroparks.net/event/river-walk-to-the-giant-sycamore-off-trail-2/
LOCATION:Highbanks River Bluff\, 8400 Olentangy River Rd.\, Columbus\, OH\, 43235\, United States
END:VEVENT
BEGIN:VEVENT
DTSTART;TZID=America/New_York:20240907T140000
DTEND;TZID=America/New_York:20240907T143000
DTSTAMP:20260422T122546
CREATED:20240822T123046Z
LAST-MODIFIED:20240822T123046Z
UID:10001703-1725717600-1725719400@www.metroparks.net
SUMMARY:Butterfly Release
DESCRIPTION:Learn about the epic migration undertaken by monarch butterflies\, the perils the face along the way\, what you can do you help them on their journey\, and watch as we tag and release any that are ready to migrate.
URL:https://www.metroparks.net/event/butterfly-release/
LOCATION:Blendon Woods\, 4265 E Dublin Granville Road\, Columbus\, 43081\, United States
ATTACH;FMTTYPE=image/jpeg:https://www.metroparks.net/wp-content/uploads/2020/02/Perdue-Tim-Monarch-HBK-1080p.jpg
END:VEVENT
BEGIN:VEVENT
DTSTART;TZID=America/New_York:20240907T140000
DTEND;TZID=America/New_York:20240907T150000
DTSTAMP:20260422T122546
CREATED:20240827T171814Z
LAST-MODIFIED:20240827T171814Z
UID:10001763-1725717600-1725721200@www.metroparks.net
SUMMARY:Cicadian Rhythm
DESCRIPTION:Buzz around on a 1-mile accessible hike along the Hawthorn Loop learning about cicadas and how they sing! Meet at the Ranger Station.
URL:https://www.metroparks.net/event/cicadian-rhythm/
LOCATION:Battelle Darby Creek\, 1775 Darby Creek Drive\, Galloway\, OH\, 43119\, United States
END:VEVENT
BEGIN:VEVENT
DTSTART;TZID=America/New_York:20240907T140000
DTEND;TZID=America/New_York:20240907T160000
DTSTAMP:20260422T122546
CREATED:20240826T163138Z
LAST-MODIFIED:20240826T163138Z
UID:10001727-1725717600-1725724800@www.metroparks.net
SUMMARY:Fungi Crafts
DESCRIPTION:Celebrate National Mushroom Month by stopping by the Nature Center and making some mushroom-themed crafts
URL:https://www.metroparks.net/event/fungi-crafts/
LOCATION:Blacklick Woods\, 6975 East Livingston Ave\, Reynoldsburg\, OH\, 43068\, United States
END:VEVENT
END:VCALENDAR