BEGIN:VCALENDAR
VERSION:2.0
PRODID:-//Metro Parks - Central Ohio Park System - ECPv6.15.16.1//NONSGML v1.0//EN
CALSCALE:GREGORIAN
METHOD:PUBLISH
X-WR-CALNAME:Metro Parks - Central Ohio Park System
X-ORIGINAL-URL:https://www.metroparks.net
X-WR-CALDESC:Events for Metro Parks - Central Ohio Park System
REFRESH-INTERVAL;VALUE=DURATION:PT1H
X-Robots-Tag:noindex
X-PUBLISHED-TTL:PT1H
BEGIN:VTIMEZONE
TZID:America/New_York
BEGIN:DAYLIGHT
TZOFFSETFROM:-0500
TZOFFSETTO:-0400
TZNAME:EDT
DTSTART:20230312T070000
END:DAYLIGHT
BEGIN:STANDARD
TZOFFSETFROM:-0400
TZOFFSETTO:-0500
TZNAME:EST
DTSTART:20231105T060000
END:STANDARD
BEGIN:DAYLIGHT
TZOFFSETFROM:-0500
TZOFFSETTO:-0400
TZNAME:EDT
DTSTART:20240310T070000
END:DAYLIGHT
BEGIN:STANDARD
TZOFFSETFROM:-0400
TZOFFSETTO:-0500
TZNAME:EST
DTSTART:20241103T060000
END:STANDARD
BEGIN:DAYLIGHT
TZOFFSETFROM:-0500
TZOFFSETTO:-0400
TZNAME:EDT
DTSTART:20250309T070000
END:DAYLIGHT
BEGIN:STANDARD
TZOFFSETFROM:-0400
TZOFFSETTO:-0500
TZNAME:EST
DTSTART:20251102T060000
END:STANDARD
END:VTIMEZONE
BEGIN:VEVENT
DTSTART;TZID=America/New_York:20240913T170000
DTEND;TZID=America/New_York:20240914T170000
DTSTAMP:20260421T042631
CREATED:20240502T131352Z
LAST-MODIFIED:20240903T142446Z
UID:10001310-1726246800-1726333200@www.metroparks.net
SUMMARY:Scioto Fest
DESCRIPTION:Scioto Fest will be bigger and better than ever this year. All the fun begins at Scioto Audubon Metro Park at 5pm on Friday\, September 13\, 2024 with Yappy Hour\, Try It! climbing wall programs\, river floats\, food trucks\, Nocterra beer\, plus a DJ and live bands. Find the full schedule of events here. \n 
URL:https://www.metroparks.net/event/scioto-fest/
LOCATION:Scioto Audubon\, 400 West Whittier St.\, Columbus\, OH\, 43215\, United States
ATTACH;FMTTYPE=image/png:https://www.metroparks.net/wp-content/uploads/2024/05/Scioto-Fest-2024-Event-Cover.png
END:VEVENT
BEGIN:VEVENT
DTSTART;TZID=America/New_York:20240913T183000
DTEND;TZID=America/New_York:20240913T200000
DTSTAMP:20260421T042631
CREATED:20240826T163848Z
LAST-MODIFIED:20240826T163848Z
UID:10001733-1726252200-1726257600@www.metroparks.net
SUMMARY:Adult: Hiking Club
DESCRIPTION:Join us on this social hike and meet like-minded adults who enjoy the outdoors. This month we will be hiking approx 2.5 miles on the multi-use and big meadows trail. Hike will be moderately paced\, some hills\, and is entirely on pavement. There will be limited interpretive stops.\nMeeting location notes:Highbanks Metro Park-Big Meadows Picnic Area. This meeting location is located near the back of the park. After you enter the park\, take the main road down the hill. At the bottom of the hill\, a sign will be on the right side saying “Big Meadows picnic area”. After the sign\, take the ROAD on the LEFT. Park in the first lot on the left. Meet near the restrooms/bulletin board/playground area.
URL:https://www.metroparks.net/event/adult-hiking-club/
LOCATION:Highbanks\, 9466 Columbus Pike (US Rt 23 N)\, Lewis Center\, OH\, 43035\, United States
ATTACH;FMTTYPE=image/jpeg:https://www.metroparks.net/wp-content/uploads/2023/09/1200px_HBK_walk-to-the-eagles-nest_Feb_v-gordon.jpg
END:VEVENT
BEGIN:VEVENT
DTSTART;TZID=America/New_York:20240913T210000
DTEND;TZID=America/New_York:20240913T233000
DTSTAMP:20260421T042631
CREATED:20240830T134753Z
LAST-MODIFIED:20240830T134753Z
UID:10001806-1726261200-1726270200@www.metroparks.net
SUMMARY:Late Nights At The Climbing Wall
DESCRIPTION:Enjoy Late Nights at the Climbing Wall at Scioto Audubon Metro Park! On the 2nd and 4th Fridays of the month\, the climbing wall lights will stay on until midnight for open climb. Please bring your own gear.
URL:https://www.metroparks.net/event/late-nights-at-the-climbing-wall-3/2024-09-13/
LOCATION:Scioto Audubon\, 400 West Whittier St.\, Columbus\, OH\, 43215\, United States
ATTACH;FMTTYPE=image/jpeg:https://www.metroparks.net/wp-content/uploads/2022/11/SAU-wall-and-tower-1200px.jpg
END:VEVENT
BEGIN:VEVENT
DTSTART;TZID=America/New_York:20240914T100000
DTEND;TZID=America/New_York:20240914T110000
DTSTAMP:20260421T042631
CREATED:20240829T124517Z
LAST-MODIFIED:20240829T124517Z
UID:10001780-1726308000-1726311600@www.metroparks.net
SUMMARY:Tree Hike
DESCRIPTION:Celebrate the changing of seasons and come on a hike through the woods to learn about the woody plants at Glacier Ridge! We will be discussing how to identify the trees and some interesting facts about each species.\nThis program is geared towards ages 12 and up. Meet at the shelter\, rain or shine!
URL:https://www.metroparks.net/event/tree-hike/
LOCATION:Glacier Ridge\, 9801 Hyland Croy\, Plain City\, OH\, 43064\, United States
ATTACH;FMTTYPE=image/jpeg:https://www.metroparks.net/wp-content/uploads/2024/08/P1230495.jpg
END:VEVENT
BEGIN:VEVENT
DTSTART;TZID=America/New_York:20240914T100000
DTEND;TZID=America/New_York:20240914T110000
DTSTAMP:20260421T042631
CREATED:20240826T164037Z
LAST-MODIFIED:20240826T164037Z
UID:10001735-1726308000-1726311600@www.metroparks.net
SUMMARY:Yoga in the Gardens
DESCRIPTION:Be in balance with nature as Joy Lawrence\, registered yoga teacher\, presents a gentle hatha yoga class. Please wear comfortable clothes and bring a yoga mat.
URL:https://www.metroparks.net/event/yoga-in-the-gardens/
LOCATION:Inniswood Metro Gardens\, 940 S. Hempstead Rd.\, Westerville\, OH\, 43081\, United States
ATTACH;FMTTYPE=image/jpeg:https://www.metroparks.net/wp-content/uploads/2020/03/BDC_Yoga-in-the-Park_July_Annette-Boose.jpg
END:VEVENT
BEGIN:VEVENT
DTSTART;TZID=America/New_York:20240914T120000
DTEND;TZID=America/New_York:20240914T150000
DTSTAMP:20260421T042631
CREATED:20240830T134623Z
LAST-MODIFIED:20240830T134623Z
UID:10001804-1726315200-1726326000@www.metroparks.net
SUMMARY:Try It! Climbing
DESCRIPTION:Join us for a late night climb! Outdoor Adventure will be down at the Scioto Audubon Climbing Wall from 10-11pm with equipment and climbing instruction. Try out the climbing wall under the lights at night! Closed toes shoes recommended\, no flip flops. Free and Fun!
URL:https://www.metroparks.net/event/try-it-climbing-4/2024-09-14/
LOCATION:Scioto Audubon\, 400 West Whittier St.\, Columbus\, OH\, 43215\, United States
ATTACH;FMTTYPE=image/jpeg:https://www.metroparks.net/wp-content/uploads/2024/08/SIO-Boom-Climbing-Wall-JackRockwood-2024-07-03.jpg
END:VEVENT
BEGIN:VEVENT
DTSTART;TZID=America/New_York:20240914T130000
DTEND;TZID=America/New_York:20240914T140000
DTSTAMP:20260421T042631
CREATED:20240826T164122Z
LAST-MODIFIED:20240826T164122Z
UID:10001736-1726318800-1726322400@www.metroparks.net
SUMMARY:Fall Fungi
DESCRIPTION:Celebrate National Mushroom Month by learning about and searching the trails for fungi on this 1.25-mile hike.
URL:https://www.metroparks.net/event/fall-fungi-2/
LOCATION:Blacklick Woods\, 6975 East Livingston Ave\, Reynoldsburg\, OH\, 43068\, United States
ATTACH;FMTTYPE=image/jpeg:https://www.metroparks.net/wp-content/uploads/2023/09/1200px_preserve-photos-amanita-genus.jpg
END:VEVENT
BEGIN:VEVENT
DTSTART;TZID=America/New_York:20240914T130000
DTEND;TZID=America/New_York:20240914T150000
DTSTAMP:20260421T042631
CREATED:20240826T163948Z
LAST-MODIFIED:20240826T163948Z
UID:10001734-1726318800-1726326000@www.metroparks.net
SUMMARY:Broomcorn and Broom Making
DESCRIPTION:Ongoing between 1-3pm at the barnyard workshop\nLearn about broomcorn and watch broom making.
URL:https://www.metroparks.net/event/broomcorn-and-broom-making/
LOCATION:Slate Run Living Historical Farm\, 1375 OH-674\, Canal Winchester\, OH\, 43110\, United States
END:VEVENT
BEGIN:VEVENT
DTSTART;TZID=America/New_York:20240914T140000
DTEND;TZID=America/New_York:20240914T150000
DTSTAMP:20260421T042631
CREATED:20240822T123205Z
LAST-MODIFIED:20240822T123205Z
UID:10001705-1726322400-1726326000@www.metroparks.net
SUMMARY:Hundred Acre Woods History
DESCRIPTION:Take a 2-mile off-trail hike while exploring the secrets of this beautiful forest. Wear sturdy shoes.
URL:https://www.metroparks.net/event/hundred-acre-woods-history/
LOCATION:100 Acre Wood\, 5280 Cambria Way\, Westerville\, Ohio\, 43081
END:VEVENT
BEGIN:VEVENT
DTSTART;TZID=America/New_York:20240914T140000
DTEND;TZID=America/New_York:20240914T163000
DTSTAMP:20260421T042631
CREATED:20240826T164236Z
LAST-MODIFIED:20240826T164236Z
UID:10001737-1726322400-1726331400@www.metroparks.net
SUMMARY:Drop In: Milk Carton Birdhouse Craft
DESCRIPTION:Stop by the Highbanks Nature Center between 2:00 and 5:00 to craft your own upcycled milk jug birdhouse and learn about the nesting habits of local birds. You’ll get to take your birdhouse home to hang in your own backyard! Instructions and a limited amount of\nsupplies will be provided. \nMeeting Location Notes: Highbanks Nature Center is the first right after entering the park. There is limited parking in the Nature Center lot on busy days. Additional parking is available in the Oak Coves Picnic Area\, a 10 minute walk from the Nature Center. Follow the paved trail through Oak Coves toward the Nature Center.
URL:https://www.metroparks.net/event/drop-in-milk-carton-birdhouse-craft/
LOCATION:Highbanks\, 9466 Columbus Pike (US Rt 23 N)\, Lewis Center\, OH\, 43035\, United States
END:VEVENT
BEGIN:VEVENT
DTSTART;TZID=America/New_York:20240915T093000
DTEND;TZID=America/New_York:20240915T113000
DTSTAMP:20260421T042631
CREATED:20240822T124632Z
LAST-MODIFIED:20240822T124632Z
UID:10001715-1726392600-1726399800@www.metroparks.net
SUMMARY:5-Mile Hike On The Greenway
DESCRIPTION:Let’s enjoy early autumn with an almost 5-mile hike along the Alum Creek Greenway. We’ll get some exercise and make an occasional stop for water or if we see anything interesting. Wear comfortable shoes and bring water. Meets at the Three Creeks Heron Pond Area bulletin board\, 3400 Williams Rd.
URL:https://www.metroparks.net/event/5-mile-hike-on-the-greenway-2/
LOCATION:Three Creeks\, 3860 Bixby Road\, Groveport\, OH\, 43125\, United States
END:VEVENT
BEGIN:VEVENT
DTSTART;TZID=America/New_York:20240915T130000
DTEND;TZID=America/New_York:20240915T140000
DTSTAMP:20260421T042631
CREATED:20240829T124544Z
LAST-MODIFIED:20240829T124544Z
UID:10001781-1726405200-1726408800@www.metroparks.net
SUMMARY:Meet the Animals of Homestead
DESCRIPTION:Come meet the ambassador animals that live at Homestead! We will learn everything about these Ohio animals from what they eat to how they outsmart the other animals that call Ohio home.\nThis program is geared for all ages. Meet at the barn shelter\, rain or shine!
URL:https://www.metroparks.net/event/meet-the-animals-of-homestead/
LOCATION:Homestead\, 4675 Cosgray Road\, Hilliard\, OH\, 43026\, United States
END:VEVENT
BEGIN:VEVENT
DTSTART;TZID=America/New_York:20240915T130000
DTEND;TZID=America/New_York:20240915T140000
DTSTAMP:20260421T042631
CREATED:20240822T123330Z
LAST-MODIFIED:20240822T123330Z
UID:10001706-1726405200-1726408800@www.metroparks.net
SUMMARY:Family Creeking
DESCRIPTION:Join the naturalists at the creek to see what aquatic life we can find. Wear close toes shoes.
URL:https://www.metroparks.net/event/family-creeking-8/
LOCATION:Blendon Woods\, 4265 E Dublin Granville Road\, Columbus\, 43081\, United States
ATTACH;FMTTYPE=image/jpeg:https://www.metroparks.net/wp-content/uploads/2024/08/100-Acre-Wood-Creeking-JackRockwood-2024-07-14-1.jpg
END:VEVENT
BEGIN:VEVENT
DTSTART;TZID=America/New_York:20240915T130000
DTEND;TZID=America/New_York:20240915T143000
DTSTAMP:20260421T042631
CREATED:20240830T133846Z
LAST-MODIFIED:20240830T134029Z
UID:10001796-1726405200-1726410600@www.metroparks.net
SUMMARY:Backpacking Series: Week 4- Clothing & Foot Care
DESCRIPTION:Are you wanting to learn more about backpacking? Join us for a 6-week long series of interactive classes designed as an introduction to backpacking\, building up to an overnight trip at the end! Attendance at all classes is NOT required – however the overnight trip will only be open to those who attend at least one class. Each weeks topic will have two dates to choose from in that week so participants can pick the day that works best for them to attend\, you don’t need to attend both dates in the week. Meet at Arrowhead Picnic area at Scioto Grove Metro Park \nThis week we will be discussing everything clothing and footwear! From layers to the best types of fabric to wear\, as well as blister prevention. Please come with any questions you have about trail clothing gear \nFall Backpacking Series:\nWeek 1: 4 Essentials & Site Selection\nWeek 2: Water & Waste\nWeek 3: Fuel\, Fire & Food\nWeek 4: Clothing & Foot Care\nWeek 5: Prep\, Safety and Outdoor Ethics\nWeek 6: Shakedown Hike!
URL:https://www.metroparks.net/event/backpacking-series-week-4-clothing-foot-care/2024-09-15/
LOCATION:Scioto Grove\, 5172 Jackson Pike\, Grove City\, OH\, 43123\, United States
END:VEVENT
BEGIN:VEVENT
DTSTART;TZID=America/New_York:20240915T140000
DTEND;TZID=America/New_York:20240915T150000
DTSTAMP:20260421T042631
CREATED:20240826T164406Z
LAST-MODIFIED:20240826T164406Z
UID:10001738-1726408800-1726412400@www.metroparks.net
SUMMARY:For Kids: Animal Olympics
DESCRIPTION:Have you got what it takes to become a Highbanks Gold Medalist? Find out as we take part in a series of physical challenges and compare our results to park wildlife! Ages 5+\nMeeting location notes:Highbanks Metro Park-Big Meadows Picnic Area. This meeting location is located near the back of the park. After you enter the park\, take the main road down the hill. At the bottom of the hill\, a sign will be on the right side saying “Big Meadows picnic area”. After the sign\, take the ROAD on the LEFT. Park in the first lot on the left. Meet near the restrooms/bulletin board/playground area
URL:https://www.metroparks.net/event/for-kids-animal-olympics/
LOCATION:Highbanks\, 9466 Columbus Pike (US Rt 23 N)\, Lewis Center\, OH\, 43035\, United States
END:VEVENT
BEGIN:VEVENT
DTSTART;TZID=America/New_York:20240915T150000
DTEND;TZID=America/New_York:20240915T170000
DTSTAMP:20260421T042631
CREATED:20240827T172035Z
LAST-MODIFIED:20240827T172035Z
UID:10001767-1726412400-1726419600@www.metroparks.net
SUMMARY:Doe'nt Miss
DESCRIPTION:Learn about the life history of deer\, and get a chance to practice some archery and atlatl throwing at a Deer Camp! Ages 12+. Meet at the Nature Center Overflow Lot.
URL:https://www.metroparks.net/event/doent-miss/
LOCATION:Battelle Darby Creek\, 1775 Darby Creek Drive\, Galloway\, OH\, 43119\, United States
ATTACH;FMTTYPE=image/jpeg:https://www.metroparks.net/wp-content/uploads/2023/07/scott-ICON-deer-ears.jpg
END:VEVENT
END:VCALENDAR