BEGIN:VCALENDAR
VERSION:2.0
PRODID:-//Metro Parks - Central Ohio Park System - ECPv6.15.16.1//NONSGML v1.0//EN
CALSCALE:GREGORIAN
METHOD:PUBLISH
X-WR-CALNAME:Metro Parks - Central Ohio Park System
X-ORIGINAL-URL:https://www.metroparks.net
X-WR-CALDESC:Events for Metro Parks - Central Ohio Park System
REFRESH-INTERVAL;VALUE=DURATION:PT1H
X-Robots-Tag:noindex
X-PUBLISHED-TTL:PT1H
BEGIN:VTIMEZONE
TZID:America/New_York
BEGIN:DAYLIGHT
TZOFFSETFROM:-0500
TZOFFSETTO:-0400
TZNAME:EDT
DTSTART:20230312T070000
END:DAYLIGHT
BEGIN:STANDARD
TZOFFSETFROM:-0400
TZOFFSETTO:-0500
TZNAME:EST
DTSTART:20231105T060000
END:STANDARD
BEGIN:DAYLIGHT
TZOFFSETFROM:-0500
TZOFFSETTO:-0400
TZNAME:EDT
DTSTART:20240310T070000
END:DAYLIGHT
BEGIN:STANDARD
TZOFFSETFROM:-0400
TZOFFSETTO:-0500
TZNAME:EST
DTSTART:20241103T060000
END:STANDARD
BEGIN:DAYLIGHT
TZOFFSETFROM:-0500
TZOFFSETTO:-0400
TZNAME:EDT
DTSTART:20250309T070000
END:DAYLIGHT
BEGIN:STANDARD
TZOFFSETFROM:-0400
TZOFFSETTO:-0500
TZNAME:EST
DTSTART:20251102T060000
END:STANDARD
END:VTIMEZONE
BEGIN:VEVENT
DTSTART;TZID=America/New_York:20240917T190000
DTEND;TZID=America/New_York:20240917T210000
DTSTAMP:20260422T192508
CREATED:20240827T172221Z
LAST-MODIFIED:20240827T172221Z
UID:10001768-1726599600-1726606800@www.metroparks.net
SUMMARY:Full Moon Hike
DESCRIPTION:Take a brisk 4-mile hike through forests and fields. Meet us at the Ranger Station\, 1775 Darby Creek Drive.
URL:https://www.metroparks.net/event/full-moon-hike-12/
LOCATION:Battelle Darby Creek\, 1775 Darby Creek Drive\, Galloway\, OH\, 43119\, United States
ATTACH;FMTTYPE=image/jpeg:https://www.metroparks.net/wp-content/uploads/2022/06/full-moon-dan-bissonette.jpg
END:VEVENT
BEGIN:VEVENT
DTSTART;TZID=America/New_York:20240918T100000
DTEND;TZID=America/New_York:20240918T110000
DTSTAMP:20260422T192508
CREATED:20240829T125013Z
LAST-MODIFIED:20240829T125013Z
UID:10001784-1726653600-1726657200@www.metroparks.net
SUMMARY:Preschool: Life of a Seed
DESCRIPTION:Preschool is back in session! Join us for a fun lesson focused on the life of a seed. Where do seeds come from? How far do they travel? How do seeds grow? Learn all this and more during our program along with a story\, a craft\, and a short hike.\nThis program is geared for ages 3-6. Meet at the barn shelter\, rain or shine!
URL:https://www.metroparks.net/event/preschool-life-of-a-seed/2024-09-18/1/
LOCATION:Homestead\, 4675 Cosgray Road\, Hilliard\, OH\, 43026\, United States
END:VEVENT
BEGIN:VEVENT
DTSTART;TZID=America/New_York:20240918T100000
DTEND;TZID=America/New_York:20240918T110000
DTSTAMP:20260422T192508
CREATED:20240822T124317Z
LAST-MODIFIED:20240822T124317Z
UID:10001712-1726653600-1726657200@www.metroparks.net
SUMMARY:Homeschoolers: Goin' Nutty!
DESCRIPTION:Walk through the woods in search of nuts\, seeds and maybe a fruit or two while discovering the roles they play in Ohio’s ecosystems. Includes science and fun! Meets at Three Creeks Confluence Area bulletin board\, 3860 Bixby Rd\, Groveport
URL:https://www.metroparks.net/event/homeschoolers-goin-nutty/2024-09-18/1/
LOCATION:Three Creeks\, 3860 Bixby Road\, Groveport\, OH\, 43125\, United States
ATTACH;FMTTYPE=image/jpeg:https://www.metroparks.net/wp-content/uploads/2023/06/1200px_chipmunk-swallows-nut_INN_May_Mary-Ann-Schell.jpg
END:VEVENT
BEGIN:VEVENT
DTSTART;TZID=America/New_York:20240918T110000
DTEND;TZID=America/New_York:20240918T120000
DTSTAMP:20260422T192508
CREATED:20240826T164836Z
LAST-MODIFIED:20240826T164836Z
UID:10001742-1726657200-1726660800@www.metroparks.net
SUMMARY:Homeschoolers: Fall Fungi
DESCRIPTION:Celebrate National Mushroom Month by learning about and searching the trails for fungi on this 1.25-mile hike.
URL:https://www.metroparks.net/event/homeschoolers-fall-fungi/
LOCATION:Blacklick Woods\, 6975 East Livingston Ave\, Reynoldsburg\, OH\, 43068\, United States
END:VEVENT
BEGIN:VEVENT
DTSTART;TZID=America/New_York:20240918T130000
DTEND;TZID=America/New_York:20240918T140000
DTSTAMP:20260422T192508
CREATED:20240829T125013Z
LAST-MODIFIED:20240829T125013Z
UID:10001785-1726664400-1726668000@www.metroparks.net
SUMMARY:Preschool: Life of a Seed
DESCRIPTION:Preschool is back in session! Join us for a fun lesson focused on the life of a seed. Where do seeds come from? How far do they travel? How do seeds grow? Learn all this and more during our program along with a story\, a craft\, and a short hike.\nThis program is geared for ages 3-6. Meet at the barn shelter\, rain or shine!
URL:https://www.metroparks.net/event/preschool-life-of-a-seed/2024-09-18/2/
LOCATION:Homestead\, 4675 Cosgray Road\, Hilliard\, OH\, 43026\, United States
END:VEVENT
BEGIN:VEVENT
DTSTART;TZID=America/New_York:20240918T130000
DTEND;TZID=America/New_York:20240918T140000
DTSTAMP:20260422T192508
CREATED:20240826T164755Z
LAST-MODIFIED:20240826T164755Z
UID:10001741-1726664400-1726668000@www.metroparks.net
SUMMARY:For Families: Bug Safari
DESCRIPTION:Borrow a hand lens and explore the gardens with the educators as we search for insects.
URL:https://www.metroparks.net/event/for-families-bug-safari/
LOCATION:Inniswood Metro Gardens\, 940 S. Hempstead Rd.\, Westerville\, OH\, 43081\, United States
ATTACH;FMTTYPE=image/jpeg:https://www.metroparks.net/wp-content/uploads/2016/07/1080p_Milkweed-bug_FS.jpg
END:VEVENT
BEGIN:VEVENT
DTSTART;TZID=America/New_York:20240918T133000
DTEND;TZID=America/New_York:20240918T143000
DTSTAMP:20260422T192508
CREATED:20240822T124317Z
LAST-MODIFIED:20240822T124317Z
UID:10001713-1726666200-1726669800@www.metroparks.net
SUMMARY:Homeschoolers: Goin' Nutty!
DESCRIPTION:Walk through the woods in search of nuts\, seeds and maybe a fruit or two while discovering the roles they play in Ohio’s ecosystems. Includes science and fun! Meets at Three Creeks Confluence Area bulletin board\, 3860 Bixby Rd\, Groveport
URL:https://www.metroparks.net/event/homeschoolers-goin-nutty/2024-09-18/2/
LOCATION:Three Creeks\, 3860 Bixby Road\, Groveport\, OH\, 43125\, United States
ATTACH;FMTTYPE=image/jpeg:https://www.metroparks.net/wp-content/uploads/2023/06/1200px_chipmunk-swallows-nut_INN_May_Mary-Ann-Schell.jpg
END:VEVENT
BEGIN:VEVENT
DTSTART;TZID=America/New_York:20240918T180000
DTEND;TZID=America/New_York:20240918T193000
DTSTAMP:20260422T192508
CREATED:20240822T123729Z
LAST-MODIFIED:20240822T123729Z
UID:10001708-1726682400-1726687800@www.metroparks.net
SUMMARY:Wednesday Evening Fitness Hike
DESCRIPTION:Hike 2 or 4 mi. on grave and natural surface trails. Moderate pace. Stairs and hills.
URL:https://www.metroparks.net/event/wednesday-evening-fitness-hike/
LOCATION:Blendon Woods\, 4265 E Dublin Granville Road\, Columbus\, 43081\, United States
ATTACH;FMTTYPE=image/png:https://www.metroparks.net/wp-content/uploads/2019/08/BLN_feature-image-fall-BradleyPaskievitch.png
END:VEVENT
BEGIN:VEVENT
DTSTART;TZID=America/New_York:20240918T190000
DTEND;TZID=America/New_York:20240918T200000
DTSTAMP:20260422T192508
CREATED:20240827T172304Z
LAST-MODIFIED:20240827T172304Z
UID:10001769-1726686000-1726689600@www.metroparks.net
SUMMARY:Harvest Full Moon Hike
DESCRIPTION:Meet in the Kingfisher Shelter Use address 2319 Quarry Trails Drive Columbus OH 43228. Come on a 1.5 mile full moon hike.
URL:https://www.metroparks.net/event/harvest-full-moon-hike/
LOCATION:Quarry Trails\, 2600 Dublin Road\, Columbus\, OH\, 43228\, United States
END:VEVENT
END:VCALENDAR