BEGIN:VCALENDAR
VERSION:2.0
PRODID:-//Metro Parks - Central Ohio Park System - ECPv6.15.16.1//NONSGML v1.0//EN
CALSCALE:GREGORIAN
METHOD:PUBLISH
X-WR-CALNAME:Metro Parks - Central Ohio Park System
X-ORIGINAL-URL:https://www.metroparks.net
X-WR-CALDESC:Events for Metro Parks - Central Ohio Park System
REFRESH-INTERVAL;VALUE=DURATION:PT1H
X-Robots-Tag:noindex
X-PUBLISHED-TTL:PT1H
BEGIN:VTIMEZONE
TZID:America/New_York
BEGIN:DAYLIGHT
TZOFFSETFROM:-0500
TZOFFSETTO:-0400
TZNAME:EDT
DTSTART:20230312T070000
END:DAYLIGHT
BEGIN:STANDARD
TZOFFSETFROM:-0400
TZOFFSETTO:-0500
TZNAME:EST
DTSTART:20231105T060000
END:STANDARD
BEGIN:DAYLIGHT
TZOFFSETFROM:-0500
TZOFFSETTO:-0400
TZNAME:EDT
DTSTART:20240310T070000
END:DAYLIGHT
BEGIN:STANDARD
TZOFFSETFROM:-0400
TZOFFSETTO:-0500
TZNAME:EST
DTSTART:20241103T060000
END:STANDARD
BEGIN:DAYLIGHT
TZOFFSETFROM:-0500
TZOFFSETTO:-0400
TZNAME:EDT
DTSTART:20250309T070000
END:DAYLIGHT
BEGIN:STANDARD
TZOFFSETFROM:-0400
TZOFFSETTO:-0500
TZNAME:EST
DTSTART:20251102T060000
END:STANDARD
END:VTIMEZONE
BEGIN:VEVENT
DTSTART;TZID=America/New_York:20240922T200000
DTEND;TZID=America/New_York:20240922T220000
DTSTAMP:20260421T164338
CREATED:20240829T125312Z
LAST-MODIFIED:20240829T125312Z
UID:10001789-1727035200-1727042400@www.metroparks.net
SUMMARY:Bat Tram
DESCRIPTION:Learn about bats while taking a tram ride around the park! The tram will be equipped with detectors to allow us to hear the bats.\nSeating is limited to the first 18 people.\nThis program is geared for all ages. Meet at the barn shelter at 8:30pm. We will leave when it is dark and will return to the shelter at 10pm.
URL:https://www.metroparks.net/event/bat-tram/2024-09-22/
LOCATION:Glacier Ridge\, 9801 Hyland Croy\, Plain City\, OH\, 43064\, United States
ATTACH;FMTTYPE=image/jpeg:https://www.metroparks.net/wp-content/uploads/2018/10/tram.jpg
END:VEVENT
BEGIN:VEVENT
DTSTART;TZID=America/New_York:20240923T100000
DTEND;TZID=America/New_York:20240923T110000
DTSTAMP:20260421T164338
CREATED:20240830T134050Z
LAST-MODIFIED:20240830T134050Z
UID:10001799-1727085600-1727089200@www.metroparks.net
SUMMARY:Toddler Hike
DESCRIPTION:Come out an enjoy a staff-led hike for your little ones! We will travel as far as the group can within the hour\, all trails will be suitable for strollers! Meet at the Arrowhead Picnic Shelter at Scioto Grove Metro Park
URL:https://www.metroparks.net/event/toddler-hike-8/
LOCATION:Scioto Grove\, 5172 Jackson Pike\, Grove City\, OH\, 43123\, United States
END:VEVENT
BEGIN:VEVENT
DTSTART;TZID=America/New_York:20240923T180000
DTEND;TZID=America/New_York:20240923T193000
DTSTAMP:20260421T164338
CREATED:20240830T134242Z
LAST-MODIFIED:20240830T134242Z
UID:10001800-1727114400-1727119800@www.metroparks.net
SUMMARY:Backpacking Series: Week 6- Shakedown Hike!
DESCRIPTION:Are you wanting to learn more about backpacking? Join us for a 6-week long series of interactive classes designed as an introduction to backpacking\, building up to an overnight trip at the end! Attendance at all classes is NOT required – however the overnight trip will only be open to those who attend at least one class. Each weeks topic will have two dates to choose from in that week so participants can pick the day that works best for them to attend\, you don’t need to attend both dates in the week. Meet at Arrowhead Picnic area at Scioto Grove Metro Park \nThis week we will be going on a backpacking preparation hike! Expect the hike to be approx. a mile in length. Bring a pack and equipment to test your strength and endurance on the trail in a real life backpacking senario! Meet at the Arrowhead Picnic Area at Scioto Grove Metro Park. \nFall Backpacking Series:\nWeek 1: 4 Essentials & Site Selection\nWeek 2: Water & Waste\nWeek 3: Fuel\, Fire & Food\nWeek 4: Clothing & Foot Care\nWeek 5: Prep\, Safety and Outdoor Ethics\nWeek 6: Shakedown Hike
URL:https://www.metroparks.net/event/backpacking-series-week-6-shakedown-hike/2024-09-23/
LOCATION:Scioto Grove\, 5172 Jackson Pike\, Grove City\, OH\, 43123\, United States
END:VEVENT
BEGIN:VEVENT
DTSTART;TZID=America/New_York:20240924T100000
DTEND;TZID=America/New_York:20240924T110000
DTSTAMP:20260421T164338
CREATED:20240826T170138Z
LAST-MODIFIED:20240826T170138Z
UID:10001751-1727172000-1727175600@www.metroparks.net
SUMMARY:Preschool Storytime: Apples
DESCRIPTION:Program begins at 10am behind the farmhouse.\nEnjoy a story about apples and try some samples.
URL:https://www.metroparks.net/event/preschool-storytime-apples/
LOCATION:Slate Run Living Historical Farm\, 1375 OH-674\, Canal Winchester\, OH\, 43110\, United States
END:VEVENT
BEGIN:VEVENT
DTSTART;TZID=America/New_York:20240924T133000
DTEND;TZID=America/New_York:20240924T143000
DTSTAMP:20260421T164338
CREATED:20240826T170227Z
LAST-MODIFIED:20240826T170227Z
UID:10001752-1727184600-1727188200@www.metroparks.net
SUMMARY:Homeschoolers on the Farm: Birds
DESCRIPTION:Program begins at 1:30 PM\nMeet in front of the farmhouse\nFor students ages 6 and up\nLearn about birds and discover why they were so important on an 1880s farm.
URL:https://www.metroparks.net/event/homeschoolers-on-the-farm-birds/
LOCATION:Slate Run Living Historical Farm\, 1375 OH-674\, Canal Winchester\, OH\, 43110\, United States
END:VEVENT
BEGIN:VEVENT
DTSTART;TZID=America/New_York:20240924T170000
DTEND;TZID=America/New_York:20240924T180000
DTSTAMP:20260421T164338
CREATED:20240830T135115Z
LAST-MODIFIED:20240830T135115Z
UID:10001810-1727197200-1727200800@www.metroparks.net
SUMMARY:Dino Archery
DESCRIPTION:Take aim at dinosaur themed and regular targets. Open to all experience levels and ages 8+. Participants should have the strength to pull back a compound bow on their own and follow safety instructions. Equipment and instruction are provided!
URL:https://www.metroparks.net/event/dino-archery-2/
LOCATION:Scioto Grove\, 5172 Jackson Pike\, Grove City\, OH\, 43123\, United States
END:VEVENT
BEGIN:VEVENT
DTSTART;TZID=America/New_York:20240924T180000
DTEND;TZID=America/New_York:20240924T193000
DTSTAMP:20260421T164338
CREATED:20240826T170112Z
LAST-MODIFIED:20240826T170112Z
UID:10001750-1727200800-1727206200@www.metroparks.net
SUMMARY:For Adults 50+: Archery
DESCRIPTION:Enjoy free and fun archery at the range! Compound bows\, arrows\, and instructions are provided. \nMeet at the Archery Range
URL:https://www.metroparks.net/event/for-adults-50-archery/
LOCATION:Scioto Grove\, 5172 Jackson Pike\, Grove City\, OH\, 43123\, United States
ATTACH;FMTTYPE=image/jpeg:https://www.metroparks.net/wp-content/uploads/2024/08/POK-Archery-JackRockwood-2024-05-31-1.jpg
END:VEVENT
BEGIN:VEVENT
DTSTART;TZID=America/New_York:20240925T100000
DTEND;TZID=America/New_York:20240925T130000
DTSTAMP:20260421T164338
CREATED:20240827T172449Z
LAST-MODIFIED:20240827T172449Z
UID:10001770-1727258400-1727269200@www.metroparks.net
SUMMARY:Fall Hike
DESCRIPTION:Search for signs of fall on a 4-mile backcountry hike. Terrain at Clear Creek is rugged and steep\, wear sturdy hiking shoes and bring water. Meet at the Park Office\, 185 Clear Creek Road in Lancaster.
URL:https://www.metroparks.net/event/fall-hike/
LOCATION:Clear Creek\, 185 Clear Creek Road\, Lancaster\, OH\, 43130\, United States
ATTACH;FMTTYPE=image/jpeg:https://www.metroparks.net/wp-content/uploads/2014/10/CLC_Lake-Ramona-fall-scene_J-Cagnina.jpg
END:VEVENT
BEGIN:VEVENT
DTSTART;TZID=America/New_York:20240925T160000
DTEND;TZID=America/New_York:20240925T170000
DTSTAMP:20260421T164338
CREATED:20240826T170255Z
LAST-MODIFIED:20240826T170255Z
UID:10001753-1727280000-1727283600@www.metroparks.net
SUMMARY:For Kids: Nature Journals
DESCRIPTION:Construct a nature journal and learn different ways your journal can be used out in nature.
URL:https://www.metroparks.net/event/for-kids-nature-journals/
LOCATION:Blacklick Woods\, 6975 East Livingston Ave\, Reynoldsburg\, OH\, 43068\, United States
END:VEVENT
BEGIN:VEVENT
DTSTART;TZID=America/New_York:20240925T180000
DTEND;TZID=America/New_York:20240925T190000
DTSTAMP:20260421T164338
CREATED:20240830T135013Z
LAST-MODIFIED:20240830T135013Z
UID:10001809-1727287200-1727290800@www.metroparks.net
SUMMARY:Adventure Book Club!
DESCRIPTION:Join us for our Monthly Adventure Book Club! No registration necessary\, all are welcome. This months book is “Pink Boots and A Machete: My Journey From NFL Cheerleader to National Geographic Explorer” by Mireya Mayor. We will meet at the end of each month to discuss a different book. Bring your own hammock or chair to lounge in the trees and chat about this months reading! We will meet at the DOG PARK PARKING LOT\, past the maintenance are/park office 2600 Dublin Road\, Columbus
URL:https://www.metroparks.net/event/adventure-book-club-5/
LOCATION:Quarry Trails\, 2600 Dublin Road\, Columbus\, OH\, 43228\, United States
END:VEVENT
END:VCALENDAR