BEGIN:VCALENDAR
VERSION:2.0
PRODID:-//Metro Parks - Central Ohio Park System - ECPv6.15.16.1//NONSGML v1.0//EN
CALSCALE:GREGORIAN
METHOD:PUBLISH
X-WR-CALNAME:Metro Parks - Central Ohio Park System
X-ORIGINAL-URL:https://www.metroparks.net
X-WR-CALDESC:Events for Metro Parks - Central Ohio Park System
REFRESH-INTERVAL;VALUE=DURATION:PT1H
X-Robots-Tag:noindex
X-PUBLISHED-TTL:PT1H
BEGIN:VTIMEZONE
TZID:America/New_York
BEGIN:DAYLIGHT
TZOFFSETFROM:-0500
TZOFFSETTO:-0400
TZNAME:EDT
DTSTART:20230312T070000
END:DAYLIGHT
BEGIN:STANDARD
TZOFFSETFROM:-0400
TZOFFSETTO:-0500
TZNAME:EST
DTSTART:20231105T060000
END:STANDARD
BEGIN:DAYLIGHT
TZOFFSETFROM:-0500
TZOFFSETTO:-0400
TZNAME:EDT
DTSTART:20240310T070000
END:DAYLIGHT
BEGIN:STANDARD
TZOFFSETFROM:-0400
TZOFFSETTO:-0500
TZNAME:EST
DTSTART:20241103T060000
END:STANDARD
BEGIN:DAYLIGHT
TZOFFSETFROM:-0500
TZOFFSETTO:-0400
TZNAME:EDT
DTSTART:20250309T070000
END:DAYLIGHT
BEGIN:STANDARD
TZOFFSETFROM:-0400
TZOFFSETTO:-0500
TZNAME:EST
DTSTART:20251102T060000
END:STANDARD
END:VTIMEZONE
BEGIN:VEVENT
DTSTART;TZID=America/New_York:20240927T100000
DTEND;TZID=America/New_York:20240927T110000
DTSTAMP:20260423T114747
CREATED:20240830T134623Z
LAST-MODIFIED:20240830T134623Z
UID:10001805-1727431200-1727434800@www.metroparks.net
SUMMARY:Try It! Climbing
DESCRIPTION:Join us for a late night climb! Outdoor Adventure will be down at the Scioto Audubon Climbing Wall from 10-11pm with equipment and climbing instruction. Try out the climbing wall under the lights at night! Closed toes shoes recommended\, no flip flops. Free and Fun!
URL:https://www.metroparks.net/event/try-it-climbing-4/2024-09-27/
LOCATION:Scioto Audubon\, 400 West Whittier St.\, Columbus\, OH\, 43215\, United States
ATTACH;FMTTYPE=image/jpeg:https://www.metroparks.net/wp-content/uploads/2024/08/SIO-Boom-Climbing-Wall-JackRockwood-2024-07-03.jpg
END:VEVENT
BEGIN:VEVENT
DTSTART;TZID=America/New_York:20240927T170000
DTEND;TZID=America/New_York:20240927T180000
DTSTAMP:20260423T114747
CREATED:20240827T172534Z
LAST-MODIFIED:20240827T172534Z
UID:10001771-1727456400-1727460000@www.metroparks.net
SUMMARY:Minecraft!
DESCRIPTION:Go on a scavenger hunt to look for things from Minecraft in Darby’s woods! Followed by a short craft. Best for ages 5+.
URL:https://www.metroparks.net/event/minecraft/
LOCATION:Battelle Darby Creek\, 1775 Darby Creek Drive\, Galloway\, OH\, 43119\, United States
END:VEVENT
BEGIN:VEVENT
DTSTART;TZID=America/New_York:20240927T200000
DTEND;TZID=America/New_York:20240927T213000
DTSTAMP:20260423T114747
CREATED:20240830T134916Z
LAST-MODIFIED:20240830T134916Z
UID:10001808-1727467200-1727472600@www.metroparks.net
SUMMARY:Glow Bocce
DESCRIPTION:No Registration Required!! Enjoy night time Bocce at Scioto Audubon Metro Park! Glow bocce balls will be provided on a first come first serve basis. Meet at the bocce courts next to the restrooms.
URL:https://www.metroparks.net/event/glow-bocce/
LOCATION:Scioto Audubon\, 400 West Whittier St.\, Columbus\, OH\, 43215\, United States
END:VEVENT
BEGIN:VEVENT
DTSTART;TZID=America/New_York:20240927T203000
DTEND;TZID=America/New_York:20240927T220000
DTSTAMP:20260423T114747
CREATED:20240827T172608Z
LAST-MODIFIED:20240827T172608Z
UID:10001772-1727469000-1727474400@www.metroparks.net
SUMMARY:Night Hike
DESCRIPTION:Let’s take a 2-mile interpretive hike through the forests and prairies under the starlight. Meet at the Indian Ridge Bulletin Board\, 2705 Darby Creek Dr.
URL:https://www.metroparks.net/event/night-hike-13/
LOCATION:Battelle Darby Creek\, 1775 Darby Creek Drive\, Galloway\, OH\, 43119\, United States
END:VEVENT
BEGIN:VEVENT
DTSTART;TZID=America/New_York:20240927T210000
DTEND;TZID=America/New_York:20240927T233000
DTSTAMP:20260423T114747
CREATED:20240830T134753Z
LAST-MODIFIED:20240830T134753Z
UID:10001807-1727470800-1727479800@www.metroparks.net
SUMMARY:Late Nights At The Climbing Wall
DESCRIPTION:Enjoy Late Nights at the Climbing Wall at Scioto Audubon Metro Park! On the 2nd and 4th Fridays of the month\, the climbing wall lights will stay on until midnight for open climb. Please bring your own gear.
URL:https://www.metroparks.net/event/late-nights-at-the-climbing-wall-3/2024-09-27/
LOCATION:Scioto Audubon\, 400 West Whittier St.\, Columbus\, OH\, 43215\, United States
ATTACH;FMTTYPE=image/jpeg:https://www.metroparks.net/wp-content/uploads/2022/11/SAU-wall-and-tower-1200px.jpg
END:VEVENT
END:VCALENDAR