BEGIN:VCALENDAR
VERSION:2.0
PRODID:-//Metro Parks - Central Ohio Park System - ECPv6.15.16.1//NONSGML v1.0//EN
CALSCALE:GREGORIAN
METHOD:PUBLISH
X-WR-CALNAME:Metro Parks - Central Ohio Park System
X-ORIGINAL-URL:https://www.metroparks.net
X-WR-CALDESC:Events for Metro Parks - Central Ohio Park System
REFRESH-INTERVAL;VALUE=DURATION:PT1H
X-Robots-Tag:noindex
X-PUBLISHED-TTL:PT1H
BEGIN:VTIMEZONE
TZID:America/New_York
BEGIN:DAYLIGHT
TZOFFSETFROM:-0500
TZOFFSETTO:-0400
TZNAME:EDT
DTSTART:20220313T070000
END:DAYLIGHT
BEGIN:STANDARD
TZOFFSETFROM:-0400
TZOFFSETTO:-0500
TZNAME:EST
DTSTART:20221106T060000
END:STANDARD
BEGIN:DAYLIGHT
TZOFFSETFROM:-0500
TZOFFSETTO:-0400
TZNAME:EDT
DTSTART:20230312T070000
END:DAYLIGHT
BEGIN:STANDARD
TZOFFSETFROM:-0400
TZOFFSETTO:-0500
TZNAME:EST
DTSTART:20231105T060000
END:STANDARD
BEGIN:DAYLIGHT
TZOFFSETFROM:-0500
TZOFFSETTO:-0400
TZNAME:EDT
DTSTART:20240310T070000
END:DAYLIGHT
BEGIN:STANDARD
TZOFFSETFROM:-0400
TZOFFSETTO:-0500
TZNAME:EST
DTSTART:20241103T060000
END:STANDARD
END:VTIMEZONE
BEGIN:VEVENT
DTSTART;TZID=America/New_York:20230711T100000
DTEND;TZID=America/New_York:20230711T233000
DTSTAMP:20260424T002825
CREATED:20230705T145745Z
LAST-MODIFIED:20230706T152556Z
UID:10000520-1689069600-1689118200@www.metroparks.net
SUMMARY:For Adults: Nature Ramble
DESCRIPTION:Enjoy summer’s natural abundance and good company as we go on a roughly 2.5-mile walk through fields and forests with frequent stops along the way to learn about what we observe.. Bring water and your sense of curiosity. Meets at the Three Creeks Confluence Area bulletin board\, 3860 Bixby Rd.
URL:https://www.metroparks.net/event/for-adults-nature-ramble/
LOCATION:Three Creeks\, 3860 Bixby Road\, Groveport\, OH\, 43125\, United States
END:VEVENT
BEGIN:VEVENT
DTSTART;TZID=America/New_York:20230711T120000
DTEND;TZID=America/New_York:20230711T130000
DTSTAMP:20260424T002825
CREATED:20230703T150015Z
LAST-MODIFIED:20230706T152613Z
UID:10000521-1689076800-1689080400@www.metroparks.net
SUMMARY:Lunchtime Chat: Time Machine Tram Ride
DESCRIPTION:Hop aboard the tram and travel back in time to uncover the history of the park. Meet at the Schrock Lake Picnic Shelter.
URL:https://www.metroparks.net/event/lunchtime-chat-time-machine-tram-ride/
LOCATION:Sharon Woods\, 6911 Cleveland Ave.\, Columbus\, OH\, 43081\, United States
END:VEVENT
BEGIN:VEVENT
DTSTART;TZID=America/New_York:20230715T100000
DTEND;TZID=America/New_York:20230715T130000
DTSTAMP:20260424T002826
CREATED:20230705T150201Z
LAST-MODIFIED:20230706T152650Z
UID:10000523-1689415200-1689426000@www.metroparks.net
SUMMARY:The Big Splash
DESCRIPTION:Try canoeing\, look for critters in a table-top pond\, slide down a water slide or get wet in the squirt zone. Three Creeks Metro park Confluence Area\, 3860 Bixby Rd\, Groveport
URL:https://www.metroparks.net/event/the-big-splash/
LOCATION:Three Creeks\, 3860 Bixby Road\, Groveport\, OH\, 43125\, United States
END:VEVENT
BEGIN:VEVENT
DTSTART;TZID=America/New_York:20230715T130000
DTEND;TZID=America/New_York:20230715T140000
DTSTAMP:20260424T002826
CREATED:20230704T150111Z
LAST-MODIFIED:20230706T152701Z
UID:10000522-1689426000-1689429600@www.metroparks.net
SUMMARY:Toads & Abodes
DESCRIPTION:Learn about the toads of Ohio\, meet an American Toad and construct a toad abode to take home.
URL:https://www.metroparks.net/event/toads-abodes/
LOCATION:Blacklick Woods\, 6975 East Livingston Ave\, Reynoldsburg\, OH\, 43068\, United States
END:VEVENT
BEGIN:VEVENT
DTSTART;TZID=America/New_York:20230716T130000
DTEND;TZID=America/New_York:20230716T150000
DTSTAMP:20260424T002826
CREATED:20230706T150238Z
LAST-MODIFIED:20230710T174720Z
UID:10000524-1689512400-1689519600@www.metroparks.net
SUMMARY:Horse Powered Grain Threshing
DESCRIPTION:Demonstration on-going in the barnyard from 1-3pm.\nSee how horses power machinery that separates grain from straw.\nWeather and crop permitting.
URL:https://www.metroparks.net/event/horse-powered-grain-threshing/
LOCATION:Slate Run Living Historical Farm\, 1375 OH-674\, Canal Winchester\, OH\, 43110\, United States
END:VEVENT
BEGIN:VEVENT
DTSTART;TZID=America/New_York:20230717T180000
DTEND;TZID=America/New_York:20230717T200000
DTSTAMP:20260424T002826
CREATED:20230626T150456Z
LAST-MODIFIED:20230626T150456Z
UID:10000525-1689616800-1689624000@www.metroparks.net
SUMMARY:Threads of Light - Meet the Artists
DESCRIPTION:Light is Life. An incredible force that connects individual life and the whole of nature. Join the artists of this incredible exhibition\, The Nature Conservancy\, and Metro Parks for an evening of conversation around photography and conservation! \nEngage in presentations\, gaze at the gallery\, network\, and enjoy free wine provided by Friends of Metro Parks!\n6- 7 PM Speakers & Artists\n7-8 PM Mix & Mingle
URL:https://www.metroparks.net/event/threads-of-light-meet-the-artists/
LOCATION:Battelle Darby Creek\, 1775 Darby Creek Drive\, Galloway\, OH\, 43119\, United States
ATTACH;FMTTYPE=image/jpeg:https://www.metroparks.net/wp-content/uploads/2023/06/355129705_652465196923794_4812217254756449684_n.jpg
END:VEVENT
BEGIN:VEVENT
DTSTART;TZID=America/New_York:20230718T180000
DTEND;TZID=America/New_York:20230718T190000
DTSTAMP:20260424T002826
CREATED:20230710T150527Z
LAST-MODIFIED:20230710T174726Z
UID:10000526-1689703200-1689706800@www.metroparks.net
SUMMARY:Rockin' Around Rocky
DESCRIPTION:Take a fast paced fitness hike while listening to your favorite classic rock tunes. Paved and natural surface trails
URL:https://www.metroparks.net/event/rockin-around-rocky/
LOCATION:Rocky Fork\, 7180 East Walnut St.\, Westerville\, OH\, 43081\, United States
END:VEVENT
BEGIN:VEVENT
DTSTART;TZID=America/New_York:20230719T120000
DTEND;TZID=America/New_York:20230719T130000
DTSTAMP:20260424T002826
CREATED:20230712T150737Z
LAST-MODIFIED:20230717T173041Z
UID:10000528-1689768000-1689771600@www.metroparks.net
SUMMARY:Lunchtime Chat: Nature Bingo
DESCRIPTION:Play a few fun rounds of nature bingo for a chance to win a prize\, while you learn about Ohio’s plants and animals. Meet at the Schrock Lake Picnic Shelter.
URL:https://www.metroparks.net/event/lunchtime-chat-nature-bingo/
LOCATION:OH
END:VEVENT
BEGIN:VEVENT
DTSTART;TZID=America/New_York:20230719T140000
DTEND;TZID=America/New_York:20230719T150000
DTSTAMP:20260424T002826
CREATED:20230717T173231Z
LAST-MODIFIED:20230717T173412Z
UID:10000536-1689775200-1689778800@www.metroparks.net
SUMMARY:Turtle Time
DESCRIPTION:Learn about and meet live turtles and experience the world from their eyes! \nMeeting location notes- Nature Center: Highbanks Nature Center is the first right after entering the park. Limited parking in the nature center parking lot on busy days. Additional parking available in the Oak Coves Picnic Area. The Oak Coves picnic area\, 10-min walk from the nature center. Follow the paved trail through Oak coves toward the nature center.
URL:https://www.metroparks.net/event/turtle-time/
LOCATION:Highbanks\, 9466 Columbus Pike (US Rt 23 N)\, Lewis Center\, OH\, 43035\, United States
ATTACH;FMTTYPE=image/jpeg:https://www.metroparks.net/wp-content/uploads/2023/07/HBK_TerraTheTurtle_GabbyPower-scaled.jpg
END:VEVENT
BEGIN:VEVENT
DTSTART;TZID=America/New_York:20230719T183000
DTEND;TZID=America/New_York:20230719T200000
DTSTAMP:20260424T002826
CREATED:20230706T150627Z
LAST-MODIFIED:20230710T174750Z
UID:10000527-1689791400-1689796800@www.metroparks.net
SUMMARY:Wine & Canvas
DESCRIPTION:Join us for an evening of painting. Follow along step-by-step as we paint a raccoon. Materials and instruction provided. Wine and beer available for purchase by credit card.
URL:https://www.metroparks.net/event/wine-canvas/
LOCATION:Blacklick Woods Golf Course\, 7309 E Livingston Ave\, Reynoldsburg\, OH\, 43068\, United States
END:VEVENT
BEGIN:VEVENT
DTSTART;TZID=America/New_York:20230720T130000
DTEND;TZID=America/New_York:20230720T150000
DTSTAMP:20260424T002826
CREATED:20230717T173306Z
LAST-MODIFIED:20230717T173306Z
UID:10000537-1689858000-1689865200@www.metroparks.net
SUMMARY:Nature Kids: Crazy for Crayfish
DESCRIPTION:Take a 2-mile (round-trip) hike to Blacklick Creek and search for crayfish hiding under rocks in the water.
URL:https://www.metroparks.net/event/nature-kids-crazy-for-crayfish/
LOCATION:Blacklick Woods\, 6975 East Livingston Ave\, Reynoldsburg\, OH\, 43068\, United States
END:VEVENT
BEGIN:VEVENT
DTSTART;TZID=America/New_York:20230720T183000
DTEND;TZID=America/New_York:20230720T193000
DTSTAMP:20260424T002826
CREATED:20230705T142239Z
LAST-MODIFIED:20230705T142326Z
UID:10000533-1689877800-1689881400@www.metroparks.net
SUMMARY:Yoga in the Park
DESCRIPTION:Join us for 45 min of relaxing outdoor yoga. All levels of experience welcome! Bring a yoga mat\, towel\, and a block if you have one. Meet behind the ranger station. Signs will direct you to the nature center if weather is uncooperative.
URL:https://www.metroparks.net/event/yoga-in-the-park-4/2023-07-20/
LOCATION:OH
END:VEVENT
END:VCALENDAR